BEGIN:VCALENDAR
VERSION:2.0
PRODID:-//Hillsmere Shores - ECPv6.15.20//NONSGML v1.0//EN
CALSCALE:GREGORIAN
METHOD:PUBLISH
X-ORIGINAL-URL:https://hillsmereshores.org
X-WR-CALDESC:Events for Hillsmere Shores
REFRESH-INTERVAL;VALUE=DURATION:PT1H
X-Robots-Tag:noindex
X-PUBLISHED-TTL:PT1H
BEGIN:VTIMEZONE
TZID:America/New_York
BEGIN:DAYLIGHT
TZOFFSETFROM:-0500
TZOFFSETTO:-0400
TZNAME:EDT
DTSTART:20250309T070000
END:DAYLIGHT
BEGIN:STANDARD
TZOFFSETFROM:-0400
TZOFFSETTO:-0500
TZNAME:EST
DTSTART:20251102T060000
END:STANDARD
BEGIN:DAYLIGHT
TZOFFSETFROM:-0500
TZOFFSETTO:-0400
TZNAME:EDT
DTSTART:20260308T070000
END:DAYLIGHT
BEGIN:STANDARD
TZOFFSETFROM:-0400
TZOFFSETTO:-0500
TZNAME:EST
DTSTART:20261101T060000
END:STANDARD
BEGIN:DAYLIGHT
TZOFFSETFROM:-0500
TZOFFSETTO:-0400
TZNAME:EDT
DTSTART:20270314T070000
END:DAYLIGHT
BEGIN:STANDARD
TZOFFSETFROM:-0400
TZOFFSETTO:-0500
TZNAME:EST
DTSTART:20271107T060000
END:STANDARD
END:VTIMEZONE
BEGIN:VEVENT
DTSTART;TZID=America/New_York:20261215T180000
DTEND;TZID=America/New_York:20261215T190000
DTSTAMP:20260420T180355
CREATED:20260209T234303Z
LAST-MODIFIED:20260209T234303Z
UID:7463-1797357600-1797361200@hillsmereshores.org
SUMMARY:Bylaws Committee Meeting
DESCRIPTION:
URL:https://hillsmereshores.org/event/bylaws-committee-meeting-21/
LOCATION:HSIA Community House\, 119 Great Lake Drive\, Annapolis\, MD\, 21403
CATEGORIES:Committee Meeting
END:VEVENT
BEGIN:VEVENT
DTSTART;TZID=America/New_York:20261217T190000
DTEND;TZID=America/New_York:20261217T210000
DTSTAMP:20260420T180355
CREATED:20260208T225317Z
LAST-MODIFIED:20260208T225317Z
UID:7427-1797534000-1797541200@hillsmereshores.org
SUMMARY:HSIA Board Meeting
DESCRIPTION:
URL:https://hillsmereshores.org/event/hsia-board-meeting-56/
LOCATION:HSIA Community House\, 119 Great Lake Drive\, Annapolis\, MD\, 21403
CATEGORIES:Board Meeting
END:VEVENT
END:VCALENDAR