BEGIN:VCALENDAR
VERSION:2.0
PRODID:-//Hillsmere Shores - ECPv6.15.20//NONSGML v1.0//EN
CALSCALE:GREGORIAN
METHOD:PUBLISH
X-WR-CALNAME:Hillsmere Shores
X-ORIGINAL-URL:https://hillsmereshores.org
X-WR-CALDESC:Events for Hillsmere Shores
REFRESH-INTERVAL;VALUE=DURATION:PT1H
X-Robots-Tag:noindex
X-PUBLISHED-TTL:PT1H
BEGIN:VTIMEZONE
TZID:America/New_York
BEGIN:DAYLIGHT
TZOFFSETFROM:-0500
TZOFFSETTO:-0400
TZNAME:EDT
DTSTART:20250309T070000
END:DAYLIGHT
BEGIN:STANDARD
TZOFFSETFROM:-0400
TZOFFSETTO:-0500
TZNAME:EST
DTSTART:20251102T060000
END:STANDARD
BEGIN:DAYLIGHT
TZOFFSETFROM:-0500
TZOFFSETTO:-0400
TZNAME:EDT
DTSTART:20260308T070000
END:DAYLIGHT
BEGIN:STANDARD
TZOFFSETFROM:-0400
TZOFFSETTO:-0500
TZNAME:EST
DTSTART:20261101T060000
END:STANDARD
BEGIN:DAYLIGHT
TZOFFSETFROM:-0500
TZOFFSETTO:-0400
TZNAME:EDT
DTSTART:20270314T070000
END:DAYLIGHT
BEGIN:STANDARD
TZOFFSETFROM:-0400
TZOFFSETTO:-0500
TZNAME:EST
DTSTART:20271107T060000
END:STANDARD
END:VTIMEZONE
BEGIN:VEVENT
DTSTART;TZID=America/New_York:20260901T190000
DTEND;TZID=America/New_York:20260901T210000
DTSTAMP:20260420T133517
CREATED:20260209T225919Z
LAST-MODIFIED:20260209T225919Z
UID:7457-1788289200-1788296400@hillsmereshores.org
SUMMARY:Beach Committee Meeting
DESCRIPTION:
URL:https://hillsmereshores.org/event/beach-committee-meeting-18/
LOCATION:HSIA Community House\, 119 Great Lake Drive\, Annapolis\, MD\, 21403
CATEGORIES:Beach,Committee Meeting
END:VEVENT
BEGIN:VEVENT
DTSTART;TZID=America/New_York:20260908T190000
DTEND;TZID=America/New_York:20260908T210000
DTSTAMP:20260420T133517
CREATED:20260209T225025Z
LAST-MODIFIED:20260209T225025Z
UID:7449-1788894000-1788901200@hillsmereshores.org
SUMMARY:Piers & Harbors Committee Meeting
DESCRIPTION:
URL:https://hillsmereshores.org/event/piers-harbors-committee-meeting-63/
LOCATION:HSIA Community House\, 119 Great Lake Drive\, Annapolis\, MD\, 21403
CATEGORIES:Committee Meeting,Piers & Harbors
END:VEVENT
BEGIN:VEVENT
DTSTART;TZID=America/New_York:20260910T184500
DTEND;TZID=America/New_York:20260910T210000
DTSTAMP:20260420T133517
CREATED:20260208T222203Z
LAST-MODIFIED:20260208T222203Z
UID:7420-1789065900-1789074000@hillsmereshores.org
SUMMARY:HSIA General Membership Meeting
DESCRIPTION:
URL:https://hillsmereshores.org/event/hsia-general-membership-meeting-41/
LOCATION:Barn Commons @ Key School
CATEGORIES:General Meeting
END:VEVENT
BEGIN:VEVENT
DTSTART;TZID=America/New_York:20260922T180000
DTEND;TZID=America/New_York:20260922T190000
DTSTAMP:20260420T133517
CREATED:20260209T233740Z
LAST-MODIFIED:20260209T233740Z
UID:7466-1790100000-1790103600@hillsmereshores.org
SUMMARY:Bylaws Committee Meeting
DESCRIPTION:
URL:https://hillsmereshores.org/event/bylaws-committee-meeting-18/
LOCATION:HSIA Community House\, 119 Great Lake Drive\, Annapolis\, MD\, 21403
CATEGORIES:Committee Meeting
END:VEVENT
BEGIN:VEVENT
DTSTART;TZID=America/New_York:20260924T190000
DTEND;TZID=America/New_York:20260924T210000
DTSTAMP:20260420T133517
CREATED:20260208T224340Z
LAST-MODIFIED:20260208T224340Z
UID:7430-1790276400-1790283600@hillsmereshores.org
SUMMARY:HSIA Board Meeting
DESCRIPTION:
URL:https://hillsmereshores.org/event/hsia-board-meeting-53/
LOCATION:HSIA Community House\, 119 Great Lake Drive\, Annapolis\, MD\, 21403
CATEGORIES:Board Meeting
END:VEVENT
END:VCALENDAR