BEGIN:VCALENDAR
VERSION:2.0
PRODID:-//Hillsmere Shores - ECPv6.15.20//NONSGML v1.0//EN
CALSCALE:GREGORIAN
METHOD:PUBLISH
X-ORIGINAL-URL:https://hillsmereshores.org
X-WR-CALDESC:Events for Hillsmere Shores
REFRESH-INTERVAL;VALUE=DURATION:PT1H
X-Robots-Tag:noindex
X-PUBLISHED-TTL:PT1H
BEGIN:VTIMEZONE
TZID:America/New_York
BEGIN:DAYLIGHT
TZOFFSETFROM:-0500
TZOFFSETTO:-0400
TZNAME:EDT
DTSTART:20250309T070000
END:DAYLIGHT
BEGIN:STANDARD
TZOFFSETFROM:-0400
TZOFFSETTO:-0500
TZNAME:EST
DTSTART:20251102T060000
END:STANDARD
BEGIN:DAYLIGHT
TZOFFSETFROM:-0500
TZOFFSETTO:-0400
TZNAME:EDT
DTSTART:20260308T070000
END:DAYLIGHT
BEGIN:STANDARD
TZOFFSETFROM:-0400
TZOFFSETTO:-0500
TZNAME:EST
DTSTART:20261101T060000
END:STANDARD
BEGIN:DAYLIGHT
TZOFFSETFROM:-0500
TZOFFSETTO:-0400
TZNAME:EDT
DTSTART:20270314T070000
END:DAYLIGHT
BEGIN:STANDARD
TZOFFSETFROM:-0400
TZOFFSETTO:-0500
TZNAME:EST
DTSTART:20271107T060000
END:STANDARD
END:VTIMEZONE
BEGIN:VEVENT
DTSTART;TZID=America/New_York:20260106T190000
DTEND;TZID=America/New_York:20260106T200000
DTSTAMP:20260420T100630
CREATED:20260110T184012Z
LAST-MODIFIED:20260110T184012Z
UID:7377-1767726000-1767729600@hillsmereshores.org
SUMMARY:Beach Committee Meeting
DESCRIPTION:
URL:https://hillsmereshores.org/event/beach-committee-meeting-14/
LOCATION:HSIA Community House\, 119 Great Lake Drive\, Annapolis\, MD\, 21403
END:VEVENT
BEGIN:VEVENT
DTSTART;TZID=America/New_York:20260113T190000
DTEND;TZID=America/New_York:20260113T200000
DTSTAMP:20260420T100630
CREATED:20260110T183724Z
LAST-MODIFIED:20260110T183724Z
UID:7373-1768330800-1768334400@hillsmereshores.org
SUMMARY:Piers & Harbors Committee Meeting
DESCRIPTION:
URL:https://hillsmereshores.org/event/piers-harbors-committee-meeting-59/
LOCATION:HSIA Community House\, 119 Great Lake Drive\, Annapolis\, MD\, 21403
END:VEVENT
BEGIN:VEVENT
DTSTART;TZID=America/New_York:20260114T193000
DTEND;TZID=America/New_York:20260114T203000
DTSTAMP:20260420T100630
CREATED:20260110T175238Z
LAST-MODIFIED:20260110T175238Z
UID:7354-1768419000-1768422600@hillsmereshores.org
SUMMARY:Pool Committee Meeting
DESCRIPTION:Link to virtual meeting \nhttps://meet.google.com/yfe-dfdt-byf
URL:https://hillsmereshores.org/event/pool-committee-meeting-6/
LOCATION:MD
ORGANIZER;CN="Pool Committee":MAILTO:pool@hillsmereshores.org
END:VEVENT
BEGIN:VEVENT
DTSTART;TZID=America/New_York:20260115T184500
DTEND;TZID=America/New_York:20260115T210000
DTSTAMP:20260420T100630
CREATED:20260110T180746Z
LAST-MODIFIED:20260110T180746Z
UID:7365-1768502700-1768510800@hillsmereshores.org
SUMMARY:HSIA General Membership Meeting
DESCRIPTION:
URL:https://hillsmereshores.org/event/hsia-general-membership-meeting-37/
LOCATION:Barn Commons @ Key School
ORGANIZER;CN="HSIA":MAILTO:admin@hillsmereshores.org
END:VEVENT
BEGIN:VEVENT
DTSTART;TZID=America/New_York:20260121T123000
DTEND;TZID=America/New_York:20260121T133000
DTSTAMP:20260420T100630
CREATED:20260110T175540Z
LAST-MODIFIED:20260110T175540Z
UID:7356-1768998600-1769002200@hillsmereshores.org
SUMMARY:Garden Club Meeting
DESCRIPTION:
URL:https://hillsmereshores.org/event/garden-club-meeting/
LOCATION:Eastport-Annapolis Neck Library\, 269 Hillsmere Drive\, Annapolis\, MD\, 21403\, United States
END:VEVENT
BEGIN:VEVENT
DTSTART;TZID=America/New_York:20260121T180000
DTEND;TZID=America/New_York:20260121T200000
DTSTAMP:20260420T100630
CREATED:20260110T175722Z
LAST-MODIFIED:20260110T175722Z
UID:7358-1769018400-1769025600@hillsmereshores.org
SUMMARY:Stargazers Club Meeting
DESCRIPTION:
URL:https://hillsmereshores.org/event/stargazers-club-meeting/
LOCATION:Eastport-Annapolis Neck Library\, 269 Hillsmere Drive\, Annapolis\, MD\, 21403\, United States
END:VEVENT
BEGIN:VEVENT
DTSTART;TZID=America/New_York:20260127T180000
DTEND;TZID=America/New_York:20260127T190000
DTSTAMP:20260420T100630
CREATED:20260110T184212Z
LAST-MODIFIED:20260110T184350Z
UID:7381-1769536800-1769540400@hillsmereshores.org
SUMMARY:Bylaws Committee Meeting
DESCRIPTION:
URL:https://hillsmereshores.org/event/bylaws-committee-meeting-10/
LOCATION:HSIA Community House\, 119 Great Lake Drive\, Annapolis\, MD\, 21403
END:VEVENT
BEGIN:VEVENT
DTSTART;TZID=America/New_York:20260129T190000
DTEND;TZID=America/New_York:20260129T210000
DTSTAMP:20260420T100630
CREATED:20260110T183448Z
LAST-MODIFIED:20260110T183448Z
UID:7369-1769713200-1769720400@hillsmereshores.org
SUMMARY:HSIA Board Meeting
DESCRIPTION:
URL:https://hillsmereshores.org/event/hsia-board-meeting-45/
LOCATION:HSIA Community House\, 119 Great Lake Drive\, Annapolis\, MD\, 21403
ORGANIZER;CN="HSIA":MAILTO:admin@hillsmereshores.org
END:VEVENT
END:VCALENDAR