BEGIN:VCALENDAR
VERSION:2.0
PRODID:-//Hillsmere Shores - ECPv6.15.20//NONSGML v1.0//EN
CALSCALE:GREGORIAN
METHOD:PUBLISH
X-ORIGINAL-URL:https://hillsmereshores.org
X-WR-CALDESC:Events for Hillsmere Shores
REFRESH-INTERVAL;VALUE=DURATION:PT1H
X-Robots-Tag:noindex
X-PUBLISHED-TTL:PT1H
BEGIN:VTIMEZONE
TZID:America/New_York
BEGIN:DAYLIGHT
TZOFFSETFROM:-0500
TZOFFSETTO:-0400
TZNAME:EDT
DTSTART:20220313T070000
END:DAYLIGHT
BEGIN:STANDARD
TZOFFSETFROM:-0400
TZOFFSETTO:-0500
TZNAME:EST
DTSTART:20221106T060000
END:STANDARD
BEGIN:DAYLIGHT
TZOFFSETFROM:-0500
TZOFFSETTO:-0400
TZNAME:EDT
DTSTART:20230312T070000
END:DAYLIGHT
BEGIN:STANDARD
TZOFFSETFROM:-0400
TZOFFSETTO:-0500
TZNAME:EST
DTSTART:20231105T060000
END:STANDARD
BEGIN:DAYLIGHT
TZOFFSETFROM:-0500
TZOFFSETTO:-0400
TZNAME:EDT
DTSTART:20240310T070000
END:DAYLIGHT
BEGIN:STANDARD
TZOFFSETFROM:-0400
TZOFFSETTO:-0500
TZNAME:EST
DTSTART:20241103T060000
END:STANDARD
END:VTIMEZONE
BEGIN:VEVENT
DTSTART;TZID=America/New_York:20231202T173000
DTEND;TZID=America/New_York:20231202T190000
DTSTAMP:20260420T214134
CREATED:20230107T061453Z
LAST-MODIFIED:20231128T115037Z
UID:5995-1701538200-1701543600@hillsmereshores.org
SUMMARY:Santa's Caravan (updated)
DESCRIPTION:The Santa Caravan is scheduled for Saturday\, December 2nd. It starts at 5:30 pm at the Beach and after a tour through the neighborhood\, ends with refreshments at the Beach. If you are donating a gift\, please do not wrap the gift. \nDecorated vehicles will meet at the Beach at 5:15 pm. All are welcome to view the Caravan along the route\, shown in the map below.
URL:https://hillsmereshores.org/event/santas-caravan/
LOCATION:Hillsmere Beach
ORGANIZER;CN="HSIA":MAILTO:admin@hillsmereshores.org
END:VEVENT
BEGIN:VEVENT
DTSTART;TZID=America/New_York:20231210T180000
DTEND;TZID=America/New_York:20231210T200000
DTSTAMP:20260420T214134
CREATED:20230107T061633Z
LAST-MODIFIED:20230107T061633Z
UID:5997-1702231200-1702238400@hillsmereshores.org
SUMMARY:Santa's Run
DESCRIPTION:Start time estimated\, details TBA.
URL:https://hillsmereshores.org/event/santas-run-6/
LOCATION:Hillsmere Pool
END:VEVENT
BEGIN:VEVENT
DTSTART;TZID=America/New_York:20231221T190000
DTEND;TZID=America/New_York:20231221T210000
DTSTAMP:20260420T214134
CREATED:20221025T083014Z
LAST-MODIFIED:20230510T080452Z
UID:5910-1703185200-1703192400@hillsmereshores.org
SUMMARY:HSIA Board of Directors Meeting
DESCRIPTION:The Board meets on the last Thursday of every month at 7pm in the Barn Commons on Key School campus. Meetings are open\, all are welcome to attend\, however\, guests are not permitted to participate in the board meetings unless recognized by the Board. \nTo attend a meeting virtually (Zoom link updated May 2023): \nHSIA Zoom Meetings\, Meeting ID: 913 7708 8235\, Passcode: 377266
URL:https://hillsmereshores.org/event/hsia-board-of-directors-meeting-32/
LOCATION:Barn Commons @ Key School
CATEGORIES:Board Meeting,HSIA
ORGANIZER;CN="HSIA":MAILTO:admin@hillsmereshores.org
END:VEVENT
END:VCALENDAR