BEGIN:VCALENDAR
VERSION:2.0
PRODID:-//Hillsmere Shores - ECPv6.15.20//NONSGML v1.0//EN
CALSCALE:GREGORIAN
METHOD:PUBLISH
X-ORIGINAL-URL:https://hillsmereshores.org
X-WR-CALDESC:Events for Hillsmere Shores
REFRESH-INTERVAL;VALUE=DURATION:PT1H
X-Robots-Tag:noindex
X-PUBLISHED-TTL:PT1H
BEGIN:VTIMEZONE
TZID:America/New_York
BEGIN:DAYLIGHT
TZOFFSETFROM:-0500
TZOFFSETTO:-0400
TZNAME:EDT
DTSTART:20220313T070000
END:DAYLIGHT
BEGIN:STANDARD
TZOFFSETFROM:-0400
TZOFFSETTO:-0500
TZNAME:EST
DTSTART:20221106T060000
END:STANDARD
BEGIN:DAYLIGHT
TZOFFSETFROM:-0500
TZOFFSETTO:-0400
TZNAME:EDT
DTSTART:20230312T070000
END:DAYLIGHT
BEGIN:STANDARD
TZOFFSETFROM:-0400
TZOFFSETTO:-0500
TZNAME:EST
DTSTART:20231105T060000
END:STANDARD
BEGIN:DAYLIGHT
TZOFFSETFROM:-0500
TZOFFSETTO:-0400
TZNAME:EDT
DTSTART:20240310T070000
END:DAYLIGHT
BEGIN:STANDARD
TZOFFSETFROM:-0400
TZOFFSETTO:-0500
TZNAME:EST
DTSTART:20241103T060000
END:STANDARD
END:VTIMEZONE
BEGIN:VEVENT
DTSTART;TZID=America/New_York:20231012T190000
DTEND;TZID=America/New_York:20231012T210000
DTSTAMP:20260421T004117
CREATED:20230925T035209Z
LAST-MODIFIED:20230925T035209Z
UID:6486-1697137200-1697144400@hillsmereshores.org
SUMMARY:Meet the Candidates for Board of Directors
DESCRIPTION:Details TBA
URL:https://hillsmereshores.org/event/meet-the-candidates-for-board-of-directors/
LOCATION:Barn Commons @ Key School
ORGANIZER;CN="HSIA":MAILTO:admin@hillsmereshores.org
END:VEVENT
BEGIN:VEVENT
DTSTART;TZID=America/New_York:20231026T190000
DTEND;TZID=America/New_York:20231026T210000
DTSTAMP:20260421T004117
CREATED:20221025T082743Z
LAST-MODIFIED:20230510T080342Z
UID:5906-1698346800-1698354000@hillsmereshores.org
SUMMARY:HSIA Board of Directors Meeting
DESCRIPTION:The Board meets on the last Thursday of every month at 7pm in the Barn Commons on Key School campus. Meetings are open\, all are welcome to attend\, however\, guests are not permitted to participate in the board meetings unless recognized by the Board. \nTo attend a meeting virtually (Zoom link updated May 2023): \nHSIA Zoom Meetings\, Meeting ID: 913 7708 8235\, Passcode: 377266
URL:https://hillsmereshores.org/event/hsia-board-of-directors-meeting-30/
LOCATION:Barn Commons @ Key School
CATEGORIES:Board Meeting,HSIA
ORGANIZER;CN="HSIA":MAILTO:admin@hillsmereshores.org
END:VEVENT
BEGIN:VEVENT
DTSTART;TZID=America/New_York:20231029T130000
DTEND;TZID=America/New_York:20231029T140000
DTSTAMP:20260421T004117
CREATED:20230107T061232Z
LAST-MODIFIED:20230107T061232Z
UID:5991-1698584400-1698588000@hillsmereshores.org
SUMMARY:Halloween Parade
DESCRIPTION:
URL:https://hillsmereshores.org/event/halloween-parade-5/
LOCATION:Hillsmere Beach
ORGANIZER;CN="HSIA":MAILTO:admin@hillsmereshores.org
END:VEVENT
END:VCALENDAR