BEGIN:VCALENDAR
VERSION:2.0
PRODID:-//Hillsmere Shores - ECPv6.15.20//NONSGML v1.0//EN
CALSCALE:GREGORIAN
METHOD:PUBLISH
X-WR-CALNAME:Hillsmere Shores
X-ORIGINAL-URL:https://hillsmereshores.org
X-WR-CALDESC:Events for Hillsmere Shores
REFRESH-INTERVAL;VALUE=DURATION:PT1H
X-Robots-Tag:noindex
X-PUBLISHED-TTL:PT1H
BEGIN:VTIMEZONE
TZID:America/New_York
BEGIN:DAYLIGHT
TZOFFSETFROM:-0500
TZOFFSETTO:-0400
TZNAME:EDT
DTSTART:20220313T070000
END:DAYLIGHT
BEGIN:STANDARD
TZOFFSETFROM:-0400
TZOFFSETTO:-0500
TZNAME:EST
DTSTART:20221106T060000
END:STANDARD
BEGIN:DAYLIGHT
TZOFFSETFROM:-0500
TZOFFSETTO:-0400
TZNAME:EDT
DTSTART:20230312T070000
END:DAYLIGHT
BEGIN:STANDARD
TZOFFSETFROM:-0400
TZOFFSETTO:-0500
TZNAME:EST
DTSTART:20231105T060000
END:STANDARD
BEGIN:DAYLIGHT
TZOFFSETFROM:-0500
TZOFFSETTO:-0400
TZNAME:EDT
DTSTART:20240310T070000
END:DAYLIGHT
BEGIN:STANDARD
TZOFFSETFROM:-0400
TZOFFSETTO:-0500
TZNAME:EST
DTSTART:20241103T060000
END:STANDARD
END:VTIMEZONE
BEGIN:VEVENT
DTSTART;TZID=America/New_York:20230805T180000
DTEND;TZID=America/New_York:20230805T200000
DTSTAMP:20260421T035342
CREATED:20230107T060857Z
LAST-MODIFIED:20230107T060857Z
UID:5985-1691258400-1691265600@hillsmereshores.org
SUMMARY:Community Ice Cream Social
DESCRIPTION:
URL:https://hillsmereshores.org/event/community-ice-cream-social/
LOCATION:Hillsmere Beach
ORGANIZER;CN="HSIA":MAILTO:admin@hillsmereshores.org
END:VEVENT
BEGIN:VEVENT
DTSTART;TZID=America/New_York:20230829T110000
DTEND;TZID=America/New_York:20230829T200000
DTSTAMP:20260421T035342
CREATED:20230107T061002Z
LAST-MODIFIED:20230107T061002Z
UID:5987-1693306800-1693339200@hillsmereshores.org
SUMMARY:Community Open Swim
DESCRIPTION:Hillsmere Shores residents only.
URL:https://hillsmereshores.org/event/community-open-swim-4/
LOCATION:Hillsmere Pool
ORGANIZER;CN="Pool Committee":MAILTO:pool@hillsmereshores.org
END:VEVENT
BEGIN:VEVENT
DTSTART;TZID=America/New_York:20230831T190000
DTEND;TZID=America/New_York:20230831T210000
DTSTAMP:20260421T035342
CREATED:20221025T082500Z
LAST-MODIFIED:20230510T080150Z
UID:5902-1693508400-1693515600@hillsmereshores.org
SUMMARY:HSIA Board of Directors Meeting
DESCRIPTION:The Board meets on the last Thursday of every month at 7pm in the Barn Commons on Key School campus. Meetings are open\, all are welcome to attend\, however\, guests are not permitted to participate in the board meetings unless recognized by the Board. \nTo attend a meeting virtually (Zoom link updated May 2023): \nHSIA Zoom Meetings\, Meeting ID: 913 7708 8235\, Passcode: 377266
URL:https://hillsmereshores.org/event/hsia-board-of-directors-meeting-28/
LOCATION:Barn Commons @ Key School
CATEGORIES:Board Meeting,HSIA
ORGANIZER;CN="HSIA":MAILTO:admin@hillsmereshores.org
END:VEVENT
END:VCALENDAR