BEGIN:VCALENDAR
VERSION:2.0
PRODID:-//Hillsmere Shores - ECPv6.15.20//NONSGML v1.0//EN
CALSCALE:GREGORIAN
METHOD:PUBLISH
X-WR-CALNAME:Hillsmere Shores
X-ORIGINAL-URL:https://hillsmereshores.org
X-WR-CALDESC:Events for Hillsmere Shores
REFRESH-INTERVAL;VALUE=DURATION:PT1H
X-Robots-Tag:noindex
X-PUBLISHED-TTL:PT1H
BEGIN:VTIMEZONE
TZID:America/New_York
BEGIN:DAYLIGHT
TZOFFSETFROM:-0500
TZOFFSETTO:-0400
TZNAME:EDT
DTSTART:20220313T070000
END:DAYLIGHT
BEGIN:STANDARD
TZOFFSETFROM:-0400
TZOFFSETTO:-0500
TZNAME:EST
DTSTART:20221106T060000
END:STANDARD
BEGIN:DAYLIGHT
TZOFFSETFROM:-0500
TZOFFSETTO:-0400
TZNAME:EDT
DTSTART:20230312T070000
END:DAYLIGHT
BEGIN:STANDARD
TZOFFSETFROM:-0400
TZOFFSETTO:-0500
TZNAME:EST
DTSTART:20231105T060000
END:STANDARD
BEGIN:DAYLIGHT
TZOFFSETFROM:-0500
TZOFFSETTO:-0400
TZNAME:EDT
DTSTART:20240310T070000
END:DAYLIGHT
BEGIN:STANDARD
TZOFFSETFROM:-0400
TZOFFSETTO:-0500
TZNAME:EST
DTSTART:20241103T060000
END:STANDARD
END:VTIMEZONE
BEGIN:VEVENT
DTSTART;TZID=America/New_York:20230509T190000
DTEND;TZID=America/New_York:20230509T210000
DTSTAMP:20260421T081301
CREATED:20221025T083414Z
LAST-MODIFIED:20221025T083414Z
UID:5916-1683658800-1683666000@hillsmereshores.org
SUMMARY:Piers & Harbors Committee Meeting
DESCRIPTION:
URL:https://hillsmereshores.org/event/piers-harbors-committee-meeting-44/
LOCATION:Barn Commons @ Key School
CATEGORIES:Committee Meeting,Piers & Harbors
END:VEVENT
BEGIN:VEVENT
DTSTART;TZID=America/New_York:20230511T190000
DTEND;TZID=America/New_York:20230511T210000
DTSTAMP:20260421T081301
CREATED:20230107T063330Z
LAST-MODIFIED:20230510T080606Z
UID:6003-1683831600-1683838800@hillsmereshores.org
SUMMARY:HSIA General Membership Meeting
DESCRIPTION:HSIA general membership meetings are open meetings. \nTo attend a meeting virtually (Zoom link updated May 2023): \nHSIA Zoom Meetings\, Meeting ID: 913 7708 8235\, Passcode: 377266
URL:https://hillsmereshores.org/event/hsia-general-membership-meeting-22/
LOCATION:Barn Commons @ Key School
ORGANIZER;CN="HSIA":MAILTO:admin@hillsmereshores.org
END:VEVENT
BEGIN:VEVENT
DTSTART;TZID=America/New_York:20230525T190000
DTEND;TZID=America/New_York:20230525T210000
DTSTAMP:20260421T081301
CREATED:20221025T082111Z
LAST-MODIFIED:20230510T075751Z
UID:5896-1685041200-1685048400@hillsmereshores.org
SUMMARY:HSIA Board of Directors Meeting
DESCRIPTION:The Board meets on the last Thursday of every month in the Key School Barn at 7pm. Meetings are open\, all are welcome to attend\, however\, guests are not permitted to participate in the board meetings unless recognized by the Board. \nTo attend a meeting virtually (Zoom link updated May 2023): \nHSIA Zoom Meetings\, Meeting ID: 913 7708 8235\, Passcode: 377266
URL:https://hillsmereshores.org/event/hsia-board-of-directors-meeting-25/
LOCATION:Barn Commons @ Key School
CATEGORIES:Board Meeting,HSIA
ORGANIZER;CN="HSIA":MAILTO:admin@hillsmereshores.org
END:VEVENT
BEGIN:VEVENT
DTSTART;TZID=America/New_York:20230530T110000
DTEND;TZID=America/New_York:20230530T200000
DTSTAMP:20260421T081301
CREATED:20230107T055609Z
LAST-MODIFIED:20230107T055609Z
UID:5971-1685444400-1685476800@hillsmereshores.org
SUMMARY:Community Open Swim
DESCRIPTION:Details TBA\, event dependent on staffing.
URL:https://hillsmereshores.org/event/community-open-swim/
LOCATION:Hillsmere Pool
ORGANIZER;CN="Pool Committee":MAILTO:pool@hillsmereshores.org
END:VEVENT
END:VCALENDAR