BEGIN:VCALENDAR
VERSION:2.0
PRODID:-//Hillsmere Shores - ECPv6.15.20//NONSGML v1.0//EN
CALSCALE:GREGORIAN
METHOD:PUBLISH
X-ORIGINAL-URL:https://hillsmereshores.org
X-WR-CALDESC:Events for Hillsmere Shores
REFRESH-INTERVAL;VALUE=DURATION:PT1H
X-Robots-Tag:noindex
X-PUBLISHED-TTL:PT1H
BEGIN:VTIMEZONE
TZID:America/New_York
BEGIN:DAYLIGHT
TZOFFSETFROM:-0500
TZOFFSETTO:-0400
TZNAME:EDT
DTSTART:20220313T070000
END:DAYLIGHT
BEGIN:STANDARD
TZOFFSETFROM:-0400
TZOFFSETTO:-0500
TZNAME:EST
DTSTART:20221106T060000
END:STANDARD
BEGIN:DAYLIGHT
TZOFFSETFROM:-0500
TZOFFSETTO:-0400
TZNAME:EDT
DTSTART:20230312T070000
END:DAYLIGHT
BEGIN:STANDARD
TZOFFSETFROM:-0400
TZOFFSETTO:-0500
TZNAME:EST
DTSTART:20231105T060000
END:STANDARD
BEGIN:DAYLIGHT
TZOFFSETFROM:-0500
TZOFFSETTO:-0400
TZNAME:EDT
DTSTART:20240310T070000
END:DAYLIGHT
BEGIN:STANDARD
TZOFFSETFROM:-0400
TZOFFSETTO:-0500
TZNAME:EST
DTSTART:20241103T060000
END:STANDARD
END:VTIMEZONE
BEGIN:VEVENT
DTSTART;TZID=America/New_York:20230207T190000
DTEND;TZID=America/New_York:20230207T210000
DTSTAMP:20260421T124424
CREATED:20230203T080456Z
LAST-MODIFIED:20230203T080602Z
UID:6169-1675796400-1675803600@hillsmereshores.org
SUMMARY:Piers & Harbors Committee Meeting
DESCRIPTION:The Piers & Harbor Committee will hold its first meeting of 2023 on Tuesday\, February 7th\, starting at 7:00 PM\, at the KEY SCHOOL “BARN” (where CAGID is held). Signs will be posted. MASKS ARE OPTIONAL. \n\nNew boat lifts – status report on new lifts on A Dock.\nManagement of lift slip wait list – priority of lift slip assignments\, changes to Rule 4.1?\nManagement of Slip Wait List – responses so far.\nCAGID – Volunteers needed for P&H Desk work: Slips; Boat Ramp Keys; Boat Park Keys; Kayak Rack Assignments.\nReport on Marina Fire on 12/29/22\nNew Kayak Racks installed – 18 new spaces.\nSecurity camera installation – Status Report.\nIce Eater utilization.\nLiving Shoreline update—a new look.
URL:https://hillsmereshores.org/event/piers-harbors-committee-meeting-48/
LOCATION:Barn Commons @ Key School
CATEGORIES:Committee Meeting,Piers & Harbors
END:VEVENT
BEGIN:VEVENT
DTSTART;TZID=America/New_York:20230211T100000
DTEND;TZID=America/New_York:20230211T140000
DTSTAMP:20260421T124424
CREATED:20221025T075350Z
LAST-MODIFIED:20230208T035251Z
UID:5884-1676109600-1676124000@hillsmereshores.org
SUMMARY:Come And Get It Day 2023
DESCRIPTION:Come And Get It Day\, our annual membership day\, is Saturday\, February 11\, from 10 am to 2 pm in the Barn Commons at Key School. Please park in the 2nd parking lot on Carroll Drive. \nCome And Get It Day is a Hillsmere tradition that saves our community association time and money by reducing mailing costs. Can’t make it to Come And Get It Day? No problem! Review the Required Supporting Documents\, then click & print the 2023 HSIA Membership form. Marina boat slip permits are found here. You may mail completed forms\, payments\, and photocopied automobile registrations to HSIA\, P.O. Box 3485\, Annapolis\, MD 21403. You may also use the community drop box located at 119 Great Lake Drive. Your stickers and keys will be mailed to you. Please allow a few weeks processing time. \nWhen returning paperwork and payment\, please make sure your package is complete. Payment will not be accepted with incomplete paperwork. \nQuestions? Call the HSIA 24-hour voice mail at 410-263-4456 or email admin@hillsmereshores.org \nPlease remember:\n* Photocopy of ALL registrations required: HSIA will give you one sticker for each vehicle and trailer registration you provide along with your membership form. Please attach your photocopy to the HSIA membership form and bring it with you on Come & Get It Day. Or\, you can personally show us your registrations that day only.\n* Slip Holders: Please remember to bring the slip invoice\, Marina Boat Slip Permit\, and HSIA membership form to Come And Get It Day\, or return all in the mail. You MUST submit all supporting documents listed on your invoice\, along with slip payment. PAYMENTS WILL NOT BE ACCEPTED WITHOUT THE REQUIRED DOCUMENTS.\n* Piers & Harbor Slip Waiting List: A onetime\, non-refundable fee of $100 is required to be added to the slip waiting list. The fee will be applied to your slip rental when you are assigned a slip.
URL:https://hillsmereshores.org/event/come-and-get-it-day-2023/
LOCATION:Barn Commons @ Key School
ORGANIZER;CN="HSIA":MAILTO:admin@hillsmereshores.org
END:VEVENT
BEGIN:VEVENT
DTSTART;TZID=America/New_York:20230223T190000
DTEND;TZID=America/New_York:20230223T210000
DTSTAMP:20260421T124424
CREATED:20221025T081719Z
LAST-MODIFIED:20230221T233721Z
UID:5890-1677178800-1677186000@hillsmereshores.org
SUMMARY:HSIA Board of Directors Meeting (w Zoom link)
DESCRIPTION:All HSIA meetings begin at 7pm on Key School campus. The Board meets on the last Thursday of every month. Meetings are open\, all are welcome to attend\, however\, guests are not permitted to participate in the board meetings unless recognized by the Board. \nDue to space constraints\, please attend the February meeting via Zoom. Link\, meeting ID and passcode below. \nTo attend a meeting virtually: \nHSIA Zoom Meetings\, Meeting ID: 854 4258 3295\, Passcode: 21403
URL:https://hillsmereshores.org/event/hsia-board-of-directors-meeting-22/
LOCATION:MD
CATEGORIES:Board Meeting
ORGANIZER;CN="HSIA":MAILTO:admin@hillsmereshores.org
END:VEVENT
END:VCALENDAR