BEGIN:VCALENDAR
VERSION:2.0
PRODID:-//Hillsmere Shores - ECPv6.15.20//NONSGML v1.0//EN
CALSCALE:GREGORIAN
METHOD:PUBLISH
X-WR-CALNAME:Hillsmere Shores
X-ORIGINAL-URL:https://hillsmereshores.org
X-WR-CALDESC:Events for Hillsmere Shores
REFRESH-INTERVAL;VALUE=DURATION:PT1H
X-Robots-Tag:noindex
X-PUBLISHED-TTL:PT1H
BEGIN:VTIMEZONE
TZID:America/New_York
BEGIN:DAYLIGHT
TZOFFSETFROM:-0500
TZOFFSETTO:-0400
TZNAME:EDT
DTSTART:20210314T070000
END:DAYLIGHT
BEGIN:STANDARD
TZOFFSETFROM:-0400
TZOFFSETTO:-0500
TZNAME:EST
DTSTART:20211107T060000
END:STANDARD
BEGIN:DAYLIGHT
TZOFFSETFROM:-0500
TZOFFSETTO:-0400
TZNAME:EDT
DTSTART:20220313T070000
END:DAYLIGHT
BEGIN:STANDARD
TZOFFSETFROM:-0400
TZOFFSETTO:-0500
TZNAME:EST
DTSTART:20221106T060000
END:STANDARD
BEGIN:DAYLIGHT
TZOFFSETFROM:-0500
TZOFFSETTO:-0400
TZNAME:EDT
DTSTART:20230312T070000
END:DAYLIGHT
BEGIN:STANDARD
TZOFFSETFROM:-0400
TZOFFSETTO:-0500
TZNAME:EST
DTSTART:20231105T060000
END:STANDARD
END:VTIMEZONE
BEGIN:VEVENT
DTSTART;TZID=America/New_York:20221105T140000
DTEND;TZID=America/New_York:20221105T180000
DTSTAMP:20260421T172334
CREATED:20220729T081328Z
LAST-MODIFIED:20220829T072945Z
UID:5742-1667656800-1667671200@hillsmereshores.org
SUMMARY:Annual Oyster Roast
DESCRIPTION:Don’t get caught saying awe shucks I missed the oyster feast.  Take an afternoon away from election robo calls and slurp some oysters with your neighbors at the Hillsmere Oyster Feast at the beach Saturday November 5 from 2:00 to 5:00 ish!  Rain or shine!\n\n3 bushels of oysters will be served raw on the half shell\, roasted\, and some world famous Maple Drive delicacies (Flamin’ Joes\, Crazy Claires. and Fiery Freds).\n\nToppings and fixin’s for the oysters will be provided.  Bring a side dish to share with your neighbors\, anything will do just pick your favorite thing to share.  Hot dogs will be provided for kids and the non-believers.\n\nBYOB and bring a beer for the shuckers!\n\nWe hope to see you all there!\n\nSincerely\,\nMaple Drive
URL:https://hillsmereshores.org/event/annual-oyster-roast-2/
LOCATION:Hillsmere Beach – Walker Pavilion
CATEGORIES:Recreation
ORGANIZER;CN="HSIA":MAILTO:admin@hillsmereshores.org
END:VEVENT
BEGIN:VEVENT
DTSTART;TZID=America/New_York:20221110T190000
DTEND;TZID=America/New_York:20221110T210000
DTSTAMP:20260421T172334
CREATED:20220516T072833Z
LAST-MODIFIED:20220516T072833Z
UID:5629-1668106800-1668114000@hillsmereshores.org
SUMMARY:HSIA General Membership Meeting
DESCRIPTION:The HSIA Board is pleased to announce that we now are providing a hybrid option for attending general meetings. We have resumed in-person meetings at the Key School “Barn” for both our regular HSIA Board Meetings as well as the HSIA General Meetings. In addition\, we are now providing a virtual meeting option where you can “attend” via zoom. \nWe would prefer to see residents in person\, but providing a virtual option will hopefully allow for more residents to participate. \nPlease email communications@hillsmereshores.org for the link to the virtual meeting. \nHope to see you in-person or on-line!
URL:https://hillsmereshores.org/event/hsia-general-membership-meeting-20/
LOCATION:Barn Commons @ Key School
CATEGORIES:General Meeting,HSIA
ORGANIZER;CN="HSIA":MAILTO:admin@hillsmereshores.org
END:VEVENT
BEGIN:VEVENT
DTSTART;TZID=America/New_York:20221117T190000
DTEND;TZID=America/New_York:20221117T210000
DTSTAMP:20260421T172334
CREATED:20220830T034444Z
LAST-MODIFIED:20220830T034444Z
UID:5816-1668711600-1668718800@hillsmereshores.org
SUMMARY:HSIA Board Meeting
DESCRIPTION:All HSIA meetings begin at 7pm in the Barn Commons on Key School campus. The Board meets on the last Thursday of every month. Meetings are open\, all are welcome to attend\, however\, guests are not permitted to participate in the board meetings unless recognized by the Board. HSIA General Membership meetings are open to all & participation is welcome! To attend a meeting virtually\, email admin@hillsmereshores.org to request access.
URL:https://hillsmereshores.org/event/hsia-board-meeting-20/
LOCATION:Barn Commons @ Key School
ORGANIZER;CN="HSIA":MAILTO:admin@hillsmereshores.org
END:VEVENT
END:VCALENDAR