BEGIN:VCALENDAR
VERSION:2.0
PRODID:-//Hillsmere Shores - ECPv6.15.20//NONSGML v1.0//EN
CALSCALE:GREGORIAN
METHOD:PUBLISH
X-ORIGINAL-URL:https://hillsmereshores.org
X-WR-CALDESC:Events for Hillsmere Shores
REFRESH-INTERVAL;VALUE=DURATION:PT1H
X-Robots-Tag:noindex
X-PUBLISHED-TTL:PT1H
BEGIN:VTIMEZONE
TZID:America/New_York
BEGIN:DAYLIGHT
TZOFFSETFROM:-0500
TZOFFSETTO:-0400
TZNAME:EDT
DTSTART:20210314T070000
END:DAYLIGHT
BEGIN:STANDARD
TZOFFSETFROM:-0400
TZOFFSETTO:-0500
TZNAME:EST
DTSTART:20211107T060000
END:STANDARD
BEGIN:DAYLIGHT
TZOFFSETFROM:-0500
TZOFFSETTO:-0400
TZNAME:EDT
DTSTART:20220313T070000
END:DAYLIGHT
BEGIN:STANDARD
TZOFFSETFROM:-0400
TZOFFSETTO:-0500
TZNAME:EST
DTSTART:20221106T060000
END:STANDARD
BEGIN:DAYLIGHT
TZOFFSETFROM:-0500
TZOFFSETTO:-0400
TZNAME:EDT
DTSTART:20230312T070000
END:DAYLIGHT
BEGIN:STANDARD
TZOFFSETFROM:-0400
TZOFFSETTO:-0500
TZNAME:EST
DTSTART:20231105T060000
END:STANDARD
END:VTIMEZONE
BEGIN:VEVENT
DTSTART;VALUE=DATE:20221001
DTEND;VALUE=DATE:20221002
DTSTAMP:20260421T190506
CREATED:20220601T051800Z
LAST-MODIFIED:20220601T051800Z
UID:5646-1664582400-1664668799@hillsmereshores.org
SUMMARY:Pizza Party
DESCRIPTION:Details TBD.
URL:https://hillsmereshores.org/event/pizza-party/
LOCATION:Hillsmere Beach
ORGANIZER;CN="HSIA":MAILTO:admin@hillsmereshores.org
END:VEVENT
BEGIN:VEVENT
DTSTART;TZID=America/New_York:20221011T190000
DTEND;TZID=America/New_York:20221011T210000
DTSTAMP:20260421T190506
CREATED:20221011T003653Z
LAST-MODIFIED:20221011T003735Z
UID:5847-1665514800-1665522000@hillsmereshores.org
SUMMARY:Meet the Candidate for HSIA President
DESCRIPTION:Please join us for Meet The Candidate Night on Tuesday\, Oct 11\, 7 pm in the Barn Commons\, Key School. Our candidate for President will be in attendance. The candidates for Vice President and Secretary will be present at the start of the October Board meeting on Thursday\, Oct 27\, 7 pm. in the Barn Commons\, Key School. \nIf you would like to join us virtually\, please use the following link: \nhttps://us02web.zoom.us/j/85442583295?pwd=Mi9QNEhGZ3hVMXBSendkYWZucTN2UT09 \nMeeting ID: 854 4258 3295 – Passcode: 21403 \nHope to see you there!Nominations Chair
URL:https://hillsmereshores.org/event/meet-the-candidate-for-hsia-president/
LOCATION:Barn Commons @ Key School
ORGANIZER;CN="HSIA":MAILTO:admin@hillsmereshores.org
END:VEVENT
BEGIN:VEVENT
DTSTART;TZID=America/New_York:20221016T130000
DTEND;TZID=America/New_York:20221016T160000
DTSTAMP:20260421T190506
CREATED:20221011T003113Z
LAST-MODIFIED:20221016T003110Z
UID:5845-1665925200-1665936000@hillsmereshores.org
SUMMARY:Community Flu Clinic
DESCRIPTION:HILLSMERE FLU CLINIC CONSENT FORM \nJoin us for the second annual community flu clinic on Sunday\, October 16th! The clinic will run from 1:00-4:00pm at the large beach pavilion. Giant Pharmacy will be providing the shots. Please bring your insurance card for the paperwork!
URL:https://hillsmereshores.org/event/community-flu-clinic/
LOCATION:Hillsmere Beach – Walker Pavilion
ORGANIZER;CN="HSIA":MAILTO:admin@hillsmereshores.org
END:VEVENT
BEGIN:VEVENT
DTSTART;TZID=America/New_York:20221025T190000
DTEND;TZID=America/New_York:20221025T210000
DTSTAMP:20260421T190506
CREATED:20221025T065228Z
LAST-MODIFIED:20221025T065228Z
UID:5866-1666724400-1666731600@hillsmereshores.org
SUMMARY:Piers & Harbors Committee Meeting
DESCRIPTION:The Piers & Harbor Committee will hold an in-person meeting on Tuesday\, October 25th\, starting at 7:00 PM at the KEY SCHOOL “BARN” (where CAGID is held). Signs will be posted. MASKS ARE OPTIONAL. \nAgenda items for the meeting include: \n\nWinter Preparations: Port-a-Potty\, Water System\, Pump Out\, Winter Slips.\nTentative Plan for Ice Eater Installation: Dec 3? Dec 10?\nNew boat lifts recommendation: 8 lifts on A Dock.\nOperations report: installation of line hangers\, slip guide lines\, piling caps progress.\nLiving Shoreline update.
URL:https://hillsmereshores.org/event/piers-harbors-committee-meeting-41/
LOCATION:Barn Commons @ Key School
CATEGORIES:Committee Meeting,Piers & Harbors
END:VEVENT
BEGIN:VEVENT
DTSTART;TZID=America/New_York:20221027T190000
DTEND;TZID=America/New_York:20221027T210000
DTSTAMP:20260421T190506
CREATED:20220830T034345Z
LAST-MODIFIED:20220830T034345Z
UID:5814-1666897200-1666904400@hillsmereshores.org
SUMMARY:HSIA Board Meeting
DESCRIPTION:All HSIA meetings begin at 7pm in the Barn Commons on Key School campus. The Board meets on the last Thursday of every month. Meetings are open\, all are welcome to attend\, however\, guests are not permitted to participate in the board meetings unless recognized by the Board. HSIA General Membership meetings are open to all & participation is welcome! To attend a meeting virtually\, email admin@hillsmereshores.org to request access.
URL:https://hillsmereshores.org/event/hsia-board-meeting-19/
LOCATION:Barn Commons @ Key School
ORGANIZER;CN="HSIA":MAILTO:admin@hillsmereshores.org
END:VEVENT
BEGIN:VEVENT
DTSTART;TZID=America/New_York:20221030T130000
DTEND;TZID=America/New_York:20221030T140000
DTSTAMP:20260421T190506
CREATED:20221025T072943Z
LAST-MODIFIED:20221025T073052Z
UID:5875-1667134800-1667138400@hillsmereshores.org
SUMMARY:Hillsmere Halloween Parade
DESCRIPTION:  \n\n\n\nCalling all ghouls\, goblins\, and ghosts – Hillsmere’s Halloween Parade is scheduled for Sunday\, October 30\, starting at 1:00 pm. Please meet at The Key School gazebo at the corner of Hillsmere and Carroll Drives. We will parade to the beach and share some refreshments.\n\n\n\n\n 
URL:https://hillsmereshores.org/event/hillsmere-halloween-parade/
LOCATION:Key School Gazebo @ Hillsmere & Carroll
CATEGORIES:Recreation
ORGANIZER;CN="HSIA":MAILTO:admin@hillsmereshores.org
END:VEVENT
END:VCALENDAR