BEGIN:VCALENDAR
VERSION:2.0
PRODID:-//Hillsmere Shores - ECPv6.15.20//NONSGML v1.0//EN
CALSCALE:GREGORIAN
METHOD:PUBLISH
X-WR-CALNAME:Hillsmere Shores
X-ORIGINAL-URL:https://hillsmereshores.org
X-WR-CALDESC:Events for Hillsmere Shores
REFRESH-INTERVAL;VALUE=DURATION:PT1H
X-Robots-Tag:noindex
X-PUBLISHED-TTL:PT1H
BEGIN:VTIMEZONE
TZID:America/New_York
BEGIN:DAYLIGHT
TZOFFSETFROM:-0500
TZOFFSETTO:-0400
TZNAME:EDT
DTSTART:20210314T070000
END:DAYLIGHT
BEGIN:STANDARD
TZOFFSETFROM:-0400
TZOFFSETTO:-0500
TZNAME:EST
DTSTART:20211107T060000
END:STANDARD
BEGIN:DAYLIGHT
TZOFFSETFROM:-0500
TZOFFSETTO:-0400
TZNAME:EDT
DTSTART:20220313T070000
END:DAYLIGHT
BEGIN:STANDARD
TZOFFSETFROM:-0400
TZOFFSETTO:-0500
TZNAME:EST
DTSTART:20221106T060000
END:STANDARD
BEGIN:DAYLIGHT
TZOFFSETFROM:-0500
TZOFFSETTO:-0400
TZNAME:EDT
DTSTART:20230312T070000
END:DAYLIGHT
BEGIN:STANDARD
TZOFFSETFROM:-0400
TZOFFSETTO:-0500
TZNAME:EST
DTSTART:20231105T060000
END:STANDARD
END:VTIMEZONE
BEGIN:VEVENT
DTSTART;TZID=America/New_York:20220501T090000
DTEND;TZID=America/New_York:20220501T110000
DTSTAMP:20260422T032407
CREATED:20220424T235557Z
LAST-MODIFIED:20220424T235923Z
UID:5602-1651395600-1651402800@hillsmereshores.org
SUMMARY:Hillsmere Watershed Steward Planting Opportunity - Sunday\, May 1
DESCRIPTION:Join us for a positive\, productive opportunity to make an environmental difference in Hillsmere. As part of the Watershed Steward Academy\, we will be planting native grasses and herbaceous plants at 609 Beach Dr.\, the location of one of Hillsmere’s boat ramps. These plants will help absorb stormwater\, demonstrate alternatives to lawn\, benefit pollinators and add beauty. \nChoose a 9:00AM or 10:00AM time slot. Parking is limited\, so if possible\, walk or ride your bike. We could make our fellow residents on Beach Dr. happy by not cluttering the street with cars. Why not reduce emissions and get some exercise at the same time! \nPlease RSVP to environment@hillsmereshores.org \nSee you on May 1st\nPhyllis Saroff\, WSA Candidate\, Class 13
URL:https://hillsmereshores.org/event/hillsmere-watershed-steward-planting-opportunity-sunday-may-1/
LOCATION:MD
END:VEVENT
BEGIN:VEVENT
DTSTART;TZID=America/New_York:20220510T190000
DTEND;TZID=America/New_York:20220510T203000
DTSTAMP:20260422T032407
CREATED:20220402T062136Z
LAST-MODIFIED:20220402T062136Z
UID:5582-1652209200-1652214600@hillsmereshores.org
SUMMARY:Piers & Harbors Committee Meeting
DESCRIPTION:Open meeting. Agenda TBA via email prior to meeting. Questions/comments to marina@hillsmereshores.org
URL:https://hillsmereshores.org/event/piers-harbors-committee-meeting-40/
LOCATION:Barn Commons @ Key School
CATEGORIES:Committee Meeting,Piers & Harbors
END:VEVENT
BEGIN:VEVENT
DTSTART;TZID=America/New_York:20220512T180000
DTEND;TZID=America/New_York:20220512T190000
DTSTAMP:20260422T032407
CREATED:20220402T061517Z
LAST-MODIFIED:20220402T061517Z
UID:5578-1652378400-1652382000@hillsmereshores.org
SUMMARY:Pool Committee Meeting
DESCRIPTION:In-person meeting @ pool.
URL:https://hillsmereshores.org/event/pool-committee-meeting-4/
LOCATION:Hillsmere Pool
CATEGORIES:Committee Meeting,Pool
ORGANIZER;CN="Pool Committee":MAILTO:pool@hillsmereshores.org
END:VEVENT
BEGIN:VEVENT
DTSTART;TZID=America/New_York:20220514T080000
DTEND;TZID=America/New_York:20220514T120000
DTSTAMP:20260422T032407
CREATED:20220402T061757Z
LAST-MODIFIED:20220402T061757Z
UID:5580-1652515200-1652529600@hillsmereshores.org
SUMMARY:Pre-Season Pool Work Day
DESCRIPTION:We will have our annual clean up event Saturday\, May 14th from 8am-12pm. Volunteers will be\neligible for complimentary guest passes for their time. Email pool@hillsmereshores.org with questions.
URL:https://hillsmereshores.org/event/pre-season-pool-work-day/
LOCATION:Hillsmere Pool
CATEGORIES:Pool
END:VEVENT
BEGIN:VEVENT
DTSTART;TZID=America/New_York:20220526T190000
DTEND;TZID=America/New_York:20220526T210000
DTSTAMP:20260422T032407
CREATED:20220402T062816Z
LAST-MODIFIED:20220402T062816Z
UID:5588-1653591600-1653598800@hillsmereshores.org
SUMMARY:HSIA Board Meeting
DESCRIPTION:HSIA Board of Directors meets in person on the last Thursday of every month\, in Key School’s Barn Commons\, unless otherwise noted (link to campus map below).\nBoard meetings are open meetings\, however\, guests are not permitted to participate in the meeting unless recognized by the Board.
URL:https://hillsmereshores.org/event/hsia-board-meeting-14/
LOCATION:Barn Commons @ Key School
CATEGORIES:Board Meeting,HSIA
ORGANIZER;CN="HSIA":MAILTO:admin@hillsmereshores.org
END:VEVENT
END:VCALENDAR