BEGIN:VCALENDAR
VERSION:2.0
PRODID:-//Hillsmere Shores - ECPv6.15.20//NONSGML v1.0//EN
CALSCALE:GREGORIAN
METHOD:PUBLISH
X-WR-CALNAME:Hillsmere Shores
X-ORIGINAL-URL:https://hillsmereshores.org
X-WR-CALDESC:Events for Hillsmere Shores
REFRESH-INTERVAL;VALUE=DURATION:PT1H
X-Robots-Tag:noindex
X-PUBLISHED-TTL:PT1H
BEGIN:VTIMEZONE
TZID:America/New_York
BEGIN:DAYLIGHT
TZOFFSETFROM:-0500
TZOFFSETTO:-0400
TZNAME:EDT
DTSTART:20200308T070000
END:DAYLIGHT
BEGIN:STANDARD
TZOFFSETFROM:-0400
TZOFFSETTO:-0500
TZNAME:EST
DTSTART:20201101T060000
END:STANDARD
BEGIN:DAYLIGHT
TZOFFSETFROM:-0500
TZOFFSETTO:-0400
TZNAME:EDT
DTSTART:20210314T070000
END:DAYLIGHT
BEGIN:STANDARD
TZOFFSETFROM:-0400
TZOFFSETTO:-0500
TZNAME:EST
DTSTART:20211107T060000
END:STANDARD
BEGIN:DAYLIGHT
TZOFFSETFROM:-0500
TZOFFSETTO:-0400
TZNAME:EDT
DTSTART:20220313T070000
END:DAYLIGHT
BEGIN:STANDARD
TZOFFSETFROM:-0400
TZOFFSETTO:-0500
TZNAME:EST
DTSTART:20221106T060000
END:STANDARD
END:VTIMEZONE
BEGIN:VEVENT
DTSTART;TZID=America/New_York:20210704T100000
DTEND;TZID=America/New_York:20210704T110000
DTSTAMP:20260422T183103
CREATED:20210630T075434Z
LAST-MODIFIED:20210630T075434Z
UID:5045-1625392800-1625396400@hillsmereshores.org
SUMMARY:Annual Independence Day Bicycle Parade
DESCRIPTION:Calling kids of all ages to decorate your bicycles\, scooters\, wagons\, etc.\, for the annual Hillsmere Independence Day Bicycle Parade! Meet at the Key School gazebo by 10 AM on Sunday\, July 4. At 10 AM\, the parade will head down Hillsmere Drive to the beach for treats and social hour @ the small pavilion.
URL:https://hillsmereshores.org/event/annual-independence-day-bicycle-parade/
LOCATION:MD
CATEGORIES:HSIA,Recreation
ORGANIZER;CN="HSIA":MAILTO:admin@hillsmereshores.org
END:VEVENT
BEGIN:VEVENT
DTSTART;TZID=America/New_York:20210713T180000
DTEND;TZID=America/New_York:20210713T200000
DTSTAMP:20260422T183103
CREATED:20210626T073039Z
LAST-MODIFIED:20210626T073324Z
UID:5023-1626199200-1626206400@hillsmereshores.org
SUMMARY:P&H Committee Meeting
DESCRIPTION:Piers & Harbors Committee Meeting – Open Meeting – All Slip Holders\, Ramp Key Holders\, Wait Listers\, Kayakers\, Boat Parkers\, etc. are invited to attend.  Volunteers are always needed and welcomed! \n 
URL:https://hillsmereshores.org/event/ph-committee-meeting-2/
LOCATION:Hillsmere Beach – Walker Pavilion
CATEGORIES:Committee Meeting,Piers & Harbors
END:VEVENT
BEGIN:VEVENT
DTSTART;VALUE=DATE:20210727
DTEND;VALUE=DATE:20210728
DTSTAMP:20260422T183103
CREATED:20210626T064118Z
LAST-MODIFIED:20210626T064118Z
UID:5011-1627344000-1627430399@hillsmereshores.org
SUMMARY:SCBD Pool Benefit Day
DESCRIPTION:Hillsmere Residents: \nAdmission to\, or use of\, the pool facilities will be granted to any Hillsmere property owner consistent with the expenditure of Special Community Benefit District funds for the maintenance\, repair\, and/or renovation of the pool facility. \nThe pool will be open to all Hillsmere property owners\, regardless of pool membership status\, free of charge\, on the last Tuesday of each month for the 2021 season: \nTuesday 6/29 \nTuesday 7/27 \nTuesday 8/31
URL:https://hillsmereshores.org/event/scbd-pool-benefit-day-2/
LOCATION:Hillsmere Pool
ORGANIZER;CN="HSIA":MAILTO:admin@hillsmereshores.org
END:VEVENT
END:VCALENDAR