BEGIN:VCALENDAR
VERSION:2.0
PRODID:-//Hillsmere Shores - ECPv6.15.20//NONSGML v1.0//EN
CALSCALE:GREGORIAN
METHOD:PUBLISH
X-ORIGINAL-URL:https://hillsmereshores.org
X-WR-CALDESC:Events for Hillsmere Shores
REFRESH-INTERVAL;VALUE=DURATION:PT1H
X-Robots-Tag:noindex
X-PUBLISHED-TTL:PT1H
BEGIN:VTIMEZONE
TZID:America/New_York
BEGIN:DAYLIGHT
TZOFFSETFROM:-0500
TZOFFSETTO:-0400
TZNAME:EDT
DTSTART:20190310T070000
END:DAYLIGHT
BEGIN:STANDARD
TZOFFSETFROM:-0400
TZOFFSETTO:-0500
TZNAME:EST
DTSTART:20191103T060000
END:STANDARD
BEGIN:DAYLIGHT
TZOFFSETFROM:-0500
TZOFFSETTO:-0400
TZNAME:EDT
DTSTART:20200308T070000
END:DAYLIGHT
BEGIN:STANDARD
TZOFFSETFROM:-0400
TZOFFSETTO:-0500
TZNAME:EST
DTSTART:20201101T060000
END:STANDARD
BEGIN:DAYLIGHT
TZOFFSETFROM:-0500
TZOFFSETTO:-0400
TZNAME:EDT
DTSTART:20210314T070000
END:DAYLIGHT
BEGIN:STANDARD
TZOFFSETFROM:-0400
TZOFFSETTO:-0500
TZNAME:EST
DTSTART:20211107T060000
END:STANDARD
END:VTIMEZONE
BEGIN:VEVENT
DTSTART;TZID=America/New_York:20201208T190000
DTEND;TZID=America/New_York:20201208T200000
DTSTAMP:20260423T053902
CREATED:20200122T085246Z
LAST-MODIFIED:20201001T032718Z
UID:4071-1607454000-1607457600@hillsmereshores.org
SUMMARY:*TBD* Environmental Committee Meeting
DESCRIPTION:Anyone is welcome to attend EC meeting! Interested\, but can’t make it in person? We can call you\, just email environment@hillsmereshores.org.
URL:https://hillsmereshores.org/event/environmental-committee-meeting-12/
LOCATION:Key School Science & Library Bldg.\, Room 102
CATEGORIES:Committee Meeting
ORGANIZER;CN="Environmental Committee":MAILTO:environment@hillsmereshores.org
END:VEVENT
BEGIN:VEVENT
DTSTART;TZID=America/New_York:20201213T180000
DTEND;TZID=America/New_York:20201213T200000
DTSTAMP:20260423T053902
CREATED:20200122T100901Z
LAST-MODIFIED:20201001T032529Z
UID:4107-1607882400-1607889600@hillsmereshores.org
SUMMARY:**TBD** Santa's Run
DESCRIPTION:Event tentative. 
URL:https://hillsmereshores.org/event/santas-run-5/
LOCATION:MD
CATEGORIES:Recreation
END:VEVENT
BEGIN:VEVENT
DTSTART;TZID=America/New_York:20201217T190000
DTEND;TZID=America/New_York:20201217T210000
DTSTAMP:20260423T053902
CREATED:20200122T065845Z
LAST-MODIFIED:20201001T032418Z
UID:4018-1608231600-1608238800@hillsmereshores.org
SUMMARY:HSIA Board of Directors Meeting (via Zoom)
DESCRIPTION:Until further notice\, HSIA Board meetings will be conducted online\, via Zoom. To request a link to “sit in” on the meetings\, please email admin@hillsmereshores.org
URL:https://hillsmereshores.org/event/hsia-board-of-directors-meeting-20/
LOCATION:MD
CATEGORIES:Board Meeting
ORGANIZER;CN="HSIA":MAILTO:admin@hillsmereshores.org
END:VEVENT
END:VCALENDAR