BEGIN:VCALENDAR
VERSION:2.0
PRODID:-//Hillsmere Shores - ECPv6.15.20//NONSGML v1.0//EN
CALSCALE:GREGORIAN
METHOD:PUBLISH
X-ORIGINAL-URL:https://hillsmereshores.org
X-WR-CALDESC:Events for Hillsmere Shores
REFRESH-INTERVAL;VALUE=DURATION:PT1H
X-Robots-Tag:noindex
X-PUBLISHED-TTL:PT1H
BEGIN:VTIMEZONE
TZID:America/New_York
BEGIN:DAYLIGHT
TZOFFSETFROM:-0500
TZOFFSETTO:-0400
TZNAME:EDT
DTSTART:20190310T070000
END:DAYLIGHT
BEGIN:STANDARD
TZOFFSETFROM:-0400
TZOFFSETTO:-0500
TZNAME:EST
DTSTART:20191103T060000
END:STANDARD
BEGIN:DAYLIGHT
TZOFFSETFROM:-0500
TZOFFSETTO:-0400
TZNAME:EDT
DTSTART:20200308T070000
END:DAYLIGHT
BEGIN:STANDARD
TZOFFSETFROM:-0400
TZOFFSETTO:-0500
TZNAME:EST
DTSTART:20201101T060000
END:STANDARD
BEGIN:DAYLIGHT
TZOFFSETFROM:-0500
TZOFFSETTO:-0400
TZNAME:EDT
DTSTART:20210314T070000
END:DAYLIGHT
BEGIN:STANDARD
TZOFFSETFROM:-0400
TZOFFSETTO:-0500
TZNAME:EST
DTSTART:20211107T060000
END:STANDARD
END:VTIMEZONE
BEGIN:VEVENT
DTSTART;TZID=America/New_York:20200609T190000
DTEND;TZID=America/New_York:20200609T200000
DTSTAMP:20260423T145016
CREATED:20200122T084735Z
LAST-MODIFIED:20200526T052011Z
UID:4058-1591729200-1591732800@hillsmereshores.org
SUMMARY:TBD - Environmental Committee Meeting
DESCRIPTION:Anyone is welcome to attend EC meeting! Interested\, but can’t make it in person? We can call you\, just email environment@hillsmereshores.org.
URL:https://hillsmereshores.org/event/environmental-committee-meeting-7/
LOCATION:Key School Science & Library Bldg.\, Room 102
CATEGORIES:Committee Meeting
ORGANIZER;CN="Environmental Committee":MAILTO:environment@hillsmereshores.org
END:VEVENT
BEGIN:VEVENT
DTSTART;TZID=America/New_York:20200609T190000
DTEND;TZID=America/New_York:20200609T210000
DTSTAMP:20260423T145016
CREATED:20200122T070412Z
LAST-MODIFIED:20200526T051937Z
UID:4024-1591729200-1591736400@hillsmereshores.org
SUMMARY:CANCELLED - Piers & Harbors Committee Meeting
DESCRIPTION:
URL:https://hillsmereshores.org/event/piers-harbors-committee-meeting-35/
LOCATION:Key School Science & Library Bldg.\, Room 101
CATEGORIES:Committee Meeting,Piers & Harbors
END:VEVENT
BEGIN:VEVENT
DTSTART;TZID=America/New_York:20200612T170000
DTEND;TZID=America/New_York:20200612T200000
DTSTAMP:20260423T145016
CREATED:20200122T090845Z
LAST-MODIFIED:20200526T051205Z
UID:4085-1591981200-1591992000@hillsmereshores.org
SUMMARY:CANCELLED - Happy Hour
DESCRIPTION:
URL:https://hillsmereshores.org/event/happy-hour-10/
LOCATION:Hillsmere Beach – Walker Pavilion
CATEGORIES:Recreation
ORGANIZER;CN="HSIA":MAILTO:admin@hillsmereshores.org
END:VEVENT
BEGIN:VEVENT
DTSTART;TZID=America/New_York:20200620T190000
DTEND;TZID=America/New_York:20200620T200000
DTSTAMP:20260423T145016
CREATED:20200122T091359Z
LAST-MODIFIED:20200526T051234Z
UID:4093-1592679600-1592683200@hillsmereshores.org
SUMMARY:CANCELLED - Ice Cream Social
DESCRIPTION:
URL:https://hillsmereshores.org/event/ice-cream-social-5/
LOCATION:Hillsmere Beach – Walker Pavilion
CATEGORIES:Recreation
ORGANIZER;CN="HSIA":MAILTO:admin@hillsmereshores.org
END:VEVENT
BEGIN:VEVENT
DTSTART;TZID=America/New_York:20200625T190000
DTEND;TZID=America/New_York:20200625T210000
DTSTAMP:20260423T145016
CREATED:20200122T065403Z
LAST-MODIFIED:20200526T052143Z
UID:4006-1593111600-1593118800@hillsmereshores.org
SUMMARY:TBD - HSIA Board of Directors Meeting
DESCRIPTION:Meeting may occur via ZOOM. If meeting occurs\, approved meeting minutes will be shared here.
URL:https://hillsmereshores.org/event/hsia-board-of-directors-meeting-14/
LOCATION:Barn Commons @ Key School
CATEGORIES:Board Meeting
ORGANIZER;CN="HSIA":MAILTO:admin@hillsmereshores.org
END:VEVENT
END:VCALENDAR