BEGIN:VCALENDAR
VERSION:2.0
PRODID:-//Hillsmere Shores - ECPv6.15.20//NONSGML v1.0//EN
CALSCALE:GREGORIAN
METHOD:PUBLISH
X-WR-CALNAME:Hillsmere Shores
X-ORIGINAL-URL:https://hillsmereshores.org
X-WR-CALDESC:Events for Hillsmere Shores
REFRESH-INTERVAL;VALUE=DURATION:PT1H
X-Robots-Tag:noindex
X-PUBLISHED-TTL:PT1H
BEGIN:VTIMEZONE
TZID:America/New_York
BEGIN:DAYLIGHT
TZOFFSETFROM:-0500
TZOFFSETTO:-0400
TZNAME:EDT
DTSTART:20160313T070000
END:DAYLIGHT
BEGIN:STANDARD
TZOFFSETFROM:-0400
TZOFFSETTO:-0500
TZNAME:EST
DTSTART:20161106T060000
END:STANDARD
BEGIN:DAYLIGHT
TZOFFSETFROM:-0500
TZOFFSETTO:-0400
TZNAME:EDT
DTSTART:20170312T070000
END:DAYLIGHT
BEGIN:STANDARD
TZOFFSETFROM:-0400
TZOFFSETTO:-0500
TZNAME:EST
DTSTART:20171105T060000
END:STANDARD
BEGIN:DAYLIGHT
TZOFFSETFROM:-0500
TZOFFSETTO:-0400
TZNAME:EDT
DTSTART:20180311T070000
END:DAYLIGHT
BEGIN:STANDARD
TZOFFSETFROM:-0400
TZOFFSETTO:-0500
TZNAME:EST
DTSTART:20181104T060000
END:STANDARD
END:VTIMEZONE
BEGIN:VTIMEZONE
TZID:America/Phoenix
BEGIN:STANDARD
TZOFFSETFROM:-0700
TZOFFSETTO:-0700
TZNAME:MST
DTSTART:20160101T000000
END:STANDARD
END:VTIMEZONE
BEGIN:VEVENT
DTSTART;TZID=America/New_York:20170315T120000
DTEND;TZID=America/New_York:20170315T140000
DTSTAMP:20260423T123713
CREATED:20170127T221855Z
LAST-MODIFIED:20170208T175813Z
UID:1386-1489579200-1489586400@hillsmereshores.org
SUMMARY:Garden Club
DESCRIPTION:@ Eastport-Annapolis Neck Library
URL:https://hillsmereshores.org/event/garden-club-2/
CATEGORIES:Garden Club
END:VEVENT
BEGIN:VEVENT
DTSTART;TZID=America/Phoenix:20170309T190000
DTEND;TZID=America/Phoenix:20170309T200000
DTSTAMP:20260423T123713
CREATED:20170112T195808Z
LAST-MODIFIED:20170208T175825Z
UID:507-1489086000-1489089600@hillsmereshores.org
SUMMARY:General Meeting
DESCRIPTION:Key School Katharine Hall. Open Meeting.
URL:https://hillsmereshores.org/event/general-meeting-2/
CATEGORIES:General Meeting
END:VEVENT
BEGIN:VEVENT
DTSTART;TZID=America/Phoenix:20170225T100000
DTEND;TZID=America/Phoenix:20170225T140000
DTSTAMP:20260423T123713
CREATED:20170112T210713Z
LAST-MODIFIED:20170208T175855Z
UID:586-1488016800-1488031200@hillsmereshores.org
SUMMARY:Come And Get It Day
DESCRIPTION:Key School Barn.
URL:https://hillsmereshores.org/event/come-and-get-it-day-2/
CATEGORIES:HSIA
END:VEVENT
BEGIN:VEVENT
DTSTART;TZID=America/Phoenix:20170223T190000
DTEND;TZID=America/Phoenix:20170223T210000
DTSTAMP:20260423T123713
CREATED:20170112T195507Z
LAST-MODIFIED:20170208T175909Z
UID:503-1487876400-1487883600@hillsmereshores.org
SUMMARY:Board Meeting
DESCRIPTION:Key School Science & Library Center\, Rooms 101/102
URL:https://hillsmereshores.org/event/board-meeting-2/
CATEGORIES:Board Meeting
END:VEVENT
BEGIN:VEVENT
DTSTART;TZID=America/New_York:20170215T120000
DTEND;TZID=America/New_York:20170215T140000
DTSTAMP:20260423T123713
CREATED:20170127T221709Z
LAST-MODIFIED:20170208T175919Z
UID:1384-1487160000-1487167200@hillsmereshores.org
SUMMARY:Garden Club
DESCRIPTION:@ Eastport-Annapolis Neck Library
URL:https://hillsmereshores.org/event/garden-club/
CATEGORIES:Garden Club
END:VEVENT
BEGIN:VEVENT
DTSTART;TZID=America/Phoenix:20170207T190000
DTEND;TZID=America/Phoenix:20170207T210000
DTSTAMP:20260423T123713
CREATED:20170112T210943Z
LAST-MODIFIED:20170208T175931Z
UID:590-1486494000-1486501200@hillsmereshores.org
SUMMARY:Piers & Harbors Committee Meeting
DESCRIPTION:Key School Science & Library Center\, Rooms 101/102
URL:https://hillsmereshores.org/event/piers-harbors-committee-meeting-11/
CATEGORIES:Piers & Harbors
END:VEVENT
BEGIN:VEVENT
DTSTART;TZID=America/Phoenix:20170126T190000
DTEND;TZID=America/Phoenix:20170126T210000
DTSTAMP:20260423T123713
CREATED:20170112T210831Z
LAST-MODIFIED:20170208T175942Z
UID:588-1485457200-1485464400@hillsmereshores.org
SUMMARY:Board Meeting
DESCRIPTION:Key School Science & Library Center\, Rooms 101/102
URL:https://hillsmereshores.org/event/board-meeting-13/
CATEGORIES:Board Meeting
END:VEVENT
BEGIN:VEVENT
DTSTART;TZID=America/Phoenix:20170112T190000
DTEND;TZID=America/Phoenix:20170112T200000
DTSTAMP:20260423T123713
CREATED:20170112T192341Z
LAST-MODIFIED:20170208T175955Z
UID:494-1484247600-1484251200@hillsmereshores.org
SUMMARY:General Meeting
DESCRIPTION:Key School Katharine Hall
URL:https://hillsmereshores.org/event/general-meeting/
CATEGORIES:General Meeting
END:VEVENT
BEGIN:VEVENT
DTSTART;TZID=America/Phoenix:20170110T190000
DTEND;TZID=America/Phoenix:20170110T200000
DTSTAMP:20260423T123713
CREATED:20170112T191510Z
LAST-MODIFIED:20170208T180008Z
UID:491-1484074800-1484078400@hillsmereshores.org
SUMMARY:Piers & Harbors Committee Meeting
DESCRIPTION:Key School Science & Library Center\, Room 101
URL:https://hillsmereshores.org/event/piers-harbors-meeting/
CATEGORIES:Piers & Harbors
END:VEVENT
END:VCALENDAR