BEGIN:VCALENDAR
VERSION:2.0
PRODID:-//Hillsmere Shores - ECPv6.15.20//NONSGML v1.0//EN
CALSCALE:GREGORIAN
METHOD:PUBLISH
X-WR-CALNAME:Hillsmere Shores
X-ORIGINAL-URL:https://hillsmereshores.org
X-WR-CALDESC:Events for Hillsmere Shores
REFRESH-INTERVAL;VALUE=DURATION:PT1H
X-Robots-Tag:noindex
X-PUBLISHED-TTL:PT1H
BEGIN:VTIMEZONE
TZID:America/New_York
BEGIN:DAYLIGHT
TZOFFSETFROM:-0500
TZOFFSETTO:-0400
TZNAME:EDT
DTSTART:20170312T070000
END:DAYLIGHT
BEGIN:STANDARD
TZOFFSETFROM:-0400
TZOFFSETTO:-0500
TZNAME:EST
DTSTART:20171105T060000
END:STANDARD
BEGIN:DAYLIGHT
TZOFFSETFROM:-0500
TZOFFSETTO:-0400
TZNAME:EDT
DTSTART:20180311T070000
END:DAYLIGHT
BEGIN:STANDARD
TZOFFSETFROM:-0400
TZOFFSETTO:-0500
TZNAME:EST
DTSTART:20181104T060000
END:STANDARD
BEGIN:DAYLIGHT
TZOFFSETFROM:-0500
TZOFFSETTO:-0400
TZNAME:EDT
DTSTART:20190310T070000
END:DAYLIGHT
BEGIN:STANDARD
TZOFFSETFROM:-0400
TZOFFSETTO:-0500
TZNAME:EST
DTSTART:20191103T060000
END:STANDARD
END:VTIMEZONE
BEGIN:VEVENT
DTSTART;VALUE=DATE:20180704
DTEND;VALUE=DATE:20180705
DTSTAMP:20260422T182756
CREATED:20180125T195724Z
LAST-MODIFIED:20180125T195724Z
UID:2804-1530662400-1530748799@hillsmereshores.org
SUMMARY:4th of July Pool Party
DESCRIPTION:Members Only. Time TBA
URL:https://hillsmereshores.org/event/4th-of-july-pool-party-3/
LOCATION:Hillsmere Pool
CATEGORIES:HSIA,Pool,Recreation
ORGANIZER;CN="Pool Committee":MAILTO:pool@hillsmereshores.org
END:VEVENT
BEGIN:VEVENT
DTSTART;TZID=America/New_York:20180629T170000
DTEND;TZID=America/New_York:20180629T200000
DTSTAMP:20260422T182756
CREATED:20180620T191047Z
LAST-MODIFIED:20180713T154630Z
UID:3011-1530291600-1530302400@hillsmereshores.org
SUMMARY:Food Truck Friday @ Pool
DESCRIPTION:Breaking the Borders food truck will be in the Hillsmere Pool parking lot from 5-8PM this Friday\, June 29. \nEveryone is welcome (not just pool members!) to stop over and pick up some dinner. Menu here.
URL:https://hillsmereshores.org/event/food-truck-friday-pool-2/
LOCATION:Hillsmere Pool
ORGANIZER;CN="Pool Committee":MAILTO:pool@hillsmereshores.org
END:VEVENT
BEGIN:VEVENT
DTSTART;TZID=America/New_York:20180628T190000
DTEND;TZID=America/New_York:20180628T210000
DTSTAMP:20260422T182756
CREATED:20180103T221116Z
LAST-MODIFIED:20180103T221116Z
UID:2545-1530212400-1530219600@hillsmereshores.org
SUMMARY:HSIA Board Meeting
DESCRIPTION:Key School Library & Science Center\, rooms 101/102. Open meeting.
URL:https://hillsmereshores.org/event/hsia-board-meeting-6/
ORGANIZER;CN="HSIA":MAILTO:admin@hillsmereshores.org
END:VEVENT
BEGIN:VEVENT
DTSTART;TZID=America/New_York:20180626T120000
DTEND;TZID=America/New_York:20180626T200000
DTSTAMP:20260422T182756
CREATED:20180625T113013Z
LAST-MODIFIED:20180625T222126Z
UID:3019-1530014400-1530043200@hillsmereshores.org
SUMMARY:SCBD Pool Day
DESCRIPTION:Hillsmere Residents: \nAdmission to\, or use of\, the pool facilities will be granted to any Hillsmere property owner consistent with the expenditure of Special Community Benefit District funds for the maintenance\, repair\, and/or renovation of the pool facility. \nThe pool will be open to all Hillsmere property owners\, regardless of pool membership status\, on the last Tuesday of each month for the 2018 season: \nTuesday 6/26\, 12PM-8PM \nTuesday 7/31\, 12PM-8PM \nTuesday 8/28\, 12PM-8PM
URL:https://hillsmereshores.org/event/scbd-pool-day/
LOCATION:Hillsmere Pool
ORGANIZER;CN="HSIA":MAILTO:admin@hillsmereshores.org
END:VEVENT
BEGIN:VEVENT
DTSTART;TZID=America/New_York:20180621T190000
DTEND;TZID=America/New_York:20180621T200000
DTSTAMP:20260422T182756
CREATED:20180119T213036Z
LAST-MODIFIED:20180119T213036Z
UID:2726-1529607600-1529611200@hillsmereshores.org
SUMMARY:Bylaws Committee Meeting
DESCRIPTION:Open meeting.
URL:https://hillsmereshores.org/event/bylaws-committee-meeting-5/
LOCATION:Eastport-Annapolis Neck Library\, 269 Hillsmere Drive\, Annapolis\, MD\, 21403\, United States
CATEGORIES:Committee Meeting,HSIA
ORGANIZER;CN="Bylaw Committee":MAILTO:bylaws@hillsmereshores.org
END:VEVENT
BEGIN:VEVENT
DTSTART;TZID=America/New_York:20180616T190000
DTEND;TZID=America/New_York:20180616T203000
DTSTAMP:20260422T182756
CREATED:20180114T193954Z
LAST-MODIFIED:20180114T193954Z
UID:2653-1529175600-1529181000@hillsmereshores.org
SUMMARY:Ice Cream Social
DESCRIPTION:
URL:https://hillsmereshores.org/event/ice-cream-social-2/
LOCATION:Hillsmere Beach – Walker Pavilion
CATEGORIES:HSIA,Recreation
ORGANIZER;CN="HSIA":MAILTO:admin@hillsmereshores.org
END:VEVENT
BEGIN:VEVENT
DTSTART;TZID=America/New_York:20180612T190000
DTEND;TZID=America/New_York:20180612T210000
DTSTAMP:20260422T182756
CREATED:20180109T221821Z
LAST-MODIFIED:20180109T221821Z
UID:2603-1528830000-1528837200@hillsmereshores.org
SUMMARY:Piers & Harbors Committee Meeting
DESCRIPTION:Open Meeting. Key School Science & Library Center\, Rooms 101/102
URL:https://hillsmereshores.org/event/piers-harbors-committee-meeting-16/
END:VEVENT
BEGIN:VEVENT
DTSTART;TZID=America/New_York:20180608T170000
DTEND;TZID=America/New_York:20180608T200000
DTSTAMP:20260422T182756
CREATED:20180114T193859Z
LAST-MODIFIED:20180114T193859Z
UID:2651-1528477200-1528488000@hillsmereshores.org
SUMMARY:Happy Hour
DESCRIPTION:
URL:https://hillsmereshores.org/event/happy-hour-4/
LOCATION:Hillsmere Beach – Walker Pavilion
CATEGORIES:HSIA,Recreation
ORGANIZER;CN="HSIA":MAILTO:admin@hillsmereshores.org
END:VEVENT
BEGIN:VEVENT
DTSTART;TZID=America/New_York:20180608T160000
DTEND;TZID=America/New_York:20180608T200000
DTSTAMP:20260422T182756
CREATED:20180606T015055Z
LAST-MODIFIED:20180608T115949Z
UID:2993-1528473600-1528488000@hillsmereshores.org
SUMMARY:Food Truck Friday @ Hillsmere Pool
DESCRIPTION:Slider Girl will be in the Hillsmere Pool parking lot this Friday evening! \nEveryone is welcome (not just pool members!) to stop over and pick up some dinner.  \nView Slider Girl’s menu. \nThank you!\nPool Committee
URL:https://hillsmereshores.org/event/food-truck-friday-hillsmere-pool/
LOCATION:Hillsmere Pool
ORGANIZER;CN="Pool Committee":MAILTO:pool@hillsmereshores.org
END:VEVENT
BEGIN:VEVENT
DTSTART;TZID=America/New_York:20180602T103000
DTEND;TZID=America/New_York:20180602T113000
DTSTAMP:20260422T182756
CREATED:20180530T135810Z
LAST-MODIFIED:20180530T135810Z
UID:2971-1527935400-1527939000@hillsmereshores.org
SUMMARY:Hillsmere Terrapin Release (2 of 2)
DESCRIPTION:Hillsmere Hatchling Update- they are ready for release! Join us at the marina on Friday June 1st and Saturday June 2nd at 10:30 AM to release the head-started terrapin hatchlings back to their beach. Students from schools who participated with The Terrapin Institute will also be there. It is sure to be a fun and rewarding experience. Hope to see you there! ?
URL:https://hillsmereshores.org/event/hillsmere-terrapin-release-2-of-2/
LOCATION:Hillsmere Marina
END:VEVENT
BEGIN:VEVENT
DTSTART;TZID=America/New_York:20180601T120000
DTEND;TZID=America/New_York:20180602T120000
DTSTAMP:20260422T182756
CREATED:20180530T143323Z
LAST-MODIFIED:20180530T143324Z
UID:2973-1527854400-1527940800@hillsmereshores.org
SUMMARY:Dumpster Days - June 1 & 2
DESCRIPTION:Hillsmere Residents- \nDumpster Days are scheduled for our community on Friday and Saturday\, June 1 & 2. The dumpsters will be delivered by noon on Friday\, June 1 and removed by noon on Saturday\, June 2. Please note\, these times are best estimates based on prior years. Please always verify the dumpsters are in place before hauling items to the dumpster area! \nThe dumpsters will be located adjacent to the community pool. If we experience a large amount of rainfall in the days prior to this event\, the dumpsters may be relocated to the beach parking lot. If the dumpsters are relocated\, the change of location will be announced to the community. \nIMPORTANT: PLEASE MAKE SURE THE DUMPSTERS ARE IN PLACE BEFORE HAULING ANY ITEMS TO THE DUMPSTER AREA. \nPlease be courteous and follow all directions to maintain a smooth flow of traffic. We will be using a clockwise traffic pattern\, the same as in previous years (please see map below). To avoid excessive damage to the grounds\, do not enter or exit the dumpster area from Harbor Drive. \nThe following items are prohibited:\nGarbage or similar trash\, hazardous materials\, tires\, liquids\, pressurized containers\, refrigerators\, air conditioners\, boats\, trailers\, logs or tree trunks. \nPlease follow these guidelines:\n1. Do not bring children.\n2. Watch for\, and do not interfere with\, County trucks and bulldozers in the area.\n3. Do not leave waste materials outside the dumpsters or allow them to protrude above the top of the container.\n4. Do not put too much heavy material in one container. Fill the containers completely from the rear to the front.\n5. Tie or bundle light material so it won’t blow around. Disassemble large items such as swing sets and other similar items. Cut tree trimmings into 3-4 foot lengths.\n6. Do not put material into the containers after dark.\n7. Do not block flow of local traffic on Great Lake Drive.
URL:https://hillsmereshores.org/event/dumpster-days-june-1-2/
ORGANIZER;CN="HSIA":MAILTO:admin@hillsmereshores.org
END:VEVENT
BEGIN:VEVENT
DTSTART;TZID=America/New_York:20180601T103000
DTEND;TZID=America/New_York:20180601T113000
DTSTAMP:20260422T182756
CREATED:20180530T135556Z
LAST-MODIFIED:20180530T135556Z
UID:2967-1527849000-1527852600@hillsmereshores.org
SUMMARY:Hillsmere Terrapin Release (1 of 2)
DESCRIPTION:Hillsmere Hatchling Update- they are ready for release! Join us at the marina on Friday June 1st and Saturday June 2nd at 10:30 AM to release the head-started terrapin hatchlings back to their beach. Students from schools who participated with The Terrapin Institute will also be there. It is sure to be a fun and rewarding experience. Hope to see you there! ?
URL:https://hillsmereshores.org/event/hillsmere-terrapin-release-1-of-2/
LOCATION:Hillsmere Marina
END:VEVENT
BEGIN:VEVENT
DTSTART;TZID=America/New_York:20180531T190000
DTEND;TZID=America/New_York:20180531T210000
DTSTAMP:20260422T182756
CREATED:20180103T221034Z
LAST-MODIFIED:20180103T221034Z
UID:2543-1527793200-1527800400@hillsmereshores.org
SUMMARY:HSIA Board Meeting
DESCRIPTION:Key School Library & Science Center\, rooms 101/102. Open meeting.
URL:https://hillsmereshores.org/event/hsia-board-meeting-5/
ORGANIZER;CN="HSIA":MAILTO:admin@hillsmereshores.org
END:VEVENT
BEGIN:VEVENT
DTSTART;TZID=America/New_York:20180528T100000
DTEND;TZID=America/New_York:20180528T110000
DTSTAMP:20260422T182756
CREATED:20180125T195020Z
LAST-MODIFIED:20180125T195020Z
UID:2794-1527501600-1527505200@hillsmereshores.org
SUMMARY:Memorial Day Observation Ceremony
DESCRIPTION:
URL:https://hillsmereshores.org/event/memorial-day-observation-ceremony/
LOCATION:Hillsmere Beach – Walker Pavilion
CATEGORIES:HSIA,Recreation
ORGANIZER;CN="HSIA":MAILTO:admin@hillsmereshores.org
END:VEVENT
BEGIN:VEVENT
DTSTART;VALUE=DATE:20180526
DTEND;VALUE=DATE:20180527
DTSTAMP:20260422T182756
CREATED:20180515T013519Z
LAST-MODIFIED:20180515T013519Z
UID:2953-1527292800-1527379199@hillsmereshores.org
SUMMARY:Pool Opening Day
DESCRIPTION: Pool membership cards will be ready for pickup at the pool on opening day\, Saturday 5/26.  The cards will be filed by the last name of the primary member and can be picked up at the check in desk with the lifeguards.
URL:https://hillsmereshores.org/event/pool-opening-day/
LOCATION:Hillsmere Pool
ORGANIZER;CN="Pool Committee":MAILTO:pool@hillsmereshores.org
END:VEVENT
BEGIN:VEVENT
DTSTART;TZID=America/New_York:20180520T160000
DTEND;TZID=America/New_York:20180520T180000
DTSTAMP:20260422T182756
CREATED:20180515T013347Z
LAST-MODIFIED:20180515T013347Z
UID:2951-1526832000-1526839200@hillsmereshores.org
SUMMARY:Pool Clean Up/Work Party
DESCRIPTION:We need your help to get the pool ready for opening day!  Join us on Sunday afternoon to help power wash\, arrange furniture\, organize the office\, plant flowers\, etc. so the pool is ready for use on Saturday 5/26.   \nThis is a family friendly event….the more the merrier!  Bring your own drinks and we will provide pizza.  Let’s start the season right! \nWe will provide cleaning supplies but if you have a power washer you are willing to bring\, that would be greatly appreciated!   \nSign Up for the Pool Clean Up
URL:https://hillsmereshores.org/event/pool-clean-up-work-party/
LOCATION:Hillsmere Pool
ORGANIZER;CN="Pool Committee":MAILTO:pool@hillsmereshores.org
END:VEVENT
BEGIN:VEVENT
DTSTART;TZID=America/New_York:20180517T190000
DTEND;TZID=America/New_York:20180517T200000
DTSTAMP:20260422T182756
CREATED:20180119T212932Z
LAST-MODIFIED:20180119T212932Z
UID:2724-1526583600-1526587200@hillsmereshores.org
SUMMARY:Bylaws Committee Meeting
DESCRIPTION:Open meeting.
URL:https://hillsmereshores.org/event/bylaws-committee-meeting-4/
LOCATION:Eastport-Annapolis Neck Library\, 269 Hillsmere Drive\, Annapolis\, MD\, 21403\, United States
CATEGORIES:Committee Meeting,HSIA
ORGANIZER;CN="Bylaw Committee":MAILTO:bylaws@hillsmereshores.org
END:VEVENT
BEGIN:VEVENT
DTSTART;VALUE=DATE:20180516
DTEND;VALUE=DATE:20180517
DTSTAMP:20260422T182756
CREATED:20180118T160329Z
LAST-MODIFIED:20180118T160329Z
UID:2697-1526428800-1526515199@hillsmereshores.org
SUMMARY:Garden Club
DESCRIPTION:Spring Luncheon and Installation of officers. Location and time TBD.
URL:https://hillsmereshores.org/event/garden-club-12/
CATEGORIES:Garden Club
END:VEVENT
BEGIN:VEVENT
DTSTART;TZID=America/New_York:20180510T190000
DTEND;TZID=America/New_York:20180510T210000
DTSTAMP:20260422T182756
CREATED:20180103T221804Z
LAST-MODIFIED:20180103T221804Z
UID:2561-1525978800-1525986000@hillsmereshores.org
SUMMARY:HSIA General Membership Meeting
DESCRIPTION:@ Key School Katharine Hall. Open Meeting.
URL:https://hillsmereshores.org/event/hsia-general-membership-meeting-3/
ORGANIZER;CN="HSIA":MAILTO:admin@hillsmereshores.org
END:VEVENT
BEGIN:VEVENT
DTSTART;TZID=America/New_York:20180507T190000
DTEND;TZID=America/New_York:20180507T210000
DTSTAMP:20260422T182756
CREATED:20180109T221742Z
LAST-MODIFIED:20180419T214534Z
UID:2601-1525719600-1525726800@hillsmereshores.org
SUMMARY:Piers & Harbors Committee Meeting
DESCRIPTION:Open Meeting. Key School Science & Library Center\, Rooms 101/102
URL:https://hillsmereshores.org/event/piers-harbors-committee-meeting-15/
END:VEVENT
BEGIN:VEVENT
DTSTART;TZID=America/New_York:20180505T090000
DTEND;TZID=America/New_York:20180505T120000
DTSTAMP:20260422T182756
CREATED:20180125T194854Z
LAST-MODIFIED:20180125T194854Z
UID:2792-1525510800-1525521600@hillsmereshores.org
SUMMARY:Annual Beach Clean-Up/Work Day
DESCRIPTION:All hands on deck to get our beach and playgrounds ready for the warmer weather!
URL:https://hillsmereshores.org/event/annual-beach-clean-up-work-day/
LOCATION:Hillsmere Beach – Walker Pavilion
CATEGORIES:HSIA
ORGANIZER;CN="Beach Committee":MAILTO:beach@hillsmereshores.org
END:VEVENT
BEGIN:VEVENT
DTSTART;TZID=America/New_York:20180505T080000
DTEND;TZID=America/New_York:20180505T120000
DTSTAMP:20260422T182756
CREATED:20180114T193521Z
LAST-MODIFIED:20180114T193521Z
UID:2644-1525507200-1525521600@hillsmereshores.org
SUMMARY:Yard Sale Rain Date
DESCRIPTION:
URL:https://hillsmereshores.org/event/yard-sale-rain-date/
LOCATION:Hillsmere Beach – Walker Pavilion
ORGANIZER;CN="HSIA":MAILTO:admin@hillsmereshores.org
END:VEVENT
BEGIN:VEVENT
DTSTART;TZID=America/New_York:20180428T080000
DTEND;TZID=America/New_York:20180428T120000
DTSTAMP:20260422T182756
CREATED:20180125T194658Z
LAST-MODIFIED:20180125T194658Z
UID:2790-1524902400-1524916800@hillsmereshores.org
SUMMARY:Hillsmere Spring Yard Sale
DESCRIPTION:Rain Date 5/5/18
URL:https://hillsmereshores.org/event/hillsmere-spring-yard-sale/
LOCATION:Hillsmere Beach – Walker Pavilion
CATEGORIES:HSIA
ORGANIZER;CN="HSIA":MAILTO:admin@hillsmereshores.org
END:VEVENT
BEGIN:VEVENT
DTSTART;TZID=America/New_York:20180426T190000
DTEND;TZID=America/New_York:20180426T210000
DTSTAMP:20260422T182756
CREATED:20180103T220939Z
LAST-MODIFIED:20180103T220939Z
UID:2541-1524769200-1524776400@hillsmereshores.org
SUMMARY:HSIA Board Meeting
DESCRIPTION:Key School Library & Science Center\, rooms 101/102. Open meeting.
URL:https://hillsmereshores.org/event/hsia-board-meeting-4/
ORGANIZER;CN="HSIA":MAILTO:admin@hillsmereshores.org
END:VEVENT
BEGIN:VEVENT
DTSTART;TZID=America/New_York:20180424T190000
DTEND;TZID=America/New_York:20180424T200000
DTSTAMP:20260422T182756
CREATED:20180420T145917Z
LAST-MODIFIED:20180420T145944Z
UID:2911-1524596400-1524600000@hillsmereshores.org
SUMMARY:HSIA Environmental Committee - Harbor Drive WPRP Information Session
DESCRIPTION:Please note\, the Anne Arundel County Watershed Protection and Restoration Program Harbor Drive project is scheduled to begin Monday\, April 30th. \nThe HSIA Environmental Committee will hold two (2) information sessions on the project design and construction timeline. \n* When: Sunday\, April 22nd at 2pm and Tuesday\, April 24th at 7pm \n* Where: The HSIA Community House @ 119 Great Lake Dr \nFor details about the project\, including existing conditions\, drainage map\, site plans and Project Manager\, please visit the WPRP Hillsmere project site. \nTo view the original HSIA communication regarding this project\, please visit HSIA’s website and search for “bioretention.” \nHSIA’s Environmental Committee and resident Watershed Stewards will be monitoring the project and will respond to any neighbors concerns. Residents may contact environment@hillsmereshores.net.
URL:https://hillsmereshores.org/event/hsia-environmental-committee-harbor-drive-wprp-information-meeting/
LOCATION:HSIA Community House\, 119 Great Lake Drive\, Annapolis\, MD\, 21403
CATEGORIES:HSIA
ORGANIZER;CN="HSIA":MAILTO:admin@hillsmereshores.org
END:VEVENT
BEGIN:VEVENT
DTSTART;TZID=America/New_York:20180422T140000
DTEND;TZID=America/New_York:20180422T160000
DTSTAMP:20260422T182756
CREATED:20180420T145249Z
LAST-MODIFIED:20180420T145404Z
UID:2908-1524405600-1524412800@hillsmereshores.org
SUMMARY:HSIA Environmental Committee - Harbor Drive WPRP Information Session
DESCRIPTION:Please note\, the Anne Arundel County Watershed Protection and Restoration Program Harbor Drive project is scheduled to begin Monday\, April 30th. \nThe HSIA Environmental Committee will hold two (2) information sessions on the project design and construction timeline. \n* When: Sunday\, April 22nd at 2pm and Tuesday\, April 24th at 7pm \n* Where: The HSIA Community House @ 119 Great Lake Dr \nFor details about the project\, including existing conditions\, drainage map\, site plans and Project Manager\, please visit the WPRP Hillsmere project site. \nTo view the original HSIA communication regarding this project\, please visit HSIA’s website and search for “bioretention.” \nHSIA’s Environmental Committee and resident Watershed Stewards will be monitoring the project and will respond to any neighbors concerns. Residents may contact environment@hillsmereshores.net.
URL:https://hillsmereshores.org/event/hsia-environmental-committee-harbor-drive-wprp-information-session/
LOCATION:HSIA Community House\, 119 Great Lake Drive\, Annapolis\, MD\, 21403
CATEGORIES:HSIA
ORGANIZER;CN="HSIA":MAILTO:admin@hillsmereshores.org
END:VEVENT
BEGIN:VEVENT
DTSTART;TZID=America/New_York:20180421T120000
DTEND;TZID=America/New_York:20180421T140000
DTSTAMP:20260422T182756
CREATED:20180419T210900Z
LAST-MODIFIED:20180419T210900Z
UID:2898-1524312000-1524319200@hillsmereshores.org
SUMMARY:Marina Spring Clean Up
DESCRIPTION:SATURDAY APRIL 21\, NOON TO 2 PM \nNot going fishing on Opening Day of Rockfish Trophy Season? \nThe after the Nautical Yard Sale\, come on down to the Marina for a little Spring Cleaning! It will almost be warm! \nBring clippers\, shears\, rakes and gloves as we pretend Spring is really here and tidy up the Marina by: \n              -Cutting back the bay grasses \n              -Raking up high tide debris and pine cones \n              -Trimming some shrubs and hedges \n              -Staining the park benches \n             -And maybe doing a little painting \nTake a break and get out of the house! \nGet some fresh air and sunshine! \nHelp make the Marina look good!
URL:https://hillsmereshores.org/event/marina-spring-clean-up/
LOCATION:Hillsmere Marina
END:VEVENT
BEGIN:VEVENT
DTSTART;TZID=America/New_York:20180421T080000
DTEND;TZID=America/New_York:20180421T120000
DTSTAMP:20260422T182756
CREATED:20180114T193345Z
LAST-MODIFIED:20180114T193345Z
UID:2639-1524297600-1524312000@hillsmereshores.org
SUMMARY:2nd Annual Marina Yard Sale
DESCRIPTION:
URL:https://hillsmereshores.org/event/2nd-annual-marina-yard-sale/
LOCATION:Hillsmere Marina
CATEGORIES:HSIA,Piers & Harbors
END:VEVENT
BEGIN:VEVENT
DTSTART;TZID=America/New_York:20180419T190000
DTEND;TZID=America/New_York:20180419T200000
DTSTAMP:20260422T182756
CREATED:20180119T212618Z
LAST-MODIFIED:20180119T212618Z
UID:2722-1524164400-1524168000@hillsmereshores.org
SUMMARY:Bylaws Committee Meeting
DESCRIPTION:Open meeting.
URL:https://hillsmereshores.org/event/bylaws-committee-meeting-3/
LOCATION:Eastport-Annapolis Neck Library\, 269 Hillsmere Drive\, Annapolis\, MD\, 21403\, United States
CATEGORIES:Committee Meeting,HSIA
ORGANIZER;CN="Bylaw Committee":MAILTO:bylaws@hillsmereshores.org
END:VEVENT
BEGIN:VEVENT
DTSTART;VALUE=DATE:20180418
DTEND;VALUE=DATE:20180419
DTSTAMP:20260422T182756
CREATED:20180118T160157Z
LAST-MODIFIED:20180118T172347Z
UID:2695-1524009600-1524095999@hillsmereshores.org
SUMMARY:Garden Club
DESCRIPTION:Field Trip to National Arboretum in Washington D.C.; Admission $\, car pool. Time TBA.
URL:https://hillsmereshores.org/event/garden-club-11/
CATEGORIES:Garden Club
END:VEVENT
END:VCALENDAR