BEGIN:VCALENDAR
VERSION:2.0
PRODID:-//Hillsmere Shores - ECPv6.15.20//NONSGML v1.0//EN
CALSCALE:GREGORIAN
METHOD:PUBLISH
X-WR-CALNAME:Hillsmere Shores
X-ORIGINAL-URL:https://hillsmereshores.org
X-WR-CALDESC:Events for Hillsmere Shores
REFRESH-INTERVAL;VALUE=DURATION:PT1H
X-Robots-Tag:noindex
X-PUBLISHED-TTL:PT1H
BEGIN:VTIMEZONE
TZID:America/New_York
BEGIN:DAYLIGHT
TZOFFSETFROM:-0500
TZOFFSETTO:-0400
TZNAME:EDT
DTSTART:20250309T070000
END:DAYLIGHT
BEGIN:STANDARD
TZOFFSETFROM:-0400
TZOFFSETTO:-0500
TZNAME:EST
DTSTART:20251102T060000
END:STANDARD
BEGIN:DAYLIGHT
TZOFFSETFROM:-0500
TZOFFSETTO:-0400
TZNAME:EDT
DTSTART:20260308T070000
END:DAYLIGHT
BEGIN:STANDARD
TZOFFSETFROM:-0400
TZOFFSETTO:-0500
TZNAME:EST
DTSTART:20261101T060000
END:STANDARD
BEGIN:DAYLIGHT
TZOFFSETFROM:-0500
TZOFFSETTO:-0400
TZNAME:EDT
DTSTART:20270314T070000
END:DAYLIGHT
BEGIN:STANDARD
TZOFFSETFROM:-0400
TZOFFSETTO:-0500
TZNAME:EST
DTSTART:20271107T060000
END:STANDARD
END:VTIMEZONE
BEGIN:VEVENT
DTSTART;TZID=America/New_York:20260115T184500
DTEND;TZID=America/New_York:20260115T210000
DTSTAMP:20260420T204130
CREATED:20260110T180746Z
LAST-MODIFIED:20260110T180746Z
UID:7365-1768502700-1768510800@hillsmereshores.org
SUMMARY:HSIA General Membership Meeting
DESCRIPTION:
URL:https://hillsmereshores.org/event/hsia-general-membership-meeting-37/
LOCATION:Barn Commons @ Key School
ORGANIZER;CN="HSIA":MAILTO:admin@hillsmereshores.org
END:VEVENT
BEGIN:VEVENT
DTSTART;TZID=America/New_York:20260121T123000
DTEND;TZID=America/New_York:20260121T133000
DTSTAMP:20260420T204130
CREATED:20260110T175540Z
LAST-MODIFIED:20260110T175540Z
UID:7356-1768998600-1769002200@hillsmereshores.org
SUMMARY:Garden Club Meeting
DESCRIPTION:
URL:https://hillsmereshores.org/event/garden-club-meeting/
LOCATION:Eastport-Annapolis Neck Library\, 269 Hillsmere Drive\, Annapolis\, MD\, 21403\, United States
END:VEVENT
BEGIN:VEVENT
DTSTART;TZID=America/New_York:20260121T180000
DTEND;TZID=America/New_York:20260121T200000
DTSTAMP:20260420T204130
CREATED:20260110T175722Z
LAST-MODIFIED:20260110T175722Z
UID:7358-1769018400-1769025600@hillsmereshores.org
SUMMARY:Stargazers Club Meeting
DESCRIPTION:
URL:https://hillsmereshores.org/event/stargazers-club-meeting/
LOCATION:Eastport-Annapolis Neck Library\, 269 Hillsmere Drive\, Annapolis\, MD\, 21403\, United States
END:VEVENT
BEGIN:VEVENT
DTSTART;TZID=America/New_York:20260127T180000
DTEND;TZID=America/New_York:20260127T190000
DTSTAMP:20260420T204130
CREATED:20260110T184212Z
LAST-MODIFIED:20260110T184350Z
UID:7381-1769536800-1769540400@hillsmereshores.org
SUMMARY:Bylaws Committee Meeting
DESCRIPTION:
URL:https://hillsmereshores.org/event/bylaws-committee-meeting-10/
LOCATION:HSIA Community House\, 119 Great Lake Drive\, Annapolis\, MD\, 21403
END:VEVENT
BEGIN:VEVENT
DTSTART;TZID=America/New_York:20260129T190000
DTEND;TZID=America/New_York:20260129T210000
DTSTAMP:20260420T204130
CREATED:20260110T183448Z
LAST-MODIFIED:20260110T183448Z
UID:7369-1769713200-1769720400@hillsmereshores.org
SUMMARY:HSIA Board Meeting
DESCRIPTION:
URL:https://hillsmereshores.org/event/hsia-board-meeting-45/
LOCATION:HSIA Community House\, 119 Great Lake Drive\, Annapolis\, MD\, 21403
ORGANIZER;CN="HSIA":MAILTO:admin@hillsmereshores.org
END:VEVENT
BEGIN:VEVENT
DTSTART;TZID=America/New_York:20260207T100000
DTEND;TZID=America/New_York:20260207T140000
DTSTAMP:20260420T204130
CREATED:20260110T175855Z
LAST-MODIFIED:20260110T175855Z
UID:7360-1770458400-1770472800@hillsmereshores.org
SUMMARY:Come and Get it Day
DESCRIPTION:
URL:https://hillsmereshores.org/event/come-and-get-it-day/
LOCATION:Barn Commons @ Key School
ORGANIZER;CN="HSIA":MAILTO:admin@hillsmereshores.org
END:VEVENT
BEGIN:VEVENT
DTSTART;TZID=America/New_York:20260210T190000
DTEND;TZID=America/New_York:20260210T210000
DTSTAMP:20260420T204130
CREATED:20260110T180108Z
LAST-MODIFIED:20260110T180108Z
UID:7362-1770750000-1770757200@hillsmereshores.org
SUMMARY:Events Committee Meeting
DESCRIPTION:
URL:https://hillsmereshores.org/event/events-committee-meeting/
LOCATION:HSIA Community House\, 119 Great Lake Drive\, Annapolis\, MD\, 21403
END:VEVENT
BEGIN:VEVENT
DTSTART;TZID=America/New_York:20260224T180000
DTEND;TZID=America/New_York:20260224T190000
DTSTAMP:20260420T204130
CREATED:20260110T184315Z
LAST-MODIFIED:20260110T184315Z
UID:7383-1771956000-1771959600@hillsmereshores.org
SUMMARY:Bylaws Committee Meeting
DESCRIPTION:
URL:https://hillsmereshores.org/event/bylaws-committee-meeting-11/
LOCATION:HSIA Community House\, 119 Great Lake Drive\, Annapolis\, MD\, 21403
END:VEVENT
BEGIN:VEVENT
DTSTART;TZID=America/New_York:20260226T190000
DTEND;TZID=America/New_York:20260226T210000
DTSTAMP:20260420T204130
CREATED:20260110T183551Z
LAST-MODIFIED:20260110T183551Z
UID:7371-1772132400-1772139600@hillsmereshores.org
SUMMARY:HSIA Board Meeting
DESCRIPTION:
URL:https://hillsmereshores.org/event/hsia-board-meeting-46/
LOCATION:HSIA Community House\, 119 Great Lake Drive\, Annapolis\, MD\, 21403
ORGANIZER;CN="HSIA":MAILTO:admin@hillsmereshores.org
END:VEVENT
BEGIN:VEVENT
DTSTART;TZID=America/New_York:20260303T190000
DTEND;TZID=America/New_York:20260303T200000
DTSTAMP:20260420T204130
CREATED:20260110T184106Z
LAST-MODIFIED:20260110T184106Z
UID:7379-1772564400-1772568000@hillsmereshores.org
SUMMARY:Beach Committee Meeting
DESCRIPTION:
URL:https://hillsmereshores.org/event/beach-committee-meeting-15/
LOCATION:HSIA Community House\, 119 Great Lake Drive\, Annapolis\, MD\, 21403
END:VEVENT
BEGIN:VEVENT
DTSTART;TZID=America/New_York:20260310T190000
DTEND;TZID=America/New_York:20260310T200000
DTSTAMP:20260420T204130
CREATED:20260110T183853Z
LAST-MODIFIED:20260110T183853Z
UID:7375-1773169200-1773172800@hillsmereshores.org
SUMMARY:Piers & Harbors Committee Meeting
DESCRIPTION:
URL:https://hillsmereshores.org/event/piers-harbors-committee-meeting-60/
LOCATION:HSIA Community House\, 119 Great Lake Drive\, Annapolis\, MD\, 21403
END:VEVENT
BEGIN:VEVENT
DTSTART;TZID=America/New_York:20260312T184500
DTEND;TZID=America/New_York:20260312T210000
DTSTAMP:20260420T204130
CREATED:20260110T180943Z
LAST-MODIFIED:20260110T180943Z
UID:7367-1773341100-1773349200@hillsmereshores.org
SUMMARY:HSIA General Membership Meeting
DESCRIPTION:
URL:https://hillsmereshores.org/event/hsia-general-membership-meeting-38/
LOCATION:Barn Commons @ Key School
ORGANIZER;CN="HSIA":MAILTO:admin@hillsmereshores.org
END:VEVENT
BEGIN:VEVENT
DTSTART;TZID=America/New_York:20260324T180000
DTEND;TZID=America/New_York:20260324T190000
DTSTAMP:20260420T204130
CREATED:20260209T232418Z
LAST-MODIFIED:20260209T232418Z
UID:7473-1774375200-1774378800@hillsmereshores.org
SUMMARY:Bylaws Committee Meeting
DESCRIPTION:
URL:https://hillsmereshores.org/event/bylaws-committee-meeting-12/
LOCATION:HSIA Community House\, 119 Great Lake Drive\, Annapolis\, MD\, 21403
CATEGORIES:Committee Meeting
END:VEVENT
BEGIN:VEVENT
DTSTART;TZID=America/New_York:20260326T190000
DTEND;TZID=America/New_York:20260326T210000
DTSTAMP:20260420T204130
CREATED:20260208T223149Z
LAST-MODIFIED:20260208T223149Z
UID:7436-1774551600-1774558800@hillsmereshores.org
SUMMARY:HSIA Board Meeting
DESCRIPTION:
URL:https://hillsmereshores.org/event/hsia-board-meeting-47/
LOCATION:HSIA Community House\, 119 Great Lake Drive\, Annapolis\, MD\, 21403
CATEGORIES:Board Meeting
END:VEVENT
BEGIN:VEVENT
DTSTART;TZID=America/New_York:20260428T180000
DTEND;TZID=America/New_York:20260428T190000
DTSTAMP:20260420T204130
CREATED:20260209T232536Z
LAST-MODIFIED:20260209T232536Z
UID:7472-1777399200-1777402800@hillsmereshores.org
SUMMARY:Bylaws Committee Meeting
DESCRIPTION:
URL:https://hillsmereshores.org/event/bylaws-committee-meeting-13/
LOCATION:HSIA Community House\, 119 Great Lake Drive\, Annapolis\, MD\, 21403
CATEGORIES:Committee Meeting
END:VEVENT
BEGIN:VEVENT
DTSTART;TZID=America/New_York:20260430T190000
DTEND;TZID=America/New_York:20260430T210000
DTSTAMP:20260420T204130
CREATED:20260208T223539Z
LAST-MODIFIED:20260208T223539Z
UID:7435-1777575600-1777582800@hillsmereshores.org
SUMMARY:HSIA Board Meeting
DESCRIPTION:
URL:https://hillsmereshores.org/event/hsia-board-meeting-48/
LOCATION:HSIA Community House\, 119 Great Lake Drive\, Annapolis\, MD\, 21403
CATEGORIES:Board Meeting
END:VEVENT
BEGIN:VEVENT
DTSTART;TZID=America/New_York:20260505T190000
DTEND;TZID=America/New_York:20260505T210000
DTSTAMP:20260420T204130
CREATED:20260209T225609Z
LAST-MODIFIED:20260209T225609Z
UID:7455-1778007600-1778014800@hillsmereshores.org
SUMMARY:Beach Committee Meeting
DESCRIPTION:
URL:https://hillsmereshores.org/event/beach-committee-meeting-16/
LOCATION:HSIA Community House\, 119 Great Lake Drive\, Annapolis\, MD\, 21403
CATEGORIES:Beach,Committee Meeting
ORGANIZER;CN="Beach Committee":MAILTO:beach@hillsmereshores.org
END:VEVENT
BEGIN:VEVENT
DTSTART;TZID=America/New_York:20260512T190000
DTEND;TZID=America/New_York:20260512T210000
DTSTAMP:20260420T204130
CREATED:20260209T224652Z
LAST-MODIFIED:20260209T224652Z
UID:7447-1778612400-1778619600@hillsmereshores.org
SUMMARY:Piers & Harbors Committee Meeting
DESCRIPTION:
URL:https://hillsmereshores.org/event/piers-harbors-committee-meeting-61/
LOCATION:HSIA Community House\, 119 Great Lake Drive\, Annapolis\, MD\, 21403
CATEGORIES:Committee Meeting,Piers & Harbors
END:VEVENT
BEGIN:VEVENT
DTSTART;TZID=America/New_York:20260514T184500
DTEND;TZID=America/New_York:20260514T210000
DTSTAMP:20260420T204130
CREATED:20260208T221019Z
LAST-MODIFIED:20260208T221019Z
UID:7416-1778784300-1778792400@hillsmereshores.org
SUMMARY:HSIA General Membership Meeting
DESCRIPTION:
URL:https://hillsmereshores.org/event/hsia-general-membership-meeting-39/
LOCATION:Barn Commons @ Key School
CATEGORIES:General Meeting
ORGANIZER;CN="HSIA":MAILTO:admin@hillsmereshores.org
END:VEVENT
BEGIN:VEVENT
DTSTART;TZID=America/New_York:20260526T180000
DTEND;TZID=America/New_York:20260526T190000
DTSTAMP:20260420T204130
CREATED:20260209T232656Z
LAST-MODIFIED:20260209T232656Z
UID:7470-1779818400-1779822000@hillsmereshores.org
SUMMARY:Bylaws Committee Meeting
DESCRIPTION:
URL:https://hillsmereshores.org/event/bylaws-committee-meeting-14/
LOCATION:HSIA Community House\, 119 Great Lake Drive\, Annapolis\, MD\, 21403
CATEGORIES:Committee Meeting
END:VEVENT
BEGIN:VEVENT
DTSTART;TZID=America/New_York:20260528T190000
DTEND;TZID=America/New_York:20260528T210000
DTSTAMP:20260420T204130
CREATED:20260208T223726Z
LAST-MODIFIED:20260208T223726Z
UID:7434-1779994800-1780002000@hillsmereshores.org
SUMMARY:HSIA Board Meeting
DESCRIPTION:
URL:https://hillsmereshores.org/event/hsia-board-meeting-49/
LOCATION:HSIA Community House\, 119 Great Lake Drive\, Annapolis\, MD\, 21403
CATEGORIES:Board Meeting
END:VEVENT
BEGIN:VEVENT
DTSTART;TZID=America/New_York:20260623T180000
DTEND;TZID=America/New_York:20260623T190000
DTSTAMP:20260420T204130
CREATED:20260209T232818Z
LAST-MODIFIED:20260209T232818Z
UID:7469-1782237600-1782241200@hillsmereshores.org
SUMMARY:Bylaws Committee Meeting
DESCRIPTION:
URL:https://hillsmereshores.org/event/bylaws-committee-meeting-15/
LOCATION:HSIA Community House\, 119 Great Lake Drive\, Annapolis\, MD\, 21403
CATEGORIES:Committee Meeting
END:VEVENT
BEGIN:VEVENT
DTSTART;TZID=America/New_York:20260625T190000
DTEND;TZID=America/New_York:20260625T210000
DTSTAMP:20260420T204130
CREATED:20260208T223902Z
LAST-MODIFIED:20260208T223902Z
UID:7433-1782414000-1782421200@hillsmereshores.org
SUMMARY:HSIA Board Meeting
DESCRIPTION:
URL:https://hillsmereshores.org/event/hsia-board-meeting-50/
LOCATION:HSIA Community House\, 119 Great Lake Drive\, Annapolis\, MD\, 21403
CATEGORIES:Board Meeting
END:VEVENT
BEGIN:VEVENT
DTSTART;TZID=America/New_York:20260707T190000
DTEND;TZID=America/New_York:20260707T210000
DTSTAMP:20260420T204130
CREATED:20260209T225753Z
LAST-MODIFIED:20260209T225753Z
UID:7456-1783450800-1783458000@hillsmereshores.org
SUMMARY:Beach Committee Meeting
DESCRIPTION:
URL:https://hillsmereshores.org/event/beach-committee-meeting-17/
LOCATION:HSIA Community House\, 119 Great Lake Drive\, Annapolis\, MD\, 21403
CATEGORIES:Beach,Committee Meeting
ORGANIZER;CN="Beach Committee":MAILTO:beach@hillsmereshores.org
END:VEVENT
BEGIN:VEVENT
DTSTART;TZID=America/New_York:20260709T184500
DTEND;TZID=America/New_York:20260709T210000
DTSTAMP:20260420T204130
CREATED:20260208T222009Z
LAST-MODIFIED:20260208T222009Z
UID:7421-1783622700-1783630800@hillsmereshores.org
SUMMARY:HSIA General Membership Meeting
DESCRIPTION:
URL:https://hillsmereshores.org/event/hsia-general-membership-meeting-40/
LOCATION:Barn Commons @ Key School
CATEGORIES:General Meeting
ORGANIZER;CN="HSIA":MAILTO:admin@hillsmereshores.org
END:VEVENT
BEGIN:VEVENT
DTSTART;TZID=America/New_York:20260714T190000
DTEND;TZID=America/New_York:20260714T210000
DTSTAMP:20260420T204130
CREATED:20260209T224824Z
LAST-MODIFIED:20260209T224824Z
UID:7448-1784055600-1784062800@hillsmereshores.org
SUMMARY:Piers & Harbors Committee Meeting
DESCRIPTION:
URL:https://hillsmereshores.org/event/piers-harbors-committee-meeting-62/
LOCATION:HSIA Community House\, 119 Great Lake Drive\, Annapolis\, MD\, 21403
CATEGORIES:Committee Meeting,Piers & Harbors
END:VEVENT
BEGIN:VEVENT
DTSTART;TZID=America/New_York:20260728T180000
DTEND;TZID=America/New_York:20260728T190000
DTSTAMP:20260420T204130
CREATED:20260209T233427Z
LAST-MODIFIED:20260209T233427Z
UID:7468-1785261600-1785265200@hillsmereshores.org
SUMMARY:Bylaws Committee Meeting
DESCRIPTION:
URL:https://hillsmereshores.org/event/bylaws-committee-meeting-16/
LOCATION:HSIA Community House\, 119 Great Lake Drive\, Annapolis\, MD\, 21403
CATEGORIES:Committee Meeting
END:VEVENT
BEGIN:VEVENT
DTSTART;TZID=America/New_York:20260730T190000
DTEND;TZID=America/New_York:20260730T210000
DTSTAMP:20260420T204130
CREATED:20260208T224021Z
LAST-MODIFIED:20260208T224021Z
UID:7432-1785438000-1785445200@hillsmereshores.org
SUMMARY:HSIA Board Meeting
DESCRIPTION:
URL:https://hillsmereshores.org/event/hsia-board-meeting-51/
LOCATION:HSIA Community House\, 119 Great Lake Drive\, Annapolis\, MD\, 21403
CATEGORIES:Board Meeting
END:VEVENT
BEGIN:VEVENT
DTSTART;TZID=America/New_York:20260825T180000
DTEND;TZID=America/New_York:20260825T190000
DTSTAMP:20260420T204130
CREATED:20260209T233636Z
LAST-MODIFIED:20260209T233636Z
UID:7467-1787680800-1787684400@hillsmereshores.org
SUMMARY:Bylaws Committee Meeting
DESCRIPTION:
URL:https://hillsmereshores.org/event/bylaws-committee-meeting-17/
LOCATION:HSIA Community House\, 119 Great Lake Drive\, Annapolis\, MD\, 21403
CATEGORIES:Committee Meeting
END:VEVENT
BEGIN:VEVENT
DTSTART;TZID=America/New_York:20260827T190000
DTEND;TZID=America/New_York:20260827T210000
DTSTAMP:20260420T204130
CREATED:20260208T224146Z
LAST-MODIFIED:20260208T224146Z
UID:7431-1787857200-1787864400@hillsmereshores.org
SUMMARY:HSIA Board Meeting
DESCRIPTION:
URL:https://hillsmereshores.org/event/hsia-board-meeting-52/
LOCATION:HSIA Community House\, 119 Great Lake Drive\, Annapolis\, MD\, 21403
CATEGORIES:Board Meeting
END:VEVENT
END:VCALENDAR