BEGIN:VCALENDAR
VERSION:2.0
PRODID:-//Hillsmere Shores - ECPv6.15.20//NONSGML v1.0//EN
CALSCALE:GREGORIAN
METHOD:PUBLISH
X-WR-CALNAME:Hillsmere Shores
X-ORIGINAL-URL:https://hillsmereshores.org
X-WR-CALDESC:Events for Hillsmere Shores
REFRESH-INTERVAL;VALUE=DURATION:PT1H
X-Robots-Tag:noindex
X-PUBLISHED-TTL:PT1H
BEGIN:VTIMEZONE
TZID:America/New_York
BEGIN:DAYLIGHT
TZOFFSETFROM:-0500
TZOFFSETTO:-0400
TZNAME:EDT
DTSTART:20230312T070000
END:DAYLIGHT
BEGIN:STANDARD
TZOFFSETFROM:-0400
TZOFFSETTO:-0500
TZNAME:EST
DTSTART:20231105T060000
END:STANDARD
BEGIN:DAYLIGHT
TZOFFSETFROM:-0500
TZOFFSETTO:-0400
TZNAME:EDT
DTSTART:20240310T070000
END:DAYLIGHT
BEGIN:STANDARD
TZOFFSETFROM:-0400
TZOFFSETTO:-0500
TZNAME:EST
DTSTART:20241103T060000
END:STANDARD
BEGIN:DAYLIGHT
TZOFFSETFROM:-0500
TZOFFSETTO:-0400
TZNAME:EDT
DTSTART:20250309T070000
END:DAYLIGHT
BEGIN:STANDARD
TZOFFSETFROM:-0400
TZOFFSETTO:-0500
TZNAME:EST
DTSTART:20251102T060000
END:STANDARD
BEGIN:DAYLIGHT
TZOFFSETFROM:-0500
TZOFFSETTO:-0400
TZNAME:EDT
DTSTART:20260308T070000
END:DAYLIGHT
BEGIN:STANDARD
TZOFFSETFROM:-0400
TZOFFSETTO:-0500
TZNAME:EST
DTSTART:20261101T060000
END:STANDARD
END:VTIMEZONE
BEGIN:VEVENT
DTSTART;TZID=America/New_York:20251016T190000
DTEND;TZID=America/New_York:20251016T210000
DTSTAMP:20260420T144112
CREATED:20251008T231754Z
LAST-MODIFIED:20251008T231754Z
UID:7250-1760641200-1760648400@hillsmereshores.org
SUMMARY:Meet the Candidates Night
DESCRIPTION:
URL:https://hillsmereshores.org/event/meet-the-candidates-night/
LOCATION:Key School Barn Commons
END:VEVENT
BEGIN:VEVENT
DTSTART;TZID=America/New_York:20250925T190000
DTEND;TZID=America/New_York:20250925T210000
DTSTAMP:20260420T144112
CREATED:20250311T235212Z
LAST-MODIFIED:20250311T235212Z
UID:7094-1758826800-1758834000@hillsmereshores.org
SUMMARY:HSIA Board Meeting
DESCRIPTION:HSIA’s Board of Directors meets on the last Thursday of every month\, unless otherwise noted. Meetings begin at 7PM. All are welcome to attend Board meetings\, however\, guests are not permitted to participate in the meeting unless recognized by the Board. \nVirtual attendance is also an option. Please use the following Zoom meeting ID and passcode to attend. A link is provided below for your convenience. \nhttps://zoom.us/j/91377088235?pwd=OGtMNEdKVTBNU0lXb2JqTlh2RUFUdz09 \nMeeting ID: 913 7708 8235\nPasscode: 377266 \nAny questions or comments can be sent to communications@hillsmereshores.org \nHope to see you in-person or online!
URL:https://hillsmereshores.org/event/hsia-board-meeting-40/
LOCATION:HSIA Community House\, 119 Great Lake Drive\, Annapolis\, MD\, 21403
ORGANIZER;CN="HSIA":MAILTO:admin@hillsmereshores.org
END:VEVENT
BEGIN:VEVENT
DTSTART;TZID=America/New_York:20250911T184500
DTEND;TZID=America/New_York:20250911T210000
DTSTAMP:20260420T144112
CREATED:20250311T233359Z
LAST-MODIFIED:20250311T233816Z
UID:7075-1757616300-1757624400@hillsmereshores.org
SUMMARY:HSIA General Membership Meeting
DESCRIPTION:HSIA General Membership meetings are held bi-monthly in the Barn Commons on Key School campus. Meetings begin at 6:45pm. General Membership meetings are open to all to attend and participate. \nVirtual attendance is also an option. Please use the following Zoom meeting ID and passcode to attend. A link is provided below for your convenience. \nhttps://zoom.us/j/91377088235?pwd=OGtMNEdKVTBNU0lXb2JqTlh2RUFUdz09 \nMeeting ID: 913 7708 8235\nPasscode: 377266 \nAny questions or comments can be sent to communications@hillsmereshores.org \nHope to see you in-person or online!
URL:https://hillsmereshores.org/event/hsia-general-membership-meeting-35/
LOCATION:Barn Commons @ Key School
ORGANIZER;CN="HSIA":MAILTO:admin@hillsmereshores.org
END:VEVENT
BEGIN:VEVENT
DTSTART;TZID=America/New_York:20250909T190000
DTEND;TZID=America/New_York:20250909T200000
DTSTAMP:20260420T144112
CREATED:20250312T000140Z
LAST-MODIFIED:20250312T000140Z
UID:7110-1757444400-1757448000@hillsmereshores.org
SUMMARY:Piers & Harbors Committee Meeting
DESCRIPTION:Piers & Harbors meetings are held bi-monthly\, on the second Tuesday of the month. P&H meetings begin at 7pm in Hillsmere’s Community House\, located 119 Great Lake Drive. \nAll Slip Holders\, Ramp Key Holders\, Wait Listers\, Kayakers\, Boat Parkers\, etc. are invited to attend. Volunteers are always needed and welcomed! \nIn the interim\, please direct your questions\, issues\, concerns\, and comments to marina@hillsmereshores.org and be on the lookout for Special P&H Notices.
URL:https://hillsmereshores.org/event/piers-harbors-committee-meeting-57/
LOCATION:HSIA Community House\, 119 Great Lake Drive\, Annapolis\, MD\, 21403
END:VEVENT
BEGIN:VEVENT
DTSTART;TZID=America/New_York:20250902T190000
DTEND;TZID=America/New_York:20250902T200000
DTSTAMP:20260420T144112
CREATED:20250315T163339Z
LAST-MODIFIED:20250315T163339Z
UID:7126-1756839600-1756843200@hillsmereshores.org
SUMMARY:Beach Committee Meeting
DESCRIPTION:Beach Committee Meeting
URL:https://hillsmereshores.org/event/beach-committee-meeting-13/
LOCATION:HSIA Community House\, 119 Great Lake Drive\, Annapolis\, MD\, 21403
ORGANIZER;CN="Beach Committee":MAILTO:beach@hillsmereshores.org
END:VEVENT
BEGIN:VEVENT
DTSTART;TZID=America/New_York:20250828T190000
DTEND;TZID=America/New_York:20250828T210000
DTSTAMP:20260420T144112
CREATED:20250311T235125Z
LAST-MODIFIED:20250311T235125Z
UID:7093-1756407600-1756414800@hillsmereshores.org
SUMMARY:HSIA Board Meeting
DESCRIPTION:HSIA’s Board of Directors meets on the last Thursday of every month\, unless otherwise noted. Meetings begin at 7PM. All are welcome to attend Board meetings\, however\, guests are not permitted to participate in the meeting unless recognized by the Board. \nVirtual attendance is also an option. Please use the following Zoom meeting ID and passcode to attend. A link is provided below for your convenience. \nhttps://zoom.us/j/91377088235?pwd=OGtMNEdKVTBNU0lXb2JqTlh2RUFUdz09 \nMeeting ID: 913 7708 8235\nPasscode: 377266 \nAny questions or comments can be sent to communications@hillsmereshores.org \nHope to see you in-person or online!
URL:https://hillsmereshores.org/event/hsia-board-meeting-39/
LOCATION:HSIA Community House\, 119 Great Lake Drive\, Annapolis\, MD\, 21403
ORGANIZER;CN="HSIA":MAILTO:admin@hillsmereshores.org
END:VEVENT
BEGIN:VEVENT
DTSTART;TZID=America/New_York:20250731T190000
DTEND;TZID=America/New_York:20250731T210000
DTSTAMP:20260420T144112
CREATED:20250311T235035Z
LAST-MODIFIED:20250311T235035Z
UID:7092-1753988400-1753995600@hillsmereshores.org
SUMMARY:HSIA Board Meeting
DESCRIPTION:HSIA’s Board of Directors meets on the last Thursday of every month\, unless otherwise noted. Meetings begin at 7PM. All are welcome to attend Board meetings\, however\, guests are not permitted to participate in the meeting unless recognized by the Board. \nVirtual attendance is also an option. Please use the following Zoom meeting ID and passcode to attend. A link is provided below for your convenience. \nhttps://zoom.us/j/91377088235?pwd=OGtMNEdKVTBNU0lXb2JqTlh2RUFUdz09 \nMeeting ID: 913 7708 8235\nPasscode: 377266 \nAny questions or comments can be sent to communications@hillsmereshores.org \nHope to see you in-person or online!
URL:https://hillsmereshores.org/event/hsia-board-meeting-38/
LOCATION:HSIA Community House\, 119 Great Lake Drive\, Annapolis\, MD\, 21403
ORGANIZER;CN="HSIA":MAILTO:admin@hillsmereshores.org
END:VEVENT
BEGIN:VEVENT
DTSTART;TZID=America/New_York:20250710T184500
DTEND;TZID=America/New_York:20250710T210000
DTSTAMP:20260420T144112
CREATED:20250311T233257Z
LAST-MODIFIED:20250311T233808Z
UID:7076-1752173100-1752181200@hillsmereshores.org
SUMMARY:HSIA General Membership Meeting
DESCRIPTION:HSIA General Membership meetings are held bi-monthly in the Barn Commons on Key School campus. Meetings begin at 6:45pm. General Membership meetings are open to all to attend and participate. \nVirtual attendance is also an option. Please use the following Zoom meeting ID and passcode to attend. A link is provided below for your convenience. \nhttps://zoom.us/j/91377088235?pwd=OGtMNEdKVTBNU0lXb2JqTlh2RUFUdz09 \nMeeting ID: 913 7708 8235\nPasscode: 377266 \nAny questions or comments can be sent to communications@hillsmereshores.org \nHope to see you in-person or online!
URL:https://hillsmereshores.org/event/hsia-general-membership-meeting-34/
LOCATION:Barn Commons @ Key School
ORGANIZER;CN="HSIA":MAILTO:admin@hillsmereshores.org
END:VEVENT
BEGIN:VEVENT
DTSTART;TZID=America/New_York:20250708T190000
DTEND;TZID=America/New_York:20250708T200000
DTSTAMP:20260420T144112
CREATED:20250312T000028Z
LAST-MODIFIED:20250312T000028Z
UID:7109-1752001200-1752004800@hillsmereshores.org
SUMMARY:Piers & Harbors Committee Meeting
DESCRIPTION:Piers & Harbors meetings are held bi-monthly\, on the second Tuesday of the month. P&H meetings begin at 7pm in Hillsmere’s Community House\, located 119 Great Lake Drive. \nAll Slip Holders\, Ramp Key Holders\, Wait Listers\, Kayakers\, Boat Parkers\, etc. are invited to attend. Volunteers are always needed and welcomed! \nIn the interim\, please direct your questions\, issues\, concerns\, and comments to marina@hillsmereshores.org and be on the lookout for Special P&H Notices.
URL:https://hillsmereshores.org/event/piers-harbors-committee-meeting-56/
LOCATION:HSIA Community House\, 119 Great Lake Drive\, Annapolis\, MD\, 21403
END:VEVENT
BEGIN:VEVENT
DTSTART;TZID=America/New_York:20250701T190000
DTEND;TZID=America/New_York:20250701T200000
DTSTAMP:20260420T144112
CREATED:20250315T163255Z
LAST-MODIFIED:20250315T163255Z
UID:7125-1751396400-1751400000@hillsmereshores.org
SUMMARY:Beach Committee Meeting
DESCRIPTION:Beach Committee Meeting
URL:https://hillsmereshores.org/event/beach-committee-meeting-12/
LOCATION:HSIA Community House\, 119 Great Lake Drive\, Annapolis\, MD\, 21403
ORGANIZER;CN="Beach Committee":MAILTO:beach@hillsmereshores.org
END:VEVENT
BEGIN:VEVENT
DTSTART;TZID=America/New_York:20250626T190000
DTEND;TZID=America/New_York:20250626T210000
DTSTAMP:20260420T144112
CREATED:20250311T234952Z
LAST-MODIFIED:20250311T234952Z
UID:7091-1750964400-1750971600@hillsmereshores.org
SUMMARY:HSIA Board Meeting
DESCRIPTION:HSIA’s Board of Directors meets on the last Thursday of every month\, unless otherwise noted. Meetings begin at 7PM. All are welcome to attend Board meetings\, however\, guests are not permitted to participate in the meeting unless recognized by the Board. \nVirtual attendance is also an option. Please use the following Zoom meeting ID and passcode to attend. A link is provided below for your convenience. \nhttps://zoom.us/j/91377088235?pwd=OGtMNEdKVTBNU0lXb2JqTlh2RUFUdz09 \nMeeting ID: 913 7708 8235\nPasscode: 377266 \nAny questions or comments can be sent to communications@hillsmereshores.org \nHope to see you in-person or online!
URL:https://hillsmereshores.org/event/hsia-board-meeting-37/
LOCATION:HSIA Community House\, 119 Great Lake Drive\, Annapolis\, MD\, 21403
ORGANIZER;CN="HSIA":MAILTO:admin@hillsmereshores.org
END:VEVENT
BEGIN:VEVENT
DTSTART;TZID=America/New_York:20250529T190000
DTEND;TZID=America/New_York:20250529T210000
DTSTAMP:20260420T144112
CREATED:20250311T234901Z
LAST-MODIFIED:20250311T234901Z
UID:7090-1748545200-1748552400@hillsmereshores.org
SUMMARY:HSIA Board Meeting
DESCRIPTION:HSIA’s Board of Directors meets on the last Thursday of every month\, unless otherwise noted. Meetings begin at 7PM. All are welcome to attend Board meetings\, however\, guests are not permitted to participate in the meeting unless recognized by the Board. \nVirtual attendance is also an option. Please use the following Zoom meeting ID and passcode to attend. A link is provided below for your convenience. \nhttps://zoom.us/j/91377088235?pwd=OGtMNEdKVTBNU0lXb2JqTlh2RUFUdz09 \nMeeting ID: 913 7708 8235\nPasscode: 377266 \nAny questions or comments can be sent to communications@hillsmereshores.org \nHope to see you in-person or online!
URL:https://hillsmereshores.org/event/hsia-board-meeting-36/
LOCATION:HSIA Community House\, 119 Great Lake Drive\, Annapolis\, MD\, 21403
ORGANIZER;CN="HSIA":MAILTO:admin@hillsmereshores.org
END:VEVENT
BEGIN:VEVENT
DTSTART;TZID=America/New_York:20250513T190000
DTEND;TZID=America/New_York:20250513T200000
DTSTAMP:20260420T144112
CREATED:20250311T235950Z
LAST-MODIFIED:20250311T235950Z
UID:7108-1747162800-1747166400@hillsmereshores.org
SUMMARY:Piers & Harbors Committee Meeting
DESCRIPTION:Piers & Harbors meetings are held bi-monthly\, on the second Tuesday of the month. P&H meetings begin at 7pm in Hillsmere’s Community House\, located 119 Great Lake Drive. \nAll Slip Holders\, Ramp Key Holders\, Wait Listers\, Kayakers\, Boat Parkers\, etc. are invited to attend. Volunteers are always needed and welcomed! \nIn the interim\, please direct your questions\, issues\, concerns\, and comments to marina@hillsmereshores.org and be on the lookout for Special P&H Notices.
URL:https://hillsmereshores.org/event/piers-harbors-committee-meeting-55/
LOCATION:HSIA Community House\, 119 Great Lake Drive\, Annapolis\, MD\, 21403
END:VEVENT
BEGIN:VEVENT
DTSTART;TZID=America/New_York:20250508T184500
DTEND;TZID=America/New_York:20250508T210000
DTSTAMP:20260420T144112
CREATED:20250311T233129Z
LAST-MODIFIED:20250311T233759Z
UID:7077-1746729900-1746738000@hillsmereshores.org
SUMMARY:HSIA General Membership Meeting
DESCRIPTION:HSIA General Membership meetings are held bi-monthly in the Barn Commons on Key School campus. Meetings begin at 6:45pm. General Membership meetings are open to all to attend and participate. \nVirtual attendance is also an option. Please use the following Zoom meeting ID and passcode to attend. A link is provided below for your convenience. \nhttps://zoom.us/j/91377088235?pwd=OGtMNEdKVTBNU0lXb2JqTlh2RUFUdz09 \nMeeting ID: 913 7708 8235\nPasscode: 377266 \nAny questions or comments can be sent to communications@hillsmereshores.org \nHope to see you in-person or online!
URL:https://hillsmereshores.org/event/hsia-general-membership-meeting-33/
LOCATION:Barn Commons @ Key School
ORGANIZER;CN="HSIA":MAILTO:admin@hillsmereshores.org
END:VEVENT
BEGIN:VEVENT
DTSTART;TZID=America/New_York:20250506T190000
DTEND;TZID=America/New_York:20250506T200000
DTSTAMP:20260420T144112
CREATED:20250315T163125Z
LAST-MODIFIED:20250315T163125Z
UID:7123-1746558000-1746561600@hillsmereshores.org
SUMMARY:Beach Committee Meeting
DESCRIPTION:Beach Committee Meeting
URL:https://hillsmereshores.org/event/beach-committee-meeting-11/
LOCATION:HSIA Community House\, 119 Great Lake Drive\, Annapolis\, MD\, 21403
ORGANIZER;CN="Beach Committee":MAILTO:beach@hillsmereshores.org
END:VEVENT
BEGIN:VEVENT
DTSTART;TZID=America/New_York:20250424T190000
DTEND;TZID=America/New_York:20250424T210000
DTSTAMP:20260420T144112
CREATED:20250311T234748Z
LAST-MODIFIED:20250311T234748Z
UID:7089-1745521200-1745528400@hillsmereshores.org
SUMMARY:HSIA Board Meeting
DESCRIPTION:HSIA’s Board of Directors meets on the last Thursday of every month\, unless otherwise noted. Meetings begin at 7PM. All are welcome to attend Board meetings\, however\, guests are not permitted to participate in the meeting unless recognized by the Board. \nVirtual attendance is also an option. Please use the following Zoom meeting ID and passcode to attend. A link is provided below for your convenience. \nhttps://zoom.us/j/91377088235?pwd=OGtMNEdKVTBNU0lXb2JqTlh2RUFUdz09 \nMeeting ID: 913 7708 8235\nPasscode: 377266 \nAny questions or comments can be sent to communications@hillsmereshores.org \nHope to see you in-person or online!
URL:https://hillsmereshores.org/event/hsia-board-meeting-35/
LOCATION:HSIA Community House\, 119 Great Lake Drive\, Annapolis\, MD\, 21403
ORGANIZER;CN="HSIA":MAILTO:admin@hillsmereshores.org
END:VEVENT
BEGIN:VEVENT
DTSTART;TZID=America/New_York:20250327T190000
DTEND;TZID=America/New_York:20250327T210000
DTSTAMP:20260420T144112
CREATED:20250309T172609Z
LAST-MODIFIED:20250309T172609Z
UID:7042-1743102000-1743109200@hillsmereshores.org
SUMMARY:HSIA Board Meeting
DESCRIPTION:HSIA’s Board of Directors meets on the last Thursday of every month\, unless otherwise noted. Meetings begin at 7PM. All are welcome to attend Board meetings\, however\, guests are not permitted to participate in the meeting unless recognized by the Board. \nVirtual attendance is also an option. Please use the following Zoom meeting ID and passcode to attend. A link is provided below for your convenience. \nhttps://zoom.us/j/91377088235?pwd=OGtMNEdKVTBNU0lXb2JqTlh2RUFUdz09 \nMeeting ID: 913 7708 8235\nPasscode: 377266 \nAny questions or comments can be sent to communications@hillsmereshores.org \nHope to see you in-person or online!
URL:https://hillsmereshores.org/event/hsia-board-meeting-34/
LOCATION:HSIA Community House\, 119 Great Lake Drive\, Annapolis\, MD\, 21403
ORGANIZER;CN="HSIA":MAILTO:admin@hillsmereshores.org
END:VEVENT
BEGIN:VEVENT
DTSTART;TZID=America/New_York:20250313T184500
DTEND;TZID=America/New_York:20250313T210000
DTSTAMP:20260420T144112
CREATED:20250309T173335Z
LAST-MODIFIED:20250311T233835Z
UID:7044-1741891500-1741899600@hillsmereshores.org
SUMMARY:HSIA General Membership Meeting
DESCRIPTION:HSIA General Membership meetings are held bi-monthly in the Barn Commons on Key School campus. Meetings begin at 6:45pm. General Membership meetings are open to all to attend and participate. \nVirtual attendance is also an option. Please use the following Zoom meeting ID and passcode to attend. A link is provided below for your convenience. \nhttps://zoom.us/j/91377088235?pwd=OGtMNEdKVTBNU0lXb2JqTlh2RUFUdz09 \nMeeting ID: 913 7708 8235\nPasscode: 377266 \nAny questions or comments can be sent to communications@hillsmereshores.org \nHope to see you in-person or online!
URL:https://hillsmereshores.org/event/hsia-general-membership-meeting-32/
LOCATION:Barn Commons @ Key School
ORGANIZER;CN="HSIA":MAILTO:admin@hillsmereshores.org
END:VEVENT
BEGIN:VEVENT
DTSTART;TZID=America/New_York:20250311T190000
DTEND;TZID=America/New_York:20250311T200000
DTSTAMP:20260420T144112
CREATED:20250309T174316Z
LAST-MODIFIED:20250309T174316Z
UID:7047-1741719600-1741723200@hillsmereshores.org
SUMMARY:Piers & Harbors Committee Meeting
DESCRIPTION:Piers & Harbors meetings are held bi-monthly\, on the second Tuesday of the month. P&H meetings begin at 7pm in Hillsmere’s Community House\, located 119 Great Lake Drive. \nAll Slip Holders\, Ramp Key Holders\, Wait Listers\, Kayakers\, Boat Parkers\, etc. are invited to attend. Volunteers are always needed and welcomed! \nIn the interim\, please direct your questions\, issues\, concerns\, and comments to marina@hillsmereshores.org and be on the lookout for Special P&H Notices.
URL:https://hillsmereshores.org/event/piers-harbors-committee-meeting-54/
LOCATION:HSIA Community House\, 119 Great Lake Drive\, Annapolis\, MD\, 21403
END:VEVENT
BEGIN:VEVENT
DTSTART;TZID=America/New_York:20241219T190000
DTEND;TZID=America/New_York:20241219T210000
DTSTAMP:20260420T144112
CREATED:20240106T062650Z
LAST-MODIFIED:20240123T090417Z
UID:6616-1734634800-1734642000@hillsmereshores.org
SUMMARY:HSIA Board Meeting
DESCRIPTION:HSIA’s Board of Directors meets on the last Thursday of every month\, unless otherwise noted. Meetings begin at 7PM. All are welcome to attend Board meetings\, however\, guests are not permitted to participate in the meeting unless recognized by the Board. \nVirtual attendance is also an option. Please use the following Zoom meeting ID and passcode to attend. A link is provided below for your convenience. \nhttps://zoom.us/j/91377088235?pwd=OGtMNEdKVTBNU0lXb2JqTlh2RUFUdz09 \nMeeting ID: 913 7708 8235\nPasscode: 377266 \nAny questions or comments can be sent to communications@hillsmereshores.org \nHope to see you in-person or online!
URL:https://hillsmereshores.org/event/hsia-board-meeting-33/
LOCATION:HSIA Community House\, 119 Great Lake Drive\, Annapolis\, MD\, 21403
ORGANIZER;CN="HSIA":MAILTO:admin@hillsmereshores.org
END:VEVENT
BEGIN:VEVENT
DTSTART;TZID=America/New_York:20241217T190000
DTEND;TZID=America/New_York:20241217T210000
DTSTAMP:20260420T144112
CREATED:20240106T071531Z
LAST-MODIFIED:20240106T071531Z
UID:6681-1734462000-1734469200@hillsmereshores.org
SUMMARY:Environmental Committee Meeting
DESCRIPTION:Contact environment@hillsmereshores.org for information about committee activities.
URL:https://hillsmereshores.org/event/environmental-committee-meeting-23/
LOCATION:HSIA Community House\, 119 Great Lake Drive\, Annapolis\, MD\, 21403
ORGANIZER;CN="Environmental Committee":MAILTO:environment@hillsmereshores.org
END:VEVENT
BEGIN:VEVENT
DTSTART;TZID=America/New_York:20241121T190000
DTEND;TZID=America/New_York:20241121T210000
DTSTAMP:20260420T144112
CREATED:20240106T062605Z
LAST-MODIFIED:20240123T090353Z
UID:6614-1732215600-1732222800@hillsmereshores.org
SUMMARY:HSIA Board Meeting
DESCRIPTION:HSIA’s Board of Directors meets on the last Thursday of every month\, unless otherwise noted. Meetings begin at 7PM. All are welcome to attend Board meetings\, however\, guests are not permitted to participate in the meeting unless recognized by the Board. \nVirtual attendance is also an option. Please use the following Zoom meeting ID and passcode to attend. A link is provided below for your convenience. \nhttps://zoom.us/j/91377088235?pwd=OGtMNEdKVTBNU0lXb2JqTlh2RUFUdz09 \nMeeting ID: 913 7708 8235\nPasscode: 377266 \nAny questions or comments can be sent to communications@hillsmereshores.org \nHope to see you in-person or online!
URL:https://hillsmereshores.org/event/hsia-board-meeting-32/
LOCATION:HSIA Community House\, 119 Great Lake Drive\, Annapolis\, MD\, 21403
ORGANIZER;CN="HSIA":MAILTO:admin@hillsmereshores.org
END:VEVENT
BEGIN:VEVENT
DTSTART;TZID=America/New_York:20241119T190000
DTEND;TZID=America/New_York:20241119T210000
DTSTAMP:20260420T144112
CREATED:20240106T071440Z
LAST-MODIFIED:20240106T071440Z
UID:6679-1732042800-1732050000@hillsmereshores.org
SUMMARY:Environmental Committee Meeting
DESCRIPTION:Contact environment@hillsmereshores.org for information about committee activities.
URL:https://hillsmereshores.org/event/environmental-committee-meeting-22/
LOCATION:HSIA Community House\, 119 Great Lake Drive\, Annapolis\, MD\, 21403
ORGANIZER;CN="Environmental Committee":MAILTO:environment@hillsmereshores.org
END:VEVENT
BEGIN:VEVENT
DTSTART;TZID=America/New_York:20241114T190000
DTEND;TZID=America/New_York:20241114T210000
DTSTAMP:20260420T144112
CREATED:20240106T064352Z
LAST-MODIFIED:20240106T064352Z
UID:6631-1731610800-1731618000@hillsmereshores.org
SUMMARY:HSIA General Membership Meeting
DESCRIPTION:HSIA General Membership meetings are held bi-monthly in the Barn Commons on Key School campus. Meetings begin at 7pm. General Membership meetings are open to all to attend and participate.
URL:https://hillsmereshores.org/event/hsia-general-membership-meeting-31/
LOCATION:Barn Commons @ Key School
ORGANIZER;CN="HSIA":MAILTO:admin@hillsmereshores.org
END:VEVENT
BEGIN:VEVENT
DTSTART;TZID=America/New_York:20241112T190000
DTEND;TZID=America/New_York:20241112T210000
DTSTAMP:20260420T144112
CREATED:20240106T065559Z
LAST-MODIFIED:20240106T065559Z
UID:6645-1731438000-1731445200@hillsmereshores.org
SUMMARY:Piers & Harbors Committee Meeting
DESCRIPTION:Piers & Harbors meetings are held bi-monthly\, on the second Tuesday of the month. P&H meetings begin at 7pm in Hillsmere’s Community House\, located 119 Great Lake Drive. \nAll Slip Holders\, Ramp Key Holders\, Wait Listers\, Kayakers\, Boat Parkers\, etc. are invited to attend. Volunteers are always needed and welcomed! \nIn the interim\, please direct your questions\, issues\, concerns\, and comments to marina@hillsmereshores.org and be on the lookout for Special P&H Notices.
URL:https://hillsmereshores.org/event/piers-harbors-committee-meeting-53/
LOCATION:HSIA Community House\, 119 Great Lake Drive\, Annapolis\, MD\, 21403
END:VEVENT
BEGIN:VEVENT
DTSTART;TZID=America/New_York:20241111T190000
DTEND;TZID=America/New_York:20241111T210000
DTSTAMP:20260420T144112
CREATED:20240106T070136Z
LAST-MODIFIED:20240106T070136Z
UID:6657-1731351600-1731358800@hillsmereshores.org
SUMMARY:HSIA Events Committee Meeting
DESCRIPTION:
URL:https://hillsmereshores.org/event/hsia-events-committee-meeting-6/
LOCATION:HSIA Community House\, 119 Great Lake Drive\, Annapolis\, MD\, 21403
ORGANIZER;CN="HSIA":MAILTO:admin@hillsmereshores.org
END:VEVENT
BEGIN:VEVENT
DTSTART;TZID=America/New_York:20241024T190000
DTEND;TZID=America/New_York:20241024T210000
DTSTAMP:20260420T144112
CREATED:20240106T062512Z
LAST-MODIFIED:20240123T090307Z
UID:6612-1729796400-1729803600@hillsmereshores.org
SUMMARY:HSIA Board Meeting
DESCRIPTION:HSIA’s Board of Directors meets on the last Thursday of every month\, unless otherwise noted. Meetings begin at 7PM. All are welcome to attend Board meetings\, however\, guests are not permitted to participate in the meeting unless recognized by the Board. \nVirtual attendance is also an option. Please use the following Zoom meeting ID and passcode to attend. A link is provided below for your convenience. \nhttps://zoom.us/j/91377088235?pwd=OGtMNEdKVTBNU0lXb2JqTlh2RUFUdz09 \nMeeting ID: 913 7708 8235\nPasscode: 377266 \nAny questions or comments can be sent to communications@hillsmereshores.org \nHope to see you in-person or online!
URL:https://hillsmereshores.org/event/hsia-board-meeting-31/
LOCATION:HSIA Community House\, 119 Great Lake Drive\, Annapolis\, MD\, 21403
ORGANIZER;CN="HSIA":MAILTO:admin@hillsmereshores.org
END:VEVENT
BEGIN:VEVENT
DTSTART;TZID=America/New_York:20241021T190000
DTEND;TZID=America/New_York:20241021T210000
DTSTAMP:20260420T144112
CREATED:20240106T070055Z
LAST-MODIFIED:20240106T070055Z
UID:6655-1729537200-1729544400@hillsmereshores.org
SUMMARY:HSIA Events Committee Meeting
DESCRIPTION:
URL:https://hillsmereshores.org/event/hsia-events-committee-meeting-5/
LOCATION:HSIA Community House\, 119 Great Lake Drive\, Annapolis\, MD\, 21403
ORGANIZER;CN="HSIA":MAILTO:admin@hillsmereshores.org
END:VEVENT
BEGIN:VEVENT
DTSTART;TZID=America/New_York:20241015T190000
DTEND;TZID=America/New_York:20241015T210000
DTSTAMP:20260420T144112
CREATED:20240106T071356Z
LAST-MODIFIED:20240106T071356Z
UID:6677-1729018800-1729026000@hillsmereshores.org
SUMMARY:Environmental Committee Meeting
DESCRIPTION:Contact environment@hillsmereshores.org for information about committee activities.
URL:https://hillsmereshores.org/event/environmental-committee-meeting-21/
LOCATION:HSIA Community House\, 119 Great Lake Drive\, Annapolis\, MD\, 21403
ORGANIZER;CN="Environmental Committee":MAILTO:environment@hillsmereshores.org
END:VEVENT
BEGIN:VEVENT
DTSTART;TZID=America/New_York:20240926T190000
DTEND;TZID=America/New_York:20240926T210000
DTSTAMP:20260420T144112
CREATED:20240106T062402Z
LAST-MODIFIED:20240123T090238Z
UID:6610-1727377200-1727384400@hillsmereshores.org
SUMMARY:HSIA Board Meeting
DESCRIPTION:HSIA’s Board of Directors meets on the last Thursday of every month. Meetings begin at 7PM. All are welcome to attend Board meetings\, however\, guests are not permitted to participate in the meeting unless recognized by the Board. \nVirtual attendance is also an option. Please use the following Zoom meeting ID and passcode to attend. A link is provided below for your convenience. \nhttps://zoom.us/j/91377088235?pwd=OGtMNEdKVTBNU0lXb2JqTlh2RUFUdz09 \nMeeting ID: 913 7708 8235\nPasscode: 377266 \nAny questions or comments can be sent to communications@hillsmereshores.org \nHope to see you in-person or online!
URL:https://hillsmereshores.org/event/hsia-board-meeting-30/
LOCATION:HSIA Community House\, 119 Great Lake Drive\, Annapolis\, MD\, 21403
ORGANIZER;CN="HSIA":MAILTO:admin@hillsmereshores.org
END:VEVENT
END:VCALENDAR