BEGIN:VCALENDAR
VERSION:2.0
PRODID:-//Hillsmere Shores - ECPv6.15.20//NONSGML v1.0//EN
CALSCALE:GREGORIAN
METHOD:PUBLISH
X-WR-CALNAME:Hillsmere Shores
X-ORIGINAL-URL:https://hillsmereshores.org
X-WR-CALDESC:Events for Hillsmere Shores
REFRESH-INTERVAL;VALUE=DURATION:PT1H
X-Robots-Tag:noindex
X-PUBLISHED-TTL:PT1H
BEGIN:VTIMEZONE
TZID:America/New_York
BEGIN:DAYLIGHT
TZOFFSETFROM:-0500
TZOFFSETTO:-0400
TZNAME:EDT
DTSTART:20190310T070000
END:DAYLIGHT
BEGIN:STANDARD
TZOFFSETFROM:-0400
TZOFFSETTO:-0500
TZNAME:EST
DTSTART:20191103T060000
END:STANDARD
BEGIN:DAYLIGHT
TZOFFSETFROM:-0500
TZOFFSETTO:-0400
TZNAME:EDT
DTSTART:20200308T070000
END:DAYLIGHT
BEGIN:STANDARD
TZOFFSETFROM:-0400
TZOFFSETTO:-0500
TZNAME:EST
DTSTART:20201101T060000
END:STANDARD
BEGIN:DAYLIGHT
TZOFFSETFROM:-0500
TZOFFSETTO:-0400
TZNAME:EDT
DTSTART:20210314T070000
END:DAYLIGHT
BEGIN:STANDARD
TZOFFSETFROM:-0400
TZOFFSETTO:-0500
TZNAME:EST
DTSTART:20211107T060000
END:STANDARD
BEGIN:DAYLIGHT
TZOFFSETFROM:-0500
TZOFFSETTO:-0400
TZNAME:EDT
DTSTART:20220313T070000
END:DAYLIGHT
BEGIN:STANDARD
TZOFFSETFROM:-0400
TZOFFSETTO:-0500
TZNAME:EST
DTSTART:20221106T060000
END:STANDARD
END:VTIMEZONE
BEGIN:VEVENT
DTSTART;TZID=America/New_York:20210615T180000
DTEND;TZID=America/New_York:20210615T200000
DTSTAMP:20260421T203358
CREATED:20210524T092216Z
LAST-MODIFIED:20210615T044039Z
UID:4936-1623780000-1623787200@hillsmereshores.org
SUMMARY:Beach Committee Meeting
DESCRIPTION:
URL:https://hillsmereshores.org/event/beach-committee-meeting-9/
LOCATION:Hillsmere Beach – Walker Pavilion
CATEGORIES:Beach,Committee Meeting
ORGANIZER;CN="Beach Committee":MAILTO:beach@hillsmereshores.org
END:VEVENT
BEGIN:VEVENT
DTSTART;TZID=America/New_York:20210520T190000
DTEND;TZID=America/New_York:20210520T200000
DTSTAMP:20260421T203358
CREATED:20210519T105627Z
LAST-MODIFIED:20210519T105627Z
UID:4923-1621537200-1621540800@hillsmereshores.org
SUMMARY:HSIA Special Meeting - Living Shoreline
DESCRIPTION:HSIA is inviting you to a scheduled Zoom meeting. \nTopic: Hillsmere Shores Improvement Association Special Meeting to discuss living shoreline \nTime: May 20\, 2021 19:00 Eastern Time (US and Canada) \nJoin Zoom Meeting \nhttps://us02web.zoom.us/j/82298795882?pwd=S2xDSTMzdk5IV1IzZ0tSOHExb3plUT09 \nMeeting ID: 822 9879 5882 \nPasscode: 21403 \nOne tap mobile \nDial by your location \n        +1 301 715 8592 US (Washington DC) \nMeeting ID: 822 9879 5882 \nPasscode: 21403 \nFind your local number: https://us02web.zoom.us/u/kmybyvTNl \n\nMicrosoft Outlook Web Access: https://outlook.office365.com/owa/NETORGFT5972152.onmicrosoft.com/?itemid=AQMkADhjMTQzOTU4LTA0ZTEtNDUyNy1hYjU0LTA2NGNhNGI2OThkOQBGAAADsWkHozIs8E%2B5h9b%2Bl1XlEAcAs%2FUEzNUhH0KkDid%2Fo1NiGwAAAgENAAAAs%2FUEzNUhH0KkDid%2Fo1NiGwABP%2BlHqgAAAA%3D%3D&exvsurl=1&path=/calendar/item \nTo receive meeting invitations as .iCalendar attachments instead of Outlook Web App links\, go to https://outlook.office365.com/owa/NETORGFT5972152.onmicrosoft.com/?path=/options/popandimap and select Send meeting invitations in iCalendar format.
URL:https://hillsmereshores.org/event/hsia-special-meeting-living-shoreline/
ORGANIZER;CN="HSIA":MAILTO:admin@hillsmereshores.org
END:VEVENT
BEGIN:VEVENT
DTSTART;TZID=America/New_York:20210511T180000
DTEND;TZID=America/New_York:20210511T190000
DTSTAMP:20260421T203358
CREATED:20210511T004250Z
LAST-MODIFIED:20210511T004250Z
UID:4899-1620756000-1620759600@hillsmereshores.org
SUMMARY:Piers & Harbors Committee Meeting
DESCRIPTION:IN-PERSON P&H COMMITTEE MEETING –TUESDAY MAY 11TH AT 6 PM AT THE BEACH PAVILION \n  \nIt’s time to try a live\, in-person P&H Committee meeting\, the first since February 2020. \nThe meeting will take place at the Hillsmere Beach\, at the large pavilion\, at 6 p.m. \n\nTopics for discussion include: \n\nSlips Committee Report.\nGravel driveway work.\nMarina gate replacement.\nMarina electrical work: Shore power pedestal breakers.\nSecurity camera upgrade.\nDuvall Creek channel markers-USCG voided permit.\nLiving shoreline at Sand Spit/Marina\n\n  \nCome on out for a brief update in the open\, fresh-air\, breezy pavilion.
URL:https://hillsmereshores.org/event/piers-harbors-committee-meeting-34/
LOCATION:Hillsmere Beach – Walker Pavilion
CATEGORIES:Committee Meeting,Piers & Harbors
END:VEVENT
BEGIN:VEVENT
DTSTART;TZID=America/New_York:20201217T190000
DTEND;TZID=America/New_York:20201217T210000
DTSTAMP:20260421T203358
CREATED:20200122T065845Z
LAST-MODIFIED:20201001T032418Z
UID:4018-1608231600-1608238800@hillsmereshores.org
SUMMARY:HSIA Board of Directors Meeting (via Zoom)
DESCRIPTION:Until further notice\, HSIA Board meetings will be conducted online\, via Zoom. To request a link to “sit in” on the meetings\, please email admin@hillsmereshores.org
URL:https://hillsmereshores.org/event/hsia-board-of-directors-meeting-20/
CATEGORIES:Board Meeting
ORGANIZER;CN="HSIA":MAILTO:admin@hillsmereshores.org
END:VEVENT
BEGIN:VEVENT
DTSTART;TZID=America/New_York:20201213T180000
DTEND;TZID=America/New_York:20201213T200000
DTSTAMP:20260421T203358
CREATED:20200122T100901Z
LAST-MODIFIED:20201001T032529Z
UID:4107-1607882400-1607889600@hillsmereshores.org
SUMMARY:**TBD** Santa's Run
DESCRIPTION:Event tentative. 
URL:https://hillsmereshores.org/event/santas-run-5/
CATEGORIES:Recreation
END:VEVENT
BEGIN:VEVENT
DTSTART;TZID=America/New_York:20201208T190000
DTEND;TZID=America/New_York:20201208T200000
DTSTAMP:20260421T203358
CREATED:20200122T085246Z
LAST-MODIFIED:20201001T032718Z
UID:4071-1607454000-1607457600@hillsmereshores.org
SUMMARY:*TBD* Environmental Committee Meeting
DESCRIPTION:Anyone is welcome to attend EC meeting! Interested\, but can’t make it in person? We can call you\, just email environment@hillsmereshores.org.
URL:https://hillsmereshores.org/event/environmental-committee-meeting-12/
LOCATION:Key School Science & Library Bldg.\, Room 102
CATEGORIES:Committee Meeting
ORGANIZER;CN="Environmental Committee":MAILTO:environment@hillsmereshores.org
END:VEVENT
BEGIN:VEVENT
DTSTART;TZID=America/New_York:20201119T190000
DTEND;TZID=America/New_York:20201119T210000
DTSTAMP:20260421T203358
CREATED:20200122T065759Z
LAST-MODIFIED:20201001T032310Z
UID:4016-1605812400-1605819600@hillsmereshores.org
SUMMARY:HSIA Board of Directors Meeting (via Zoom)
DESCRIPTION:Until further notice\, HSIA Board meetings will be conducted online\, via Zoom. To request a link to “sit in” on the meetings\, please email admin@hillsmereshores.org
URL:https://hillsmereshores.org/event/hsia-board-of-directors-meeting-19/
CATEGORIES:Board Meeting
ORGANIZER;CN="HSIA":MAILTO:admin@hillsmereshores.org
END:VEVENT
BEGIN:VEVENT
DTSTART;TZID=America/New_York:20201114T140000
DTEND;TZID=America/New_York:20201114T170000
DTSTAMP:20260421T203358
CREATED:20200122T100609Z
LAST-MODIFIED:20201001T032605Z
UID:4105-1605362400-1605373200@hillsmereshores.org
SUMMARY:*Cancelled* Annual Oyster Roast
DESCRIPTION:Details TBD
URL:https://hillsmereshores.org/event/annual-oyster-roast/
LOCATION:Hillsmere Beach – Walker Pavilion
CATEGORIES:Recreation
ORGANIZER;CN="HSIA":MAILTO:admin@hillsmereshores.org
END:VEVENT
BEGIN:VEVENT
DTSTART;TZID=America/New_York:20201112T190000
DTEND;TZID=America/New_York:20201112T210000
DTSTAMP:20260421T203358
CREATED:20200122T083330Z
LAST-MODIFIED:20201001T032809Z
UID:4040-1605207600-1605214800@hillsmereshores.org
SUMMARY:*TBA* HSIA General Membership Meeting
DESCRIPTION:Open meeting\, all residents encouraged to attend.
URL:https://hillsmereshores.org/event/hsia-general-membership-meeting-17/
LOCATION:Barn Commons @ Key School
CATEGORIES:General Meeting,HSIA
ORGANIZER;CN="HSIA":MAILTO:admin@hillsmereshores.org
END:VEVENT
BEGIN:VEVENT
DTSTART;TZID=America/New_York:20201110T190000
DTEND;TZID=America/New_York:20201110T210000
DTSTAMP:20260421T203358
CREATED:20200122T070551Z
LAST-MODIFIED:20201001T032043Z
UID:4028-1605034800-1605042000@hillsmereshores.org
SUMMARY:*Cancelled* Piers & Harbors Committee Meeting
DESCRIPTION:P&H committee meetings have been cancelled through December 2020.
URL:https://hillsmereshores.org/event/piers-harbors-committee-meeting-37/
LOCATION:Key School Science & Library Bldg.\, Room 101
CATEGORIES:Committee Meeting,Piers & Harbors
END:VEVENT
BEGIN:VEVENT
DTSTART;TZID=America/New_York:20201110T190000
DTEND;TZID=America/New_York:20201110T200000
DTSTAMP:20260421T203358
CREATED:20200122T085158Z
LAST-MODIFIED:20201001T032702Z
UID:4069-1605034800-1605038400@hillsmereshores.org
SUMMARY:*TBD* Environmental Committee Meeting
DESCRIPTION:Anyone is welcome to attend EC meeting! Interested\, but can’t make it in person? We can call you\, just email environment@hillsmereshores.org.
URL:https://hillsmereshores.org/event/environmental-committee-meeting-11/
LOCATION:Key School Science & Library Bldg.\, Room 102
CATEGORIES:Committee Meeting
ORGANIZER;CN="Environmental Committee":MAILTO:environment@hillsmereshores.org
END:VEVENT
BEGIN:VEVENT
DTSTART;TZID=America/New_York:20201110T190000
DTEND;TZID=America/New_York:20201110T200000
DTSTAMP:20260421T203358
CREATED:20200122T083748Z
LAST-MODIFIED:20201001T032649Z
UID:4046-1605034800-1605038400@hillsmereshores.org
SUMMARY:*TBD* Beach Committee Meeting
DESCRIPTION:Open meeting.
URL:https://hillsmereshores.org/event/beach-committee-meeting-8/
LOCATION:Key School Science & Library Bldg.\, Room 102
CATEGORIES:Beach,Committee Meeting
ORGANIZER;CN="Beach Committee":MAILTO:beach@hillsmereshores.org
END:VEVENT
BEGIN:VEVENT
DTSTART;TZID=America/New_York:20201029T190000
DTEND;TZID=America/New_York:20201029T210000
DTSTAMP:20260421T203358
CREATED:20200122T065711Z
LAST-MODIFIED:20201001T031844Z
UID:4014-1603998000-1604005200@hillsmereshores.org
SUMMARY:HSIA Board of Directors Meeting (via Zoom)
DESCRIPTION:Until further notice\, HSIA Board meetings will be conducted online\, via Zoom. To request a link to “sit in” on the meetings\, please email admin@hillsmereshores.org
URL:https://hillsmereshores.org/event/hsia-board-of-directors-meeting-18/
LOCATION:Barn Commons @ Key School
CATEGORIES:Board Meeting
ORGANIZER;CN="HSIA":MAILTO:admin@hillsmereshores.org
END:VEVENT
BEGIN:VEVENT
DTSTART;TZID=America/New_York:20201013T190000
DTEND;TZID=America/New_York:20201013T200000
DTSTAMP:20260421T203358
CREATED:20200122T085113Z
LAST-MODIFIED:20201001T032636Z
UID:4067-1602615600-1602619200@hillsmereshores.org
SUMMARY:*TBD* Environmental Committee Meeting
DESCRIPTION:Anyone is welcome to attend EC meeting! Interested\, but can’t make it in person? We can call you\, just email environment@hillsmereshores.org.
URL:https://hillsmereshores.org/event/environmental-committee-meeting-10/
LOCATION:Key School Science & Library Bldg.\, Room 102
CATEGORIES:Committee Meeting
ORGANIZER;CN="Environmental Committee":MAILTO:environment@hillsmereshores.org
END:VEVENT
BEGIN:VEVENT
DTSTART;TZID=America/New_York:20200924T190000
DTEND;TZID=America/New_York:20200924T210000
DTSTAMP:20260421T203358
CREATED:20200122T065631Z
LAST-MODIFIED:20200122T065631Z
UID:4012-1600974000-1600981200@hillsmereshores.org
SUMMARY:HSIA Board of Directors Meeting
DESCRIPTION:
URL:https://hillsmereshores.org/event/hsia-board-of-directors-meeting-17/
LOCATION:Barn Commons @ Key School
CATEGORIES:Board Meeting
ORGANIZER;CN="HSIA":MAILTO:admin@hillsmereshores.org
END:VEVENT
BEGIN:VEVENT
DTSTART;TZID=America/New_York:20200919T080000
DTEND;TZID=America/New_York:20200919T120000
DTSTAMP:20260421T203358
CREATED:20200122T100417Z
LAST-MODIFIED:20200913T063500Z
UID:4101-1600502400-1600516800@hillsmereshores.org
SUMMARY:CANCELLED - Fall Community Yard Sale
DESCRIPTION:
URL:https://hillsmereshores.org/event/fall-community-yard-sale-2/
LOCATION:Hillsmere Beach – Walker Pavilion
ORGANIZER;CN="HSIA":MAILTO:admin@hillsmereshores.org
END:VEVENT
BEGIN:VEVENT
DTSTART;TZID=America/New_York:20200912T160000
DTEND;TZID=America/New_York:20200912T190000
DTSTAMP:20260421T203358
CREATED:20200122T091132Z
LAST-MODIFIED:20200913T063424Z
UID:4091-1599926400-1599937200@hillsmereshores.org
SUMMARY:CANCELLED - Pig Roast/Happy Hour
DESCRIPTION:Event tentative. Details TBA. 
URL:https://hillsmereshores.org/event/pig-roast-happy-hour/
LOCATION:Hillsmere Beach – Walker Pavilion
CATEGORIES:Recreation
ORGANIZER;CN="HSIA":MAILTO:admin@hillsmereshores.org
END:VEVENT
BEGIN:VEVENT
DTSTART;TZID=America/New_York:20200910T190000
DTEND;TZID=America/New_York:20200910T210000
DTSTAMP:20260421T203358
CREATED:20200122T083237Z
LAST-MODIFIED:20200725T025227Z
UID:4038-1599764400-1599771600@hillsmereshores.org
SUMMARY:**TBD** HSIA General Membership Meeting
DESCRIPTION:***Meeting TBD*** \nOpen meeting\, all residents encouraged to attend.
URL:https://hillsmereshores.org/event/hsia-general-membership-meeting-16/
CATEGORIES:General Meeting,HSIA
ORGANIZER;CN="HSIA":MAILTO:admin@hillsmereshores.org
END:VEVENT
BEGIN:VEVENT
DTSTART;TZID=America/New_York:20200908T190000
DTEND;TZID=America/New_York:20200908T210000
DTSTAMP:20260421T203358
CREATED:20200122T070505Z
LAST-MODIFIED:20201001T032133Z
UID:4026-1599591600-1599598800@hillsmereshores.org
SUMMARY:*Cancelled* Piers & Harbors Committee Meeting
DESCRIPTION:
URL:https://hillsmereshores.org/event/piers-harbors-committee-meeting-36/
LOCATION:Key School Science & Library Bldg.\, Room 101
CATEGORIES:Committee Meeting,Piers & Harbors
END:VEVENT
BEGIN:VEVENT
DTSTART;TZID=America/New_York:20200908T190000
DTEND;TZID=America/New_York:20200908T200000
DTSTAMP:20260421T203358
CREATED:20200122T084949Z
LAST-MODIFIED:20200725T025303Z
UID:4064-1599591600-1599595200@hillsmereshores.org
SUMMARY:**TBD** Environmental Committee Meeting
DESCRIPTION:Anyone is welcome to attend EC meeting! Interested\, but can’t make it in person? We can call you\, just email environment@hillsmereshores.org.
URL:https://hillsmereshores.org/event/4064/
LOCATION:Key School Science & Library Bldg.\, Room 102
CATEGORIES:Committee Meeting
ORGANIZER;CN="Environmental Committee":MAILTO:environment@hillsmereshores.org
END:VEVENT
BEGIN:VEVENT
DTSTART;TZID=America/New_York:20200908T190000
DTEND;TZID=America/New_York:20200908T200000
DTSTAMP:20260421T203358
CREATED:20200122T083659Z
LAST-MODIFIED:20200725T025339Z
UID:4044-1599591600-1599595200@hillsmereshores.org
SUMMARY:**TBD** Beach Committee Meeting
DESCRIPTION:Open meeting.
URL:https://hillsmereshores.org/event/beach-committee-meeting-7/
LOCATION:Key School Science & Library Bldg.\, Room 102
CATEGORIES:Beach,Committee Meeting
ORGANIZER;CN="Beach Committee":MAILTO:beach@hillsmereshores.org
END:VEVENT
BEGIN:VEVENT
DTSTART;TZID=America/New_York:20200827T190000
DTEND;TZID=America/New_York:20200827T210000
DTSTAMP:20260421T203358
CREATED:20200122T065543Z
LAST-MODIFIED:20200725T024356Z
UID:4010-1598554800-1598562000@hillsmereshores.org
SUMMARY:HSIA Board of Directors Meeting
DESCRIPTION:Meeting to be held virtually/online. Details TBA. Minutes will be shared via newsletter and website archives.
URL:https://hillsmereshores.org/event/hsia-board-of-directors-meeting-16/
CATEGORIES:Board Meeting
END:VEVENT
BEGIN:VEVENT
DTSTART;VALUE=DATE:20200814
DTEND;VALUE=DATE:20200815
DTSTAMP:20260421T203358
CREATED:20200122T091010Z
LAST-MODIFIED:20200725T023757Z
UID:4089-1597363200-1597449599@hillsmereshores.org
SUMMARY:Happy Hour - CANCELLED
DESCRIPTION:
URL:https://hillsmereshores.org/event/happy-hour-12/
CATEGORIES:Recreation
ORGANIZER;CN="HSIA":MAILTO:admin@hillsmereshores.org
END:VEVENT
BEGIN:VEVENT
DTSTART;TZID=America/New_York:20200811T190000
DTEND;TZID=America/New_York:20200811T200000
DTSTAMP:20260421T203358
CREATED:20200122T084909Z
LAST-MODIFIED:20200725T024814Z
UID:4062-1597172400-1597176000@hillsmereshores.org
SUMMARY:Environmental Committee Meeting - TBD
DESCRIPTION:Meeting status TBD. Email environment@hillsmereshores.org for information. \nAnyone is welcome to attend EC meeting! Interested\, but can’t make it in person? We can call you\, just email environment@hillsmereshores.org.
URL:https://hillsmereshores.org/event/environmental-committee-meeting-9/
CATEGORIES:Committee Meeting
ORGANIZER;CN="Environmental Committee":MAILTO:environment@hillsmereshores.org
END:VEVENT
BEGIN:VEVENT
DTSTART;VALUE=DATE:20200801
DTEND;VALUE=DATE:20200802
DTSTAMP:20260421T203358
CREATED:20200122T100151Z
LAST-MODIFIED:20200725T023459Z
UID:4097-1596240000-1596326399@hillsmereshores.org
SUMMARY:Annual Community Picnic - CANCELLED
DESCRIPTION:
URL:https://hillsmereshores.org/event/annual-community-picnic-2/
LOCATION:Hillsmere Beach – Walker Pavilion
CATEGORIES:Recreation
ORGANIZER;CN="HSIA":MAILTO:admin@hillsmereshores.org
END:VEVENT
BEGIN:VEVENT
DTSTART;TZID=America/New_York:20200730T190000
DTEND;TZID=America/New_York:20200730T210000
DTSTAMP:20260421T203358
CREATED:20200122T065444Z
LAST-MODIFIED:20200725T024308Z
UID:4008-1596135600-1596142800@hillsmereshores.org
SUMMARY:HSIA Board of Directors Meeting
DESCRIPTION:Meeting to be held virtually/online. Details TBA. Minutes will be shared via newsletter and website archives.
URL:https://hillsmereshores.org/event/hsia-board-of-directors-meeting-15/
CATEGORIES:Board Meeting
END:VEVENT
BEGIN:VEVENT
DTSTART;TZID=America/New_York:20200714T190000
DTEND;TZID=America/New_York:20200714T200000
DTSTAMP:20260421T203358
CREATED:20200122T084823Z
LAST-MODIFIED:20200526T052250Z
UID:4060-1594753200-1594756800@hillsmereshores.org
SUMMARY:TBD - Environmental Committee Meeting
DESCRIPTION:Anyone is welcome to attend EC meeting! Interested\, but can’t make it in person? We can call you\, just email environment@hillsmereshores.org.
URL:https://hillsmereshores.org/event/environmental-committee-meeting-8/
LOCATION:Key School Science & Library Bldg.\, Room 102
CATEGORIES:Committee Meeting
ORGANIZER;CN="Environmental Committee":MAILTO:environment@hillsmereshores.org
END:VEVENT
BEGIN:VEVENT
DTSTART;TZID=America/New_York:20200710T170000
DTEND;TZID=America/New_York:20200710T200000
DTSTAMP:20260421T203358
CREATED:20200122T090925Z
LAST-MODIFIED:20200526T051344Z
UID:4087-1594400400-1594411200@hillsmereshores.org
SUMMARY:CANCELLED - Happy Hour
DESCRIPTION:
URL:https://hillsmereshores.org/event/happy-hour-11/
LOCATION:Hillsmere Beach – Walker Pavilion
CATEGORIES:Recreation
ORGANIZER;CN="HSIA":MAILTO:admin@hillsmereshores.org
END:VEVENT
BEGIN:VEVENT
DTSTART;TZID=America/New_York:20200709T190000
DTEND;TZID=America/New_York:20200709T210000
DTSTAMP:20260421T203358
CREATED:20200122T083137Z
LAST-MODIFIED:20200526T052224Z
UID:4036-1594321200-1594328400@hillsmereshores.org
SUMMARY:CANCELLED - HSIA General Membership Meeting
DESCRIPTION:
URL:https://hillsmereshores.org/event/hsia-general-membership-meeting-15/
LOCATION:Barn Commons @ Key School
CATEGORIES:General Meeting,HSIA
ORGANIZER;CN="HSIA":MAILTO:admin@hillsmereshores.org
END:VEVENT
BEGIN:VEVENT
DTSTART;TZID=America/New_York:20200704T100000
DTEND;TZID=America/New_York:20200704T110000
DTSTAMP:20260421T203358
CREATED:20200122T100012Z
LAST-MODIFIED:20200526T051306Z
UID:4095-1593856800-1593860400@hillsmereshores.org
SUMMARY:CANCELLED - 4th of July Bicycle Parade
DESCRIPTION:
URL:https://hillsmereshores.org/event/4th-of-july-bicycle-parade/
LOCATION:Hillsmere Beach – Walker Pavilion
CATEGORIES:Recreation
ORGANIZER;CN="HSIA":MAILTO:admin@hillsmereshores.org
END:VEVENT
END:VCALENDAR