BEGIN:VCALENDAR
VERSION:2.0
PRODID:-//Hillsmere Shores - ECPv6.15.20//NONSGML v1.0//EN
CALSCALE:GREGORIAN
METHOD:PUBLISH
X-WR-CALNAME:Hillsmere Shores
X-ORIGINAL-URL:https://hillsmereshores.org
X-WR-CALDESC:Events for Hillsmere Shores
REFRESH-INTERVAL;VALUE=DURATION:PT1H
X-Robots-Tag:noindex
X-PUBLISHED-TTL:PT1H
BEGIN:VTIMEZONE
TZID:America/New_York
BEGIN:DAYLIGHT
TZOFFSETFROM:-0500
TZOFFSETTO:-0400
TZNAME:EDT
DTSTART:20220313T070000
END:DAYLIGHT
BEGIN:STANDARD
TZOFFSETFROM:-0400
TZOFFSETTO:-0500
TZNAME:EST
DTSTART:20221106T060000
END:STANDARD
BEGIN:DAYLIGHT
TZOFFSETFROM:-0500
TZOFFSETTO:-0400
TZNAME:EDT
DTSTART:20230312T070000
END:DAYLIGHT
BEGIN:STANDARD
TZOFFSETFROM:-0400
TZOFFSETTO:-0500
TZNAME:EST
DTSTART:20231105T060000
END:STANDARD
BEGIN:DAYLIGHT
TZOFFSETFROM:-0500
TZOFFSETTO:-0400
TZNAME:EDT
DTSTART:20240310T070000
END:DAYLIGHT
BEGIN:STANDARD
TZOFFSETFROM:-0400
TZOFFSETTO:-0500
TZNAME:EST
DTSTART:20241103T060000
END:STANDARD
END:VTIMEZONE
BEGIN:VEVENT
DTSTART;TZID=America/New_York:20230928T190000
DTEND;TZID=America/New_York:20230928T210000
DTSTAMP:20260421T003744
CREATED:20221025T082611Z
LAST-MODIFIED:20230510T080306Z
UID:5904-1695927600-1695934800@hillsmereshores.org
SUMMARY:HSIA Board of Directors Meeting
DESCRIPTION:The Board meets on the last Thursday of every month at 7pm in the Barn Commons on Key School campus. Meetings are open\, all are welcome to attend\, however\, guests are not permitted to participate in the board meetings unless recognized by the Board. \nTo attend a meeting virtually (Zoom link updated May 2023): \nHSIA Zoom Meetings\, Meeting ID: 913 7708 8235\, Passcode: 377266
URL:https://hillsmereshores.org/event/hsia-board-of-directors-meeting-29/
LOCATION:Barn Commons @ Key School
CATEGORIES:Board Meeting,HSIA
ORGANIZER;CN="HSIA":MAILTO:admin@hillsmereshores.org
END:VEVENT
BEGIN:VEVENT
DTSTART;TZID=America/New_York:20230914T190000
DTEND;TZID=America/New_York:20230914T210000
DTSTAMP:20260421T003744
CREATED:20230107T063536Z
LAST-MODIFIED:20230510T080717Z
UID:6007-1694718000-1694725200@hillsmereshores.org
SUMMARY:HSIA General Membership Meeting
DESCRIPTION:HSIA general membership meetings are open meetings. \nTo attend a meeting virtually (Zoom link updated May 2023): \nHSIA Zoom Meetings\, Meeting ID: 913 7708 8235\, Passcode: 377266
URL:https://hillsmereshores.org/event/hsia-general-membership-meeting-24/
LOCATION:Barn Commons @ Key School
ORGANIZER;CN="HSIA":MAILTO:admin@hillsmereshores.org
END:VEVENT
BEGIN:VEVENT
DTSTART;TZID=America/New_York:20230912T190000
DTEND;TZID=America/New_York:20230912T210000
DTSTAMP:20260421T003744
CREATED:20221025T083701Z
LAST-MODIFIED:20230910T070052Z
UID:5920-1694545200-1694552400@hillsmereshores.org
SUMMARY:Piers & Harbors Committee Meeting
DESCRIPTION:***9/12/23 meeting will be held at 119 Great Lake Drive\, not Key School***
URL:https://hillsmereshores.org/event/piers-harbors-committee-meeting-46/
LOCATION:HSIA Community House\, 119 Great Lake Drive\, Annapolis\, MD\, 21403
CATEGORIES:Committee Meeting,Piers & Harbors
END:VEVENT
BEGIN:VEVENT
DTSTART;TZID=America/New_York:20230909T160000
DTEND;TZID=America/New_York:20230909T190000
DTSTAMP:20260421T003744
CREATED:20230107T061121Z
LAST-MODIFIED:20230107T061121Z
UID:5989-1694275200-1694286000@hillsmereshores.org
SUMMARY:Community Happy Hour w Live Band
DESCRIPTION:
URL:https://hillsmereshores.org/event/community-happy-hour-w-live-band/
LOCATION:Hillsmere Beach
ORGANIZER;CN="HSIA":MAILTO:admin@hillsmereshores.org
END:VEVENT
BEGIN:VEVENT
DTSTART;TZID=America/New_York:20230831T190000
DTEND;TZID=America/New_York:20230831T210000
DTSTAMP:20260421T003744
CREATED:20221025T082500Z
LAST-MODIFIED:20230510T080150Z
UID:5902-1693508400-1693515600@hillsmereshores.org
SUMMARY:HSIA Board of Directors Meeting
DESCRIPTION:The Board meets on the last Thursday of every month at 7pm in the Barn Commons on Key School campus. Meetings are open\, all are welcome to attend\, however\, guests are not permitted to participate in the board meetings unless recognized by the Board. \nTo attend a meeting virtually (Zoom link updated May 2023): \nHSIA Zoom Meetings\, Meeting ID: 913 7708 8235\, Passcode: 377266
URL:https://hillsmereshores.org/event/hsia-board-of-directors-meeting-28/
LOCATION:Barn Commons @ Key School
CATEGORIES:Board Meeting,HSIA
ORGANIZER;CN="HSIA":MAILTO:admin@hillsmereshores.org
END:VEVENT
BEGIN:VEVENT
DTSTART;TZID=America/New_York:20230829T110000
DTEND;TZID=America/New_York:20230829T200000
DTSTAMP:20260421T003744
CREATED:20230107T061002Z
LAST-MODIFIED:20230107T061002Z
UID:5987-1693306800-1693339200@hillsmereshores.org
SUMMARY:Community Open Swim
DESCRIPTION:Hillsmere Shores residents only.
URL:https://hillsmereshores.org/event/community-open-swim-4/
LOCATION:Hillsmere Pool
ORGANIZER;CN="Pool Committee":MAILTO:pool@hillsmereshores.org
END:VEVENT
BEGIN:VEVENT
DTSTART;TZID=America/New_York:20230805T180000
DTEND;TZID=America/New_York:20230805T200000
DTSTAMP:20260421T003744
CREATED:20230107T060857Z
LAST-MODIFIED:20230107T060857Z
UID:5985-1691258400-1691265600@hillsmereshores.org
SUMMARY:Community Ice Cream Social
DESCRIPTION:
URL:https://hillsmereshores.org/event/community-ice-cream-social/
LOCATION:Hillsmere Beach
ORGANIZER;CN="HSIA":MAILTO:admin@hillsmereshores.org
END:VEVENT
BEGIN:VEVENT
DTSTART;TZID=America/New_York:20230727T190000
DTEND;TZID=America/New_York:20230727T210000
DTSTAMP:20260421T003744
CREATED:20221025T082352Z
LAST-MODIFIED:20230510T080023Z
UID:5900-1690484400-1690491600@hillsmereshores.org
SUMMARY:HSIA Board of Directors Meeting
DESCRIPTION:The Board meets on the last Thursday of every month at 7pm in the Barn Commons on Key School campus. Meetings are open\, all are welcome to attend\, however\, guests are not permitted to participate in the board meetings unless recognized by the Board. \nTo attend a meeting virtually (Zoom link updated May 2023): \nHSIA Zoom Meetings\, Meeting ID: 913 7708 8235\, Passcode: 377266
URL:https://hillsmereshores.org/event/hsia-board-of-directors-meeting-27/
LOCATION:Barn Commons @ Key School
CATEGORIES:Board Meeting,HSIA
ORGANIZER;CN="HSIA":MAILTO:admin@hillsmereshores.org
END:VEVENT
BEGIN:VEVENT
DTSTART;TZID=America/New_York:20230725T110000
DTEND;TZID=America/New_York:20230725T200000
DTSTAMP:20260421T003744
CREATED:20230107T060654Z
LAST-MODIFIED:20230107T060654Z
UID:5983-1690282800-1690315200@hillsmereshores.org
SUMMARY:Community Open Swim
DESCRIPTION:Hillsmere Shores residents only.
URL:https://hillsmereshores.org/event/community-open-swim-3/
LOCATION:Hillsmere Pool
ORGANIZER;CN="Pool Committee":MAILTO:pool@hillsmereshores.org
END:VEVENT
BEGIN:VEVENT
DTSTART;TZID=America/New_York:20230714T170000
DTEND;TZID=America/New_York:20230714T200000
DTSTAMP:20260421T003744
CREATED:20230107T060518Z
LAST-MODIFIED:20230107T060518Z
UID:5981-1689354000-1689364800@hillsmereshores.org
SUMMARY:Community Happy Hour
DESCRIPTION:Details TBA
URL:https://hillsmereshores.org/event/community-happy-hour-5/
LOCATION:Hillsmere Beach
ORGANIZER;CN="HSIA":MAILTO:admin@hillsmereshores.org
END:VEVENT
BEGIN:VEVENT
DTSTART;TZID=America/New_York:20230713T190000
DTEND;TZID=America/New_York:20230713T210000
DTSTAMP:20260421T003744
CREATED:20230107T063437Z
LAST-MODIFIED:20230510T080642Z
UID:6005-1689274800-1689282000@hillsmereshores.org
SUMMARY:HSIA General Membership Meeting
DESCRIPTION:HSIA general membership meetings are open meetings. \nTo attend a meeting virtually (Zoom link updated May 2023): \nHSIA Zoom Meetings\, Meeting ID: 913 7708 8235\, Passcode: 377266
URL:https://hillsmereshores.org/event/hsia-general-membership-meeting-23/
LOCATION:Barn Commons @ Key School
ORGANIZER;CN="HSIA":MAILTO:admin@hillsmereshores.org
END:VEVENT
BEGIN:VEVENT
DTSTART;TZID=America/New_York:20230711T190000
DTEND;TZID=America/New_York:20230711T210000
DTSTAMP:20260421T003744
CREATED:20221025T083541Z
LAST-MODIFIED:20221025T083541Z
UID:5918-1689102000-1689109200@hillsmereshores.org
SUMMARY:Piers & Harbors Committee Meeting
DESCRIPTION:
URL:https://hillsmereshores.org/event/piers-harbors-committee-meeting-45/
LOCATION:Barn Commons @ Key School
CATEGORIES:Committee Meeting,Piers & Harbors
END:VEVENT
BEGIN:VEVENT
DTSTART;TZID=America/New_York:20230704T203000
DTEND;TZID=America/New_York:20230704T210000
DTSTAMP:20260421T003744
CREATED:20230107T060401Z
LAST-MODIFIED:20230602T095018Z
UID:5979-1688502600-1688504400@hillsmereshores.org
SUMMARY:Firework Viewing
DESCRIPTION:
URL:https://hillsmereshores.org/event/firework-viewing-2/
LOCATION:Hillsmere Beach
ORGANIZER;CN="HSIA":MAILTO:admin@hillsmereshores.org
END:VEVENT
BEGIN:VEVENT
DTSTART;TZID=America/New_York:20230704T100000
DTEND;TZID=America/New_York:20230704T110000
DTSTAMP:20260421T003744
CREATED:20230107T060222Z
LAST-MODIFIED:20230107T060222Z
UID:5977-1688464800-1688468400@hillsmereshores.org
SUMMARY:Annual Independence Day Bicycle Parade
DESCRIPTION:Details TBA
URL:https://hillsmereshores.org/event/annual-independence-day-bicycle-parade-2/
LOCATION:Hillsmere Beach
ORGANIZER;CN="HSIA":MAILTO:admin@hillsmereshores.org
END:VEVENT
BEGIN:VEVENT
DTSTART;TZID=America/New_York:20230629T190000
DTEND;TZID=America/New_York:20230629T210000
DTSTAMP:20260421T003744
CREATED:20221025T082226Z
LAST-MODIFIED:20230510T075908Z
UID:5898-1688065200-1688072400@hillsmereshores.org
SUMMARY:HSIA Board of Directors Meeting
DESCRIPTION:The Board meets on the last Thursday of every month at 7pm in the Barn Commons on Key School campus. Meetings are open\, all are welcome to attend\, however\, guests are not permitted to participate in the board meetings unless recognized by the Board. \nTo attend a meeting virtually (Zoom link updated May 2023): \nHSIA Zoom Meetings\, Meeting ID: 913 7708 8235\, Passcode: 377266
URL:https://hillsmereshores.org/event/hsia-board-of-directors-meeting-26/
LOCATION:Barn Commons @ Key School
CATEGORIES:Board Meeting,HSIA
ORGANIZER;CN="HSIA":MAILTO:admin@hillsmereshores.org
END:VEVENT
BEGIN:VEVENT
DTSTART;TZID=America/New_York:20230627T110000
DTEND;TZID=America/New_York:20230627T200000
DTSTAMP:20260421T003744
CREATED:20230107T060102Z
LAST-MODIFIED:20230107T060102Z
UID:5975-1687863600-1687896000@hillsmereshores.org
SUMMARY:Community Open Swim
DESCRIPTION:Hillsmere Shores residents only. Details TBA.
URL:https://hillsmereshores.org/event/community-open-swim-2/
LOCATION:Hillsmere Pool
ORGANIZER;CN="Pool Committee":MAILTO:pool@hillsmereshores.org
END:VEVENT
BEGIN:VEVENT
DTSTART;TZID=America/New_York:20230622T190000
DTEND;TZID=America/New_York:20230622T200000
DTSTAMP:20260421T003744
CREATED:20230609T051404Z
LAST-MODIFIED:20230609T051404Z
UID:6381-1687460400-1687464000@hillsmereshores.org
SUMMARY:Field Committee Meeting
DESCRIPTION:Volunteers are invited to join the Field Committee to develop a long-term plan for the community property surrounding the pool and Hillsmere House. The Committee’s charter is to establish guidelines to use our field fairly and efficiently for open space activities. \nPeople wishing to join are asked to attend the first two meetings at the Hillsmere House on Thursday\, 8 June at 7:00pm and Thursday\, 22 June at 7:00pm.  It is anticipated the Committee will complete its work with a proposal to the Board in October and presentation to the community during\nthe November General meeting. \nThe Committee is led by Chairman\, Mike Waters and Vice-Chair\, Jay Harper. The Hillsmere House\, Pool\, and Environmental committees will be represented. \nIf you cannot join the Field Committee\, please consider sharing your views by contacting Mike Waters at 410-280-8674 or mike@waters.net. \n 
URL:https://hillsmereshores.org/event/field-committee-meeting-2/
LOCATION:HSIA Community House\, 119 Great Lake Drive\, Annapolis\, MD\, 21403
ORGANIZER;CN="HSIA":MAILTO:admin@hillsmereshores.org
END:VEVENT
BEGIN:VEVENT
DTSTART;TZID=America/New_York:20230609T170000
DTEND;TZID=America/New_York:20230609T200000
DTSTAMP:20260421T003744
CREATED:20230107T055738Z
LAST-MODIFIED:20230107T055738Z
UID:5973-1686330000-1686340800@hillsmereshores.org
SUMMARY:Community Happy Hour
DESCRIPTION:Details TBA.
URL:https://hillsmereshores.org/event/community-happy-hour-4/
LOCATION:Hillsmere Beach
ORGANIZER;CN="HSIA":MAILTO:admin@hillsmereshores.org
END:VEVENT
BEGIN:VEVENT
DTSTART;TZID=America/New_York:20230608T190000
DTEND;TZID=America/New_York:20230608T200000
DTSTAMP:20260421T003744
CREATED:20230609T051253Z
LAST-MODIFIED:20230609T051253Z
UID:6378-1686250800-1686254400@hillsmereshores.org
SUMMARY:Field Committee Meeting
DESCRIPTION:Volunteers are invited to join the Field Committee to develop a long-term plan for the community property surrounding the pool and Hillsmere House. The Committee’s charter is to establish guidelines to use our field fairly and efficiently for open space activities. \nPeople wishing to join are asked to attend the first two meetings at the Hillsmere House on Thursday\, 8 June at 7:00pm and Thursday\, 22 June at 7:00pm.  It is anticipated the Committee will complete its work with a proposal to the Board in October and presentation to the community during\nthe November General meeting. \nThe Committee is led by Chairman\, Mike Waters and Vice-Chair\, Jay Harper. The Hillsmere House\, Pool\, and Environmental committees will be represented. \nIf you cannot join the Field Committee\, please consider sharing your views by contacting Mike Waters at 410-280-8674 or mike@waters.net. \n 
URL:https://hillsmereshores.org/event/field-committee-meeting/
LOCATION:HSIA Community House\, 119 Great Lake Drive\, Annapolis\, MD\, 21403
ORGANIZER;CN="HSIA":MAILTO:admin@hillsmereshores.org
END:VEVENT
BEGIN:VEVENT
DTSTART;TZID=America/New_York:20230530T110000
DTEND;TZID=America/New_York:20230530T200000
DTSTAMP:20260421T003744
CREATED:20230107T055609Z
LAST-MODIFIED:20230107T055609Z
UID:5971-1685444400-1685476800@hillsmereshores.org
SUMMARY:Community Open Swim
DESCRIPTION:Details TBA\, event dependent on staffing.
URL:https://hillsmereshores.org/event/community-open-swim/
LOCATION:Hillsmere Pool
ORGANIZER;CN="Pool Committee":MAILTO:pool@hillsmereshores.org
END:VEVENT
BEGIN:VEVENT
DTSTART;TZID=America/New_York:20230525T190000
DTEND;TZID=America/New_York:20230525T210000
DTSTAMP:20260421T003744
CREATED:20221025T082111Z
LAST-MODIFIED:20230510T075751Z
UID:5896-1685041200-1685048400@hillsmereshores.org
SUMMARY:HSIA Board of Directors Meeting
DESCRIPTION:The Board meets on the last Thursday of every month in the Key School Barn at 7pm. Meetings are open\, all are welcome to attend\, however\, guests are not permitted to participate in the board meetings unless recognized by the Board. \nTo attend a meeting virtually (Zoom link updated May 2023): \nHSIA Zoom Meetings\, Meeting ID: 913 7708 8235\, Passcode: 377266
URL:https://hillsmereshores.org/event/hsia-board-of-directors-meeting-25/
LOCATION:Barn Commons @ Key School
CATEGORIES:Board Meeting,HSIA
ORGANIZER;CN="HSIA":MAILTO:admin@hillsmereshores.org
END:VEVENT
BEGIN:VEVENT
DTSTART;TZID=America/New_York:20230511T190000
DTEND;TZID=America/New_York:20230511T210000
DTSTAMP:20260421T003744
CREATED:20230107T063330Z
LAST-MODIFIED:20230510T080606Z
UID:6003-1683831600-1683838800@hillsmereshores.org
SUMMARY:HSIA General Membership Meeting
DESCRIPTION:HSIA general membership meetings are open meetings. \nTo attend a meeting virtually (Zoom link updated May 2023): \nHSIA Zoom Meetings\, Meeting ID: 913 7708 8235\, Passcode: 377266
URL:https://hillsmereshores.org/event/hsia-general-membership-meeting-22/
LOCATION:Barn Commons @ Key School
ORGANIZER;CN="HSIA":MAILTO:admin@hillsmereshores.org
END:VEVENT
BEGIN:VEVENT
DTSTART;TZID=America/New_York:20230509T190000
DTEND;TZID=America/New_York:20230509T210000
DTSTAMP:20260421T003744
CREATED:20221025T083414Z
LAST-MODIFIED:20221025T083414Z
UID:5916-1683658800-1683666000@hillsmereshores.org
SUMMARY:Piers & Harbors Committee Meeting
DESCRIPTION:
URL:https://hillsmereshores.org/event/piers-harbors-committee-meeting-44/
LOCATION:Barn Commons @ Key School
CATEGORIES:Committee Meeting,Piers & Harbors
END:VEVENT
BEGIN:VEVENT
DTSTART;TZID=America/New_York:20230427T190000
DTEND;TZID=America/New_York:20230427T210000
DTSTAMP:20260421T003744
CREATED:20221025T082007Z
LAST-MODIFIED:20221025T082007Z
UID:5894-1682622000-1682629200@hillsmereshores.org
SUMMARY:HSIA Board of Directors Meeting
DESCRIPTION:All HSIA meetings begin at 7pm in the Barn Commons on Key School campus. The Board meets on the last Thursday of every month. Meetings are open\, all are welcome to attend\, however\, guests are not permitted to participate in the board meetings unless recognized by the Board. HSIA General Membership meetings are open to all & participation is welcome! \nTo attend a meeting virtually: \nHSIA Zoom Meetings\, Meeting ID: 854 4258 3295\, Passcode: 21403
URL:https://hillsmereshores.org/event/hsia-board-of-directors-meeting-24/
LOCATION:Barn Commons @ Key School
CATEGORIES:Board Meeting,HSIA
ORGANIZER;CN="HSIA":MAILTO:admin@hillsmereshores.org
END:VEVENT
BEGIN:VEVENT
DTSTART;TZID=America/New_York:20230415T100000
DTEND;TZID=America/New_York:20230415T120000
DTSTAMP:20260421T003744
CREATED:20230404T075109Z
LAST-MODIFIED:20230404T075131Z
UID:6289-1681552800-1681560000@hillsmereshores.org
SUMMARY:Environmental and Shoreline Conservation and Protection Committees Meeting
DESCRIPTION:
URL:https://hillsmereshores.org/event/environmental-and-shoreline-conservation-and-protection-committees/
LOCATION:Hillsmere Beach – Walker Pavilion
CATEGORIES:Committee Meeting
ORGANIZER;CN="HSIA":MAILTO:admin@hillsmereshores.org
END:VEVENT
BEGIN:VEVENT
DTSTART;TZID=America/New_York:20230411T190000
DTEND;TZID=America/New_York:20230411T210000
DTSTAMP:20260421T003744
CREATED:20230406T070740Z
LAST-MODIFIED:20230409T072929Z
UID:6297-1681239600-1681246800@hillsmereshores.org
SUMMARY:Piers & Harbors Committee Meeting
DESCRIPTION:4/11/23 Agenda items include: \n\nLiving Shoreline update—review of design drawings; schedule for approvals.\nNew boat lifts – contract award for late April piling installation; contract award for electrical work.\nManagement of lift slip wait list – priority of lift slip assignments\, change to Rule 4.1\nSlips Committee Report.\nSecurity camera system – award of contract to Custom Access & Security; features and schedule.\nMarina Operations:\n\nIce Eater removal and storage;\nWaste and Water Systems activation;\nGravel refresh;\nPedestal replacement A & C Docks;\nResuming slip improvements project.
URL:https://hillsmereshores.org/event/piers-harbors-committee-meeting-49/
LOCATION:Barn Commons @ Key School
CATEGORIES:Committee Meeting,Piers & Harbors
END:VEVENT
BEGIN:VEVENT
DTSTART;TZID=America/New_York:20230408T100000
DTEND;TZID=America/New_York:20230408T110000
DTSTAMP:20260421T003744
CREATED:20230107T055257Z
LAST-MODIFIED:20230322T010441Z
UID:5969-1680948000-1680951600@hillsmereshores.org
SUMMARY:Annual Easter Egg Hunt
DESCRIPTION:Hop on over! The annual Hillsmere Easter Egg Hunt will be at the Hillsmere Beach on Saturday\, April 8th at 10 AM! Children will be separated by age groups to hunt for eggs in different areas of the beach. Please remember to bring a basket to collect eggs. Hunt will start promptly at 10 AM. It’s a good idea to arrive 5-10 minutes early. Light refreshments will be served after the hunt.
URL:https://hillsmereshores.org/event/annual-easter-egg-hunt-2/
LOCATION:Hillsmere Beach
ORGANIZER;CN="HSIA":MAILTO:admin@hillsmereshores.org
END:VEVENT
BEGIN:VEVENT
DTSTART;TZID=America/New_York:20230330T190000
DTEND;TZID=America/New_York:20230330T210000
DTSTAMP:20260421T003744
CREATED:20221025T081822Z
LAST-MODIFIED:20221025T081822Z
UID:5892-1680202800-1680210000@hillsmereshores.org
SUMMARY:HSIA Board of Directors Meeting
DESCRIPTION:All HSIA meetings begin at 7pm in the Barn Commons on Key School campus. The Board meets on the last Thursday of every month. Meetings are open\, all are welcome to attend\, however\, guests are not permitted to participate in the board meetings unless recognized by the Board. HSIA General Membership meetings are open to all & participation is welcome! \nTo attend a meeting virtually: \nHSIA Zoom Meetings\, Meeting ID: 854 4258 3295\, Passcode: 21403
URL:https://hillsmereshores.org/event/hsia-board-of-directors-meeting-23/
LOCATION:Barn Commons @ Key School
CATEGORIES:Board Meeting,HSIA
ORGANIZER;CN="HSIA":MAILTO:admin@hillsmereshores.org
END:VEVENT
BEGIN:VEVENT
DTSTART;TZID=America/New_York:20230319T150000
DTEND;TZID=America/New_York:20230319T170000
DTSTAMP:20260421T003744
CREATED:20230107T055118Z
LAST-MODIFIED:20230221T074632Z
UID:5967-1679238000-1679245200@hillsmereshores.org
SUMMARY:Annual Burning of the Socks
DESCRIPTION:It’s that time again…time to Burn Your Socks! Please join your friends and neighbors on Sunday\, March 19\, from 3:00 to 5:00 pm at the Community Beach to welcome the start of Spring with the Annapolis tradition of BURNING OF THE SOCKS! Hillsmere resident Jefferson Holland\, Poet Laurate of Eastport\, will be on hand to recite his Ode to the Equinox and Burning of the Sock. Due to the thick\, black smoke created by synthetic or polyester\, please only bring cotton or wool socks to throw on the fire. A limited amount of raw oysters will be provided\, first come\, first served. This event is lite rain or shine\, however\, heavy weather may cancel this event. Hope to see you there! \n 
URL:https://hillsmereshores.org/event/annual-burning-of-the-socks/
LOCATION:Hillsmere Beach
ORGANIZER;CN="HSIA":MAILTO:admin@hillsmereshores.org
END:VEVENT
BEGIN:VEVENT
DTSTART;TZID=America/New_York:20230314T190000
DTEND;TZID=America/New_York:20230314T210000
DTSTAMP:20260421T003744
CREATED:20221025T083242Z
LAST-MODIFIED:20221025T083242Z
UID:5914-1678820400-1678827600@hillsmereshores.org
SUMMARY:Piers & Harbors Committee Meeting
DESCRIPTION:
URL:https://hillsmereshores.org/event/piers-harbors-committee-meeting-43/
LOCATION:Barn Commons @ Key School
CATEGORIES:Committee Meeting,Piers & Harbors
END:VEVENT
END:VCALENDAR