BEGIN:VCALENDAR
VERSION:2.0
PRODID:-//Hillsmere Shores - ECPv6.15.20//NONSGML v1.0//EN
CALSCALE:GREGORIAN
METHOD:PUBLISH
X-WR-CALNAME:Hillsmere Shores
X-ORIGINAL-URL:https://hillsmereshores.org
X-WR-CALDESC:Events for Hillsmere Shores
REFRESH-INTERVAL;VALUE=DURATION:PT1H
X-Robots-Tag:noindex
X-PUBLISHED-TTL:PT1H
BEGIN:VTIMEZONE
TZID:America/New_York
BEGIN:DAYLIGHT
TZOFFSETFROM:-0500
TZOFFSETTO:-0400
TZNAME:EDT
DTSTART:20180311T070000
END:DAYLIGHT
BEGIN:STANDARD
TZOFFSETFROM:-0400
TZOFFSETTO:-0500
TZNAME:EST
DTSTART:20181104T060000
END:STANDARD
BEGIN:DAYLIGHT
TZOFFSETFROM:-0500
TZOFFSETTO:-0400
TZNAME:EDT
DTSTART:20190310T070000
END:DAYLIGHT
BEGIN:STANDARD
TZOFFSETFROM:-0400
TZOFFSETTO:-0500
TZNAME:EST
DTSTART:20191103T060000
END:STANDARD
BEGIN:DAYLIGHT
TZOFFSETFROM:-0500
TZOFFSETTO:-0400
TZNAME:EDT
DTSTART:20200308T070000
END:DAYLIGHT
BEGIN:STANDARD
TZOFFSETFROM:-0400
TZOFFSETTO:-0500
TZNAME:EST
DTSTART:20201101T060000
END:STANDARD
BEGIN:DAYLIGHT
TZOFFSETFROM:-0500
TZOFFSETTO:-0400
TZNAME:EDT
DTSTART:20210314T070000
END:DAYLIGHT
BEGIN:STANDARD
TZOFFSETFROM:-0400
TZOFFSETTO:-0500
TZNAME:EST
DTSTART:20211107T060000
END:STANDARD
END:VTIMEZONE
BEGIN:VEVENT
DTSTART;TZID=America/New_York:20200227T190000
DTEND;TZID=America/New_York:20200227T210000
DTSTAMP:20260421T193719
CREATED:20200122T065040Z
LAST-MODIFIED:20200122T065040Z
UID:3998-1582830000-1582837200@hillsmereshores.org
SUMMARY:HSIA Board of Directors Meeting
DESCRIPTION:
URL:https://hillsmereshores.org/event/hsia-board-of-directors-meeting-10/
LOCATION:Key School Science & Library Bldg.\, Room 101
CATEGORIES:Board Meeting
ORGANIZER;CN="HSIA":MAILTO:admin@hillsmereshores.org
END:VEVENT
BEGIN:VEVENT
DTSTART;TZID=America/New_York:20200211T190000
DTEND;TZID=America/New_York:20200211T210000
DTSTAMP:20260421T193719
CREATED:20200122T070215Z
LAST-MODIFIED:20200122T070215Z
UID:4020-1581447600-1581454800@hillsmereshores.org
SUMMARY:Piers & Harbors Committee Meeting
DESCRIPTION:Committee meets bi-monthly on the second Tuesday @ 7pm. Open meeting.
URL:https://hillsmereshores.org/event/piers-harbors-committee-meeting-33/
LOCATION:Key School Science & Library Bldg.\, Room 101
CATEGORIES:Committee Meeting,Piers & Harbors
END:VEVENT
BEGIN:VEVENT
DTSTART;TZID=America/New_York:20200211T190000
DTEND;TZID=America/New_York:20200211T200000
DTSTAMP:20260421T193719
CREATED:20200122T084247Z
LAST-MODIFIED:20200122T084247Z
UID:4050-1581447600-1581451200@hillsmereshores.org
SUMMARY:Environmental Committee Meeting
DESCRIPTION:Anyone is welcome to attend EC meetings – brighten up a winter night by joining us to make plans for the spring! Interested\, but can’t make it in person? We can call you\, just email environment@hillsmereshores.org.
URL:https://hillsmereshores.org/event/environmental-committee-meeting-3/
LOCATION:Key School Science & Library Bldg.\, Room 102
CATEGORIES:Committee Meeting
ORGANIZER;CN="Environmental Committee":MAILTO:environment@hillsmereshores.org
END:VEVENT
BEGIN:VEVENT
DTSTART;TZID=America/New_York:20200208T100000
DTEND;TZID=America/New_York:20200208T140000
DTSTAMP:20260421T193719
CREATED:20200120T074028Z
LAST-MODIFIED:20200120T074028Z
UID:3995-1581156000-1581170400@hillsmereshores.org
SUMMARY:Come And Get It Day ("CAGID")
DESCRIPTION:Come And Get It Day \nJoin us at The Key School (The Barn Commons 2nd floor)\, on Saturday\, February 8\, for our annual Hillsmere membership day. Stop by between 10:00 am and 2:00 pm to renew memberships\, pick up car and trailer stickers\, purchase boat ramp keys\, pay for slip rentals\, dinghy rack rentals\, boat park storage\, and pool membership and learn more about the HSIA. Many board members and chairs will be available to answer questions. Please join us at Key School\, in The Barn Commons building off of Carroll Drive. Please remember that Come And Get It Day closes promptly at 2:00 pm. Thank you for your understanding. \nNew in 2020: Dues have increased to $25. All other fees remain the same. \nContinuing in 2020: Individual Membership versus Household Membership \nWhen reviewing our bylaws\, the Board of Directors discovered that HSIA bylaws allow only for individual\, not household\, memberships. For this reason\, the 2020 Membership form must be completed in the name of one individual\, not the name of the household. Additional individual memberships may be added to the membership form for any person age 18 or over residing at the same address. Dues are $25 for each individual membership\, and each individual member is entitled to one vote on HSIA matters. \nPlease remember: \n\nPhotocopy of ALL registrations required: HSIA will give you one sticker for each vehicle and trailer registration you provide along with your membership form. Please attach your photocopy to the HSIA membership form and bring it with you on Come & Get It Day. Or\, you can personally show us your registrations that day only.\nSlip Holders: Please remember to bring the slip invoice\, Marina Boat Slip Permit\, and HSIA membership form to Come And Get It Day\, or return all in the mail. You MUST submit all supporting documents listed on your invoice\, along with slip payment. PAYMENTS WILL NOT BE ACCEPTED WITHOUT THE REQUIRED DOCUMENTS.\nPiers & Harbor Slip Waiting List: A onetime\, non-refundable fee of $100 is required to be added to the slip waiting list. The fee will be applied to your slip rental when you are assigned a slip.\nPool Early Sign-Up Incentives: The pool is excited to offer incentives for pool memberships purchased on or before Come And Get It Day as follows: Family memberships will receive 2 seasonal guest cards and Adult memberships will receive 1 seasonal guest card. All pool members MUST also be current members of HSIA and submit an HSIA membership form.\n\nCome And Get It Day is a Hillsmere tradition that saves our community association time and money by reducing mailing costs. Please complete the membership form in this issue and bring it with you to The Key School on February 8. You can also download it off our web site at www.hillsmereshores.org. \nCan’t make it to Come And Get It Day? No problem! Simply download and complete the form(s) below\, and mail it along with your payment and photocopied registrations to HSIA\, P.O. Box 3485\, Annapolis\, MD 21403. Your stickers and keys will be mailed to you. Please allow a few weeks processing time. \nQuestions? Call the HSIA 24-hour voice mail at 410-263-4456 or email admin@hillsmereshores.org \n2020 HSIA Membership Form \nHSIA Membership – Required Supporting Documents \nHillsmere Pool 2020 membership form \n 
URL:https://hillsmereshores.org/event/come-and-get-it-day-cagid/
LOCATION:Barn Commons @ Key School
CATEGORIES:HSIA
ORGANIZER;CN="HSIA":MAILTO:admin@hillsmereshores.org
END:VEVENT
BEGIN:VEVENT
DTSTART;TZID=America/New_York:20200130T190000
DTEND;TZID=America/New_York:20200130T210000
DTSTAMP:20260421T193719
CREATED:20200120T073124Z
LAST-MODIFIED:20200120T073124Z
UID:3993-1580410800-1580418000@hillsmereshores.org
SUMMARY:HSIA Board of Directors Meeting
DESCRIPTION:HSIA Board of Directors meets on the last Thursday of every month\, in Key School’s Barn Commons\, unless otherwise noted (link to campus map below).\nBoard meetings are open meetings\, however\, guests are not permitted to participate in the meeting unless recognized by the Board.
URL:https://hillsmereshores.org/event/hsia-board-of-directors-meeting-9/
LOCATION:Key School Barn Commons
CATEGORIES:Board Meeting
ORGANIZER;CN="HSIA":MAILTO:admin@hillsmereshores.org
END:VEVENT
BEGIN:VEVENT
DTSTART;TZID=America/New_York:20200114T190000
DTEND;TZID=America/New_York:20200114T200000
DTSTAMP:20260421T193719
CREATED:20200122T084129Z
LAST-MODIFIED:20200122T084129Z
UID:4048-1579028400-1579032000@hillsmereshores.org
SUMMARY:Environmental Committee Meeting
DESCRIPTION:The Environmental Committee will hold regular meetings the second Tuesday of the month at 7pm in Room 102 of the Key School Science and Library Center (January 14\, February 11\, etc.). The December meeting included discussions on the Shoreline Protection and Restoration Committee and a petition to the County for deer management. Since the meeting was held\, the Chesapeake Bay Trust approved an application for a $2500 Anne Arundel County Community Mini-Planting Grant. HSIA will match the funds and 500 trees and shrubs will be planted during Earth Week with the help of Arundel Rivers Federation and Key School students. Additional details will be made available in upcoming newsletters. Anyone is welcome to attend EC meetings – brighten up a winter night by joining us to make plans for the spring! Interested\, but can’t make it in person? We can call you\, just email environment@hillsmereshores.org.
URL:https://hillsmereshores.org/event/environmental-committee-meeting-2/
LOCATION:Key School Science & Library Bldg.\, Room 102
CATEGORIES:Committee Meeting
ORGANIZER;CN="Environmental Committee":MAILTO:environment@hillsmereshores.org
END:VEVENT
BEGIN:VEVENT
DTSTART;TZID=America/New_York:20200109T190000
DTEND;TZID=America/New_York:20200109T210000
DTSTAMP:20260421T193719
CREATED:20200122T082731Z
LAST-MODIFIED:20200122T082731Z
UID:4030-1578596400-1578603600@hillsmereshores.org
SUMMARY:HSIA General Membership Meeting
DESCRIPTION:Open meeting\, all residents encouraged to attend.
URL:https://hillsmereshores.org/event/hsia-general-membership-meeting-12/
LOCATION:Key School Katharine Hall
CATEGORIES:General Meeting,HSIA
ORGANIZER;CN="HSIA":MAILTO:admin@hillsmereshores.org
END:VEVENT
BEGIN:VEVENT
DTSTART;TZID=America/New_York:20191219T190000
DTEND;TZID=America/New_York:20191219T210000
DTSTAMP:20260421T193719
CREATED:20190905T014827Z
LAST-MODIFIED:20190905T014827Z
UID:3860-1576782000-1576789200@hillsmereshores.org
SUMMARY:HSIA Board of Directors
DESCRIPTION:HSIA Board of Directors meets on the last Thursday of every month\, in rooms 101/102 of Key School’s Library & Science Building (link to campus map below).\nBoard meetings are open meetings\, however\, guests are not permitted to participate in the meeting unless recognized by the Board.
URL:https://hillsmereshores.org/event/hsia-board-of-directors-4/
LOCATION:Key School Science & Library Bldg.\, Room 101
CATEGORIES:Board Meeting,Committee Meeting
ORGANIZER;CN="HSIA":MAILTO:admin@hillsmereshores.org
END:VEVENT
BEGIN:VEVENT
DTSTART;TZID=America/New_York:20191218T123000
DTEND;TZID=America/New_York:20191218T140000
DTSTAMP:20260421T193719
CREATED:20190905T020030Z
LAST-MODIFIED:20190905T020030Z
UID:3868-1576672200-1576677600@hillsmereshores.org
SUMMARY:Garden Club
DESCRIPTION:
URL:https://hillsmereshores.org/event/garden-club-19/
LOCATION:Eastport-Annapolis Neck Library\, 269 Hillsmere Drive\, Annapolis\, MD\, 21403\, United States
END:VEVENT
BEGIN:VEVENT
DTSTART;TZID=America/New_York:20191210T190000
DTEND;TZID=America/New_York:20191210T210000
DTSTAMP:20260421T193719
CREATED:20190223T030510Z
LAST-MODIFIED:20190223T030510Z
UID:3416-1576004400-1576011600@hillsmereshores.org
SUMMARY:Piers & Harbors Committee Meeting
DESCRIPTION:The P&H monthly meetings are normally held on the second Tuesday of each month at 7 p.m. in the Key School Science & Library Center (the building closest to Carroll Drive)\, Room 101. All Slip Holders\, Ramp Key Holders\, Wait Listers\, Kayakers\, Boat Parkers\, etc. are welcome and are encouraged to attend.
URL:https://hillsmereshores.org/event/piers-harbors-committee-meeting-32/
LOCATION:Key School Science & Library Bldg.\, Room 101
CATEGORIES:Committee Meeting,HSIA,Piers & Harbors
END:VEVENT
BEGIN:VEVENT
DTSTART;TZID=America/New_York:20191210T190000
DTEND;TZID=America/New_York:20191210T200000
DTSTAMP:20260421T193719
CREATED:20191204T032447Z
LAST-MODIFIED:20191204T032447Z
UID:3930-1576004400-1576008000@hillsmereshores.org
SUMMARY:Environmental Committee Meeting
DESCRIPTION:The Environmental Committee will meet on the second Tuesday of the month at 7pm in Room 102 of the Key School Science & Library Center starting December 10th.\nOver the years\, the Environmental Committee projects have included stormwater improvements and plantings at the beach\, the pool\, and canoe rack areas. Interested in helping plan or execute future projects on our community properties? Have ideas you want to share? Anyone can be a member of the Environmental Committee. If you can’t attend the meetings in person\, but are interested in calling in\, just email your contact information to environment@hillsmereshores.net.
URL:https://hillsmereshores.org/event/environmental-committee-meeting/
LOCATION:Key School Science & Library Bldg.\, Room 102
ORGANIZER;CN="Environmental Committee":MAILTO:environment@hillsmereshores.org
END:VEVENT
BEGIN:VEVENT
DTSTART;TZID=America/New_York:20191208T183000
DTEND;TZID=America/New_York:20191208T200000
DTSTAMP:20260421T193719
CREATED:20190223T033344Z
LAST-MODIFIED:20190223T033344Z
UID:3452-1575829800-1575835200@hillsmereshores.org
SUMMARY:Santa's Run
DESCRIPTION:Annual toy drive – Santa’s arrival time varies & will be confirmed closer to event date.
URL:https://hillsmereshores.org/event/santas-run-4/
LOCATION:Hillsmere Pool
CATEGORIES:HSIA,Pool,Recreation
ORGANIZER;CN="HSIA":MAILTO:admin@hillsmereshores.org
END:VEVENT
BEGIN:VEVENT
DTSTART;TZID=America/New_York:20191207T100000
DTEND;TZID=America/New_York:20191207T120000
DTSTAMP:20260421T193719
CREATED:20191204T032111Z
LAST-MODIFIED:20191204T032111Z
UID:3928-1575712800-1575720000@hillsmereshores.org
SUMMARY:Annual Ice Eater Installation Party
DESCRIPTION:ANNUAL ICE-EATER INSTALLATION PARTY – SATURDAY 12/7 AT 10:00 A.M.\nIt’s that time of year again! Time to place ice-eaters throughout the Marina to protect from ice we hope never materializes\, but always seems to. Come one! Come all! We need an hour or two of your time to transport 22 ice-eaters from the Hillsmere House (119 Great Lake Drive)\, position them around the Marina in certain vacant slips and on four fixed brackets\, plug them in and test them.\nOne or two pickup trucks\, and a few strong men and women\, are needed at Hillsmere House starting at 9:30 a.m. for transporting the units to the Marina. Positioning and installation should begin about 10:00 a.m. at the Marina\, where there will be coffee and donuts to revive everyone from their labors.\nIf you can help\, please RSVP to:\nNorm Johansen: Normjohansen@gmail.com \, or Steve Vanderbosch: marina@hillsmereshores.net\nLet’s Do This!
URL:https://hillsmereshores.org/event/annual-ice-eater-installation-party/
LOCATION:Hillsmere Marina
END:VEVENT
BEGIN:VEVENT
DTSTART;TZID=America/New_York:20191128T190000
DTEND;TZID=America/New_York:20191128T210000
DTSTAMP:20260421T193719
CREATED:20190905T014619Z
LAST-MODIFIED:20190905T014652Z
UID:3858-1574967600-1574974800@hillsmereshores.org
SUMMARY:HSIA Board of Directors
DESCRIPTION:HSIA Board of Directors meets on the last Thursday of every month\, in rooms 101/102 of Key School’s Library & Science Building (link to campus map below).\nBoard meetings are open meetings\, however\, guests are not permitted to participate in the meeting unless recognized by the Board.
URL:https://hillsmereshores.org/event/hsia-board-of-directors-3/
LOCATION:Key School Science & Library Bldg.\, Room 101
CATEGORIES:Board Meeting,Committee Meeting
ORGANIZER;CN="HSIA":MAILTO:admin@hillsmereshores.org
END:VEVENT
BEGIN:VEVENT
DTSTART;TZID=America/New_York:20191120T123000
DTEND;TZID=America/New_York:20191120T140000
DTSTAMP:20260421T193719
CREATED:20190905T015949Z
LAST-MODIFIED:20190905T015949Z
UID:3866-1574253000-1574258400@hillsmereshores.org
SUMMARY:Garden Club
DESCRIPTION:
URL:https://hillsmereshores.org/event/garden-club-18/
LOCATION:Eastport-Annapolis Neck Library\, 269 Hillsmere Drive\, Annapolis\, MD\, 21403\, United States
END:VEVENT
BEGIN:VEVENT
DTSTART;TZID=America/New_York:20191114T190000
DTEND;TZID=America/New_York:20191114T220000
DTSTAMP:20260421T193719
CREATED:20190110T021437Z
LAST-MODIFIED:20190122T015648Z
UID:3299-1573758000-1573768800@hillsmereshores.org
SUMMARY:HSIA General Membership Meeting *Board of Directors Election*
DESCRIPTION:The November HSIA General Meeting will include the election of 2020-2021 Board of Directors. Please see the October Sea Breeze for candidate bio’s\, voting instructions and a ballot.\n General Meetings are open meetings – residents are welcome & encouraged to participate! \nYou do not have to be a member of HSIA to attend\, however\, you must be a current\, paid member to participate in any voting.
URL:https://hillsmereshores.org/event/hsia-general-membership-meeting-board-of-directors-election/
LOCATION:Key School Barn Commons
CATEGORIES:General Meeting,HSIA
ORGANIZER;CN="HSIA":MAILTO:admin@hillsmereshores.org
END:VEVENT
BEGIN:VEVENT
DTSTART;TZID=America/New_York:20191112T200000
DTEND;TZID=America/New_York:20191112T210000
DTSTAMP:20260421T193719
CREATED:20190905T011952Z
LAST-MODIFIED:20190905T011952Z
UID:3849-1573588800-1573592400@hillsmereshores.org
SUMMARY:HSIA Budget Committee Meeting
DESCRIPTION:Budget Committee meets immediately following Piers & Harbors meeting on Key School Campus.
URL:https://hillsmereshores.org/event/hsia-budget-committee-meeting-4/
LOCATION:Key School Science & Library Bldg.\, Room 101
CATEGORIES:Committee Meeting
END:VEVENT
BEGIN:VEVENT
DTSTART;TZID=America/New_York:20191112T190000
DTEND;TZID=America/New_York:20191112T210000
DTSTAMP:20260421T193719
CREATED:20190223T030408Z
LAST-MODIFIED:20190223T030408Z
UID:3414-1573585200-1573592400@hillsmereshores.org
SUMMARY:Piers & Harbors Committee Meeting
DESCRIPTION:The P&H monthly meetings are normally held on the second Tuesday of each month at 7 p.m. in the Key School Science & Library Center (the building closest to Carroll Drive)\, Room 101. All Slip Holders\, Ramp Key Holders\, Wait Listers\, Kayakers\, Boat Parkers\, etc. are welcome and are encouraged to attend.
URL:https://hillsmereshores.org/event/piers-harbors-committee-meeting-31/
LOCATION:Key School Science & Library Bldg.\, Room 101
CATEGORIES:Committee Meeting,HSIA,Piers & Harbors
END:VEVENT
BEGIN:VEVENT
DTSTART;TZID=America/New_York:20191102T140000
DTEND;TZID=America/New_York:20191102T170000
DTSTAMP:20260421T193719
CREATED:20190223T033132Z
LAST-MODIFIED:20190223T033132Z
UID:3450-1572703200-1572714000@hillsmereshores.org
SUMMARY:Oyster Roast
DESCRIPTION:Details TBA
URL:https://hillsmereshores.org/event/oyster-roast/
LOCATION:Hillsmere Beach – Walker Pavilion
CATEGORIES:HSIA,Recreation
ORGANIZER;CN="HSIA":MAILTO:admin@hillsmereshores.org
END:VEVENT
BEGIN:VEVENT
DTSTART;TZID=America/New_York:20191027T130000
DTEND;TZID=America/New_York:20191027T143000
DTSTAMP:20260421T193719
CREATED:20190223T033042Z
LAST-MODIFIED:20190223T033042Z
UID:3448-1572181200-1572186600@hillsmereshores.org
SUMMARY:Halloween Parade
DESCRIPTION:Meet at Key School gazebo off Hillsmere Drive and parade down to the beach for treats.
URL:https://hillsmereshores.org/event/halloween-parade-4/
LOCATION:Hillsmere Beach – Walker Pavilion
CATEGORIES:HSIA,Recreation
ORGANIZER;CN="HSIA":MAILTO:admin@hillsmereshores.org
END:VEVENT
BEGIN:VEVENT
DTSTART;TZID=America/New_York:20191024T190000
DTEND;TZID=America/New_York:20191024T210000
DTSTAMP:20260421T193719
CREATED:20190905T014059Z
LAST-MODIFIED:20190905T014059Z
UID:3854-1571943600-1571950800@hillsmereshores.org
SUMMARY:HSIA Board of Directors
DESCRIPTION:HSIA Board of Directors meets on the last Thursday of every month\, in rooms 101/102 of Key School’s Library & Science Building (link to campus map below).\nBoard meetings are open meetings\, however\, guests are not permitted to participate in the meeting unless recognized by the Board.\nNote: October Board meeting rescheduled from 10/31 to 10/24.
URL:https://hillsmereshores.org/event/hsia-board-of-directors-2/
LOCATION:Key School Science & Library Bldg.\, Room 101
CATEGORIES:Board Meeting,Committee Meeting
ORGANIZER;CN="HSIA":MAILTO:admin@hillsmereshores.org
END:VEVENT
BEGIN:VEVENT
DTSTART;TZID=America/New_York:20191016T123000
DTEND;TZID=America/New_York:20191016T140000
DTSTAMP:20260421T193719
CREATED:20190905T015912Z
LAST-MODIFIED:20190905T015912Z
UID:3864-1571229000-1571234400@hillsmereshores.org
SUMMARY:Garden Club
DESCRIPTION:
URL:https://hillsmereshores.org/event/garden-club-17/
LOCATION:Eastport-Annapolis Neck Library\, 269 Hillsmere Drive\, Annapolis\, MD\, 21403\, United States
END:VEVENT
BEGIN:VEVENT
DTSTART;TZID=America/New_York:20191010T190000
DTEND;TZID=America/New_York:20191010T210000
DTSTAMP:20260421T193719
CREATED:20190905T014305Z
LAST-MODIFIED:20190905T014305Z
UID:3856-1570734000-1570741200@hillsmereshores.org
SUMMARY:HSIA Meet the Candidates
DESCRIPTION:
URL:https://hillsmereshores.org/event/hsia-meet-the-candidates/
LOCATION:Key School Barn Commons
ORGANIZER;CN="HSIA":MAILTO:admin@hillsmereshores.org
END:VEVENT
BEGIN:VEVENT
DTSTART;TZID=America/New_York:20191008T200000
DTEND;TZID=America/New_York:20191008T210000
DTSTAMP:20260421T193719
CREATED:20190905T011622Z
LAST-MODIFIED:20190905T011851Z
UID:3847-1570564800-1570568400@hillsmereshores.org
SUMMARY:Budget Committee Meeting
DESCRIPTION:Budget Committee meets immediately following Piers & Harbors meeting on Key School Campus.
URL:https://hillsmereshores.org/event/budget-committee-meeting-2/
LOCATION:Key School Science & Library Bldg.\, Room 101
END:VEVENT
BEGIN:VEVENT
DTSTART;TZID=America/New_York:20191008T190000
DTEND;TZID=America/New_York:20191008T210000
DTSTAMP:20260421T193719
CREATED:20190223T030304Z
LAST-MODIFIED:20190223T030304Z
UID:3412-1570561200-1570568400@hillsmereshores.org
SUMMARY:Piers & Harbors Committee Meeting
DESCRIPTION:The P&H monthly meetings are normally held on the second Tuesday of each month at 7 p.m. in the Key School Science & Library Center (the building closest to Carroll Drive)\, Room 101. All Slip Holders\, Ramp Key Holders\, Wait Listers\, Kayakers\, Boat Parkers\, etc. are welcome and are encouraged to attend.
URL:https://hillsmereshores.org/event/piers-harbors-committee-meeting-30/
LOCATION:Key School Science & Library Bldg.\, Room 101
CATEGORIES:Committee Meeting,HSIA,Piers & Harbors
END:VEVENT
BEGIN:VEVENT
DTSTART;TZID=America/New_York:20190926T190000
DTEND;TZID=America/New_York:20190926T210000
DTSTAMP:20260421T193719
CREATED:20190110T023032Z
LAST-MODIFIED:20190122T020716Z
UID:3317-1569524400-1569531600@hillsmereshores.org
SUMMARY:HSIA Board of Directors
DESCRIPTION:HSIA Board of Directors meets on the last Thursday of every month\, in rooms 101/102 of Key School’s Library & Science Building (link to campus map below).\nBoard meetings are open meetings\, however\, guests are not permitted to participate in the meeting unless recognized by the Board.
URL:https://hillsmereshores.org/event/hsia-board-of-directors/
LOCATION:Key School Science & Library Bldg.\, Room 101
CATEGORIES:Board Meeting,HSIA
ORGANIZER;CN="HSIA":MAILTO:admin@hillsmereshores.org
END:VEVENT
BEGIN:VEVENT
DTSTART;TZID=America/New_York:20190921T080000
DTEND;TZID=America/New_York:20190921T120000
DTSTAMP:20260421T193719
CREATED:20190223T032859Z
LAST-MODIFIED:20190223T032859Z
UID:3446-1569052800-1569067200@hillsmereshores.org
SUMMARY:Fall Community Yard Sale
DESCRIPTION:Rain date 9/28/19
URL:https://hillsmereshores.org/event/fall-community-yard-sale/
LOCATION:Hillsmere Beach – Walker Pavilion
CATEGORIES:HSIA,Recreation
ORGANIZER;CN="HSIA":MAILTO:admin@hillsmereshores.org
END:VEVENT
BEGIN:VEVENT
DTSTART;TZID=America/New_York:20190918T123000
DTEND;TZID=America/New_York:20190918T140000
DTSTAMP:20260421T193719
CREATED:20190905T015037Z
LAST-MODIFIED:20190905T015037Z
UID:3862-1568809800-1568815200@hillsmereshores.org
SUMMARY:Garden Club
DESCRIPTION:
URL:https://hillsmereshores.org/event/garden-club-16/
LOCATION:Eastport-Annapolis Neck Library\, 269 Hillsmere Drive\, Annapolis\, MD\, 21403\, United States
CATEGORIES:Clubs,Garden Club,Recreation
END:VEVENT
BEGIN:VEVENT
DTSTART;TZID=America/New_York:20190914T160000
DTEND;TZID=America/New_York:20190914T190000
DTSTAMP:20260421T193719
CREATED:20190223T032737Z
LAST-MODIFIED:20190223T032737Z
UID:3444-1568476800-1568487600@hillsmereshores.org
SUMMARY:Community Pig Roast
DESCRIPTION:Details TBA
URL:https://hillsmereshores.org/event/community-pig-roast/
LOCATION:Hillsmere Beach – Walker Pavilion
CATEGORIES:HSIA,Recreation
ORGANIZER;CN="HSIA":MAILTO:admin@hillsmereshores.org
END:VEVENT
BEGIN:VEVENT
DTSTART;TZID=America/New_York:20190912T190000
DTEND;TZID=America/New_York:20190912T210000
DTSTAMP:20260421T193719
CREATED:20190110T021141Z
LAST-MODIFIED:20190122T015849Z
UID:3297-1568314800-1568322000@hillsmereshores.org
SUMMARY:HSIA General Membership Meeting
DESCRIPTION:HSIA General Membership Meetings are held bi-monthly\, on the second Thursday\, in Key School’s Barn Commons.\n General Meetings are open meetings – residents are welcome & encouraged to participate! \nYou do not have to be a member of HSIA to attend\, however\, you must be a current\, paid member to participate in any voting.
URL:https://hillsmereshores.org/event/hsia-general-membership-meeting-11/
LOCATION:Barn Commons @ Key School
CATEGORIES:General Meeting,HSIA
ORGANIZER;CN="HSIA":MAILTO:admin@hillsmereshores.org
END:VEVENT
END:VCALENDAR