BEGIN:VCALENDAR
VERSION:2.0
PRODID:-//Hillsmere Shores - ECPv6.15.20//NONSGML v1.0//EN
CALSCALE:GREGORIAN
METHOD:PUBLISH
X-WR-CALNAME:Hillsmere Shores
X-ORIGINAL-URL:https://hillsmereshores.org
X-WR-CALDESC:Events for Hillsmere Shores
REFRESH-INTERVAL;VALUE=DURATION:PT1H
X-Robots-Tag:noindex
X-PUBLISHED-TTL:PT1H
BEGIN:VTIMEZONE
TZID:America/New_York
BEGIN:DAYLIGHT
TZOFFSETFROM:-0500
TZOFFSETTO:-0400
TZNAME:EDT
DTSTART:20180311T070000
END:DAYLIGHT
BEGIN:STANDARD
TZOFFSETFROM:-0400
TZOFFSETTO:-0500
TZNAME:EST
DTSTART:20181104T060000
END:STANDARD
BEGIN:DAYLIGHT
TZOFFSETFROM:-0500
TZOFFSETTO:-0400
TZNAME:EDT
DTSTART:20190310T070000
END:DAYLIGHT
BEGIN:STANDARD
TZOFFSETFROM:-0400
TZOFFSETTO:-0500
TZNAME:EST
DTSTART:20191103T060000
END:STANDARD
BEGIN:DAYLIGHT
TZOFFSETFROM:-0500
TZOFFSETTO:-0400
TZNAME:EDT
DTSTART:20200308T070000
END:DAYLIGHT
BEGIN:STANDARD
TZOFFSETFROM:-0400
TZOFFSETTO:-0500
TZNAME:EST
DTSTART:20201101T060000
END:STANDARD
END:VTIMEZONE
BEGIN:VEVENT
DTSTART;TZID=America/New_York:20190614T170000
DTEND;TZID=America/New_York:20190614T200000
DTSTAMP:20260422T184536
CREATED:20190223T031536Z
LAST-MODIFIED:20190611T125326Z
UID:3428-1560531600-1560542400@hillsmereshores.org
SUMMARY:Community Happy Hour - Pot Luck
DESCRIPTION:Come join your neighbors at the HSIA Pot Luck Happy Hour at the beach this Friday\, June 14\, from 5-8 pm. Please bring a dish to share for the pot luck (no glass\, please!).\nWe will not be providing hot dogs and hamburgers\, but grills will be available if anyone wants to use them. Please bring your own charcoal and grilling tools. Don’t forget to bring a chair and your drink of choice (no glass\, please!). We will be providing paper products\, however\, we strongly encourage you to bring your own plates and utensils for less waste.
URL:https://hillsmereshores.org/event/community-happy-hour/
LOCATION:Hillsmere Beach – Walker Pavilion
CATEGORIES:HSIA,Recreation
ORGANIZER;CN="HSIA":MAILTO:admin@hillsmereshores.org
END:VEVENT
BEGIN:VEVENT
DTSTART;TZID=America/New_York:20190611T190000
DTEND;TZID=America/New_York:20190611T210000
DTSTAMP:20260422T184536
CREATED:20190223T025749Z
LAST-MODIFIED:20190223T025749Z
UID:3404-1560279600-1560286800@hillsmereshores.org
SUMMARY:Piers & Harbors Committee Meeting
DESCRIPTION:The P&H monthly meetings are normally held on the second Tuesday of each month at 7 p.m. in the Key School Science & Library Center (the building closest to Carroll Drive)\, Room 101. All Slip Holders\, Ramp Key Holders\, Wait Listers\, Kayakers\, Boat Parkers\, etc. are welcome and are encouraged to attend.
URL:https://hillsmereshores.org/event/piers-harbors-committee-meeting-26/
LOCATION:Key School Science & Library Bldg.\, Room 101
CATEGORIES:Committee Meeting,HSIA,Piers & Harbors
END:VEVENT
BEGIN:VEVENT
DTSTART;TZID=America/New_York:20190610T180000
DTEND;TZID=America/New_York:20190610T200000
DTSTAMP:20260422T184536
CREATED:20190501T011713Z
LAST-MODIFIED:20190501T011713Z
UID:3526-1560189600-1560196800@hillsmereshores.org
SUMMARY:Volleyball
DESCRIPTION:Every Monday throughout the summer from 6-dusk. @ Hillsmere Beach volleyball court\, next to large pavilion. Residents requiring more information\, please email Craig Holt\, cnholty@gmail.com \, and/or join Hillsmere Volleyball on Facebook.
URL:https://hillsmereshores.org/event/volleyball-4/
LOCATION:Hillsmere Beach – Walker Pavilion
CATEGORIES:Recreation
END:VEVENT
BEGIN:VEVENT
DTSTART;TZID=America/New_York:20190603T180000
DTEND;TZID=America/New_York:20190603T200000
DTSTAMP:20260422T184536
CREATED:20190501T011025Z
LAST-MODIFIED:20190501T011025Z
UID:3524-1559584800-1559592000@hillsmereshores.org
SUMMARY:Volleyball
DESCRIPTION:Starting 5/20/19 & continues every Monday throughout the summer from 6-dusk. @ Hillsmere Beach volleyball court\, next to large pavilion. Residents requiring more information\, please email Craig Holt\, cnholty@gmail.com \, and/or join Hillsmere Volleyball on Facebook.
URL:https://hillsmereshores.org/event/volleyball-3/
LOCATION:Hillsmere Beach – Walker Pavilion
CATEGORIES:Recreation
END:VEVENT
BEGIN:VEVENT
DTSTART;TZID=America/New_York:20190530T190000
DTEND;TZID=America/New_York:20190530T210000
DTSTAMP:20260422T184536
CREATED:20190110T022613Z
LAST-MODIFIED:20190122T020436Z
UID:3309-1559242800-1559250000@hillsmereshores.org
SUMMARY:HSIA Board of Directors Meeting
DESCRIPTION:HSIA Board of Directors meets on the last Thursday of every month\, in rooms 101/102 of Key School’s Library & Science Building (link to campus map below).\nBoard meetings are open meetings\, however\, guests are not permitted to participate in the meeting unless recognized by the Board.
URL:https://hillsmereshores.org/event/hsia-board-of-directors-meeting-5/
LOCATION:Key School Science & Library Bldg.\, Room 101
CATEGORIES:Board Meeting,HSIA
ORGANIZER;CN="HSIA":MAILTO:admin@hillsmereshores.org
END:VEVENT
BEGIN:VEVENT
DTSTART;TZID=America/New_York:20190527T180000
DTEND;TZID=America/New_York:20190527T200000
DTSTAMP:20260422T184536
CREATED:20190501T010845Z
LAST-MODIFIED:20190501T010932Z
UID:3522-1558980000-1558987200@hillsmereshores.org
SUMMARY:Volleyball
DESCRIPTION:Starting 5/20/19 & continues every Monday throughout the summer from 6-dusk. @ Hillsmere Beach volleyball court\, next to large pavilion. Residents requiring more information\, please email Craig Holt\, cnholty@gmail.com \, and/or join Hillsmere Volleyball on Facebook.
URL:https://hillsmereshores.org/event/volleyball-2/
LOCATION:Hillsmere Beach – Walker Pavilion
CATEGORIES:Recreation
END:VEVENT
BEGIN:VEVENT
DTSTART;TZID=America/New_York:20190527T100000
DTEND;TZID=America/New_York:20190527T120000
DTSTAMP:20260422T184536
CREATED:20190501T013404Z
LAST-MODIFIED:20190501T013404Z
UID:3556-1558951200-1558958400@hillsmereshores.org
SUMMARY:Memorial Day Ceremony
DESCRIPTION:Memorial Day at the Beach – “Before They’re All Gone” – Please join us at the community beach on Memorial Day\, Monday\, May 27\, for a special Memorial Day recognition of all branches of the service.  The ceremony will start at 10:00 am.  Coffee and donuts will be available for all.  Everyone is invited and we hope that you will invite your veteran family members.  Please ask them to bring any service-related photos or medals.  If they can still wear their uniform\, that would be great!  Reverend Eric Heliker will give a sermon.  If anyone in Hillsmere can play a trumpet\, please contact Mac\, our Stay Alert Security Officer\, at 443-388-7658.  Please join us for this special celebration to honor and thank our veterans for their dedication to us and to our Country! \n 
URL:https://hillsmereshores.org/event/memorial-day-ceremony-2/
LOCATION:Hillsmere Beach – Walker Pavilion
CATEGORIES:HSIA,Recreation
ORGANIZER;CN="HSIA":MAILTO:admin@hillsmereshores.org
END:VEVENT
BEGIN:VEVENT
DTSTART;VALUE=DATE:20190527
DTEND;VALUE=DATE:20190528
DTSTAMP:20260422T184536
CREATED:20190223T033835Z
LAST-MODIFIED:20190223T033835Z
UID:3457-1558915200-1559001599@hillsmereshores.org
SUMMARY:Memorial Day Pool Party
DESCRIPTION:Members only.  Details TBA
URL:https://hillsmereshores.org/event/memorial-day-pool-party-2/
LOCATION:Hillsmere Pool
CATEGORIES:HSIA,Pool,Recreation
ORGANIZER;CN="Pool Committee":MAILTO:pool@hillsmereshores.org
END:VEVENT
BEGIN:VEVENT
DTSTART;VALUE=DATE:20190525
DTEND;VALUE=DATE:20190526
DTSTAMP:20260422T184536
CREATED:20190223T033624Z
LAST-MODIFIED:20190223T033624Z
UID:3454-1558742400-1558828799@hillsmereshores.org
SUMMARY:Opening Day - Hillsmere Pool
DESCRIPTION:Members only.
URL:https://hillsmereshores.org/event/opening-day-hillsmere-pool/
LOCATION:Hillsmere Pool
CATEGORIES:HSIA,Pool
ORGANIZER;CN="Pool Committee":MAILTO:pool@hillsmereshores.org
END:VEVENT
BEGIN:VEVENT
DTSTART;TZID=America/New_York:20190520T180000
DTEND;TZID=America/New_York:20190520T200000
DTSTAMP:20260422T184536
CREATED:20190501T010629Z
LAST-MODIFIED:20190501T010629Z
UID:3520-1558375200-1558382400@hillsmereshores.org
SUMMARY:Volleyball
DESCRIPTION:Starting 5/20/19 & continues every Monday throughout the summer from 6-dusk. Residents requiring more information\, please email Craig Holt\, cnholty@gmail.com \, and/or join Hillsmere Volleyball on Facebook.
URL:https://hillsmereshores.org/event/volleyball/
LOCATION:Hillsmere Beach – Walker Pavilion
CATEGORIES:Recreation
END:VEVENT
BEGIN:VEVENT
DTSTART;TZID=America/New_York:20190515T123000
DTEND;TZID=America/New_York:20190515T140000
DTSTAMP:20260422T184536
CREATED:20190223T030925Z
LAST-MODIFIED:20190223T030925Z
UID:3420-1557923400-1557928800@hillsmereshores.org
SUMMARY:Garden Club
DESCRIPTION:Those with an interest in gardening related subjects are invited to the club\, which meets September through May on the third Wednesday of each month.  Visitors are always welcome.   For those wishing to join\, annual dues for September through May are $20.
URL:https://hillsmereshores.org/event/garden-club-15/
LOCATION:Eastport-Annapolis Neck Library\, 269 Hillsmere Drive\, Annapolis\, MD\, 21403\, United States
CATEGORIES:Clubs,Garden Club,HSIA,Recreation
END:VEVENT
BEGIN:VEVENT
DTSTART;TZID=America/New_York:20190514T190000
DTEND;TZID=America/New_York:20190514T210000
DTSTAMP:20260422T184536
CREATED:20190223T025559Z
LAST-MODIFIED:20190223T025559Z
UID:3402-1557860400-1557867600@hillsmereshores.org
SUMMARY:Piers & Harbors Committee Meeting
DESCRIPTION:The P&H monthly meetings are normally held on the second Tuesday of each month at 7 p.m. in the Key School Science & Library Center (the building closest to Carroll Drive)\, Room 101. All Slip Holders\, Ramp Key Holders\, Wait Listers\, Kayakers\, Boat Parkers\, etc. are welcome and are encouraged to attend.
URL:https://hillsmereshores.org/event/piers-harbors-committee-meeting-25/
LOCATION:Key School Science & Library Bldg.\, Room 101
CATEGORIES:Committee Meeting,HSIA,Piers & Harbors
END:VEVENT
BEGIN:VEVENT
DTSTART;TZID=America/New_York:20190514T190000
DTEND;TZID=America/New_York:20190514T200000
DTSTAMP:20260422T184536
CREATED:20190501T013830Z
LAST-MODIFIED:20190501T013830Z
UID:3560-1557860400-1557864000@hillsmereshores.org
SUMMARY:Pool Committee Meeting
DESCRIPTION:Our next committee meeting is May 14th @ 7pm – at the Pool\, if raining we will go to our regularly scheduled location – Room 102 of the Library and Sciences building at Key School.  
URL:https://hillsmereshores.org/event/pool-committee-meeting-2/
LOCATION:Hillsmere Pool
CATEGORIES:Committee Meeting,Pool
ORGANIZER;CN="Pool Committee":MAILTO:pool@hillsmereshores.org
END:VEVENT
BEGIN:VEVENT
DTSTART;TZID=America/New_York:20190511T090000
DTEND;TZID=America/New_York:20190511T120000
DTSTAMP:20260422T184536
CREATED:20190501T013656Z
LAST-MODIFIED:20190507T000633Z
UID:3558-1557565200-1557576000@hillsmereshores.org
SUMMARY:Pool Pre-Season Clean Up
DESCRIPTION:Our cleanup day will be Saturday\, May 11th @ 9am.  We need people to put flowers into planters\, power wash furniture\, and general preparations for opening day.  Rain date will be May 19th. \nNOTE: A one day guest pass will be issued to each adult 2019 pool member that volunteers to clean up. \nSign up here!
URL:https://hillsmereshores.org/event/pool-pre-season-clean-up/
LOCATION:Hillsmere Pool
CATEGORIES:Pool,Recreation
ORGANIZER;CN="Pool Committee":MAILTO:pool@hillsmereshores.org
END:VEVENT
BEGIN:VEVENT
DTSTART;TZID=America/New_York:20190511T080000
DTEND;TZID=America/New_York:20190511T120000
DTSTAMP:20260422T184536
CREATED:20190501T012908Z
LAST-MODIFIED:20190501T012908Z
UID:3550-1557561600-1557576000@hillsmereshores.org
SUMMARY:Marina Nautical Yard Sale
DESCRIPTION:Clean out your boats\, garages and attics and bring your boat related treasures to the marina for our Nautical yard sale.  The sale is scheduled for Saturday\, May 11\, from 8 am to noon.  Space is available on a first come\, first served basis.  No reservations are required.  Residents are responsible for cleanup of their area.  Please take home your leftovers.  Don’t leave unsold items at the marina.  Set up of your tables should be as much on the grassy area as you can get.  We want the gravel parking lot to be as clear as it can be.  If you have any questions\, please email Donna Shuman at svmoonraker@gmail.com or call the HSIA voice mail at 410-263-4456. \n 
URL:https://hillsmereshores.org/event/marina-nautical-yard-sale/
LOCATION:Hillsmere Marina
ORGANIZER;CN="HSIA":MAILTO:admin@hillsmereshores.org
END:VEVENT
BEGIN:VEVENT
DTSTART;TZID=America/New_York:20190509T190000
DTEND;TZID=America/New_York:20190509T210000
DTSTAMP:20260422T184536
CREATED:20190110T020930Z
LAST-MODIFIED:20190122T020020Z
UID:3293-1557428400-1557435600@hillsmereshores.org
SUMMARY:HSIA General Membership Meeting
DESCRIPTION:HSIA General Membership Meetings are held bi-monthly\, on the second Thursday\, in Key School’s Barn Commons.\n General Meetings are open meetings – residents are welcome & encouraged to participate! \nYou do not have to be a member of HSIA to attend\, however\, you must be a current\, paid member to participate in any voting.
URL:https://hillsmereshores.org/event/hsia-general-membership-meeting-9/
LOCATION:Barn Commons @ Key School
CATEGORIES:General Meeting,HSIA
ORGANIZER;CN="HSIA":MAILTO:admin@hillsmereshores.org
END:VEVENT
BEGIN:VEVENT
DTSTART;TZID=America/New_York:20190504T110000
DTEND;TZID=America/New_York:20190504T120000
DTSTAMP:20260422T184536
CREATED:20190501T013229Z
LAST-MODIFIED:20190501T013229Z
UID:3554-1556967600-1556971200@hillsmereshores.org
SUMMARY:Beach Committee Meeting
DESCRIPTION:
URL:https://hillsmereshores.org/event/beach-committee-meeting-3/
LOCATION:Hillsmere Beach – Walker Pavilion
CATEGORIES:Beach,Committee Meeting
END:VEVENT
BEGIN:VEVENT
DTSTART;TZID=America/New_York:20190504T090000
DTEND;TZID=America/New_York:20190504T110000
DTSTAMP:20260422T184536
CREATED:20190223T031420Z
LAST-MODIFIED:20190501T013109Z
UID:3426-1556960400-1556967600@hillsmereshores.org
SUMMARY:Spring Beach Clean Up
DESCRIPTION:Help get the beach ready for another summer season. Bring rakes\, shovels\, gloves & stick around for the Beach Committee meeting immediately following @ 11am.
URL:https://hillsmereshores.org/event/spring-beach-clean-up-2/
LOCATION:Hillsmere Beach – Walker Pavilion
CATEGORIES:Beach,HSIA
ORGANIZER;CN="Beach Committee":MAILTO:beach@hillsmereshores.org
END:VEVENT
BEGIN:VEVENT
DTSTART;TZID=America/New_York:20190427T080000
DTEND;TZID=America/New_York:20190427T120000
DTSTAMP:20260422T184536
CREATED:20190223T031259Z
LAST-MODIFIED:20190223T031259Z
UID:3424-1556352000-1556366400@hillsmereshores.org
SUMMARY:Spring Community Yard Sale
DESCRIPTION:Rain date 5/11/19
URL:https://hillsmereshores.org/event/spring-community-yard-sale/
LOCATION:Hillsmere Beach – Walker Pavilion
CATEGORIES:HSIA,Recreation
ORGANIZER;CN="HSIA":MAILTO:admin@hillsmereshores.org
END:VEVENT
BEGIN:VEVENT
DTSTART;TZID=America/New_York:20190425T190000
DTEND;TZID=America/New_York:20190425T210000
DTSTAMP:20260422T184536
CREATED:20190110T022511Z
LAST-MODIFIED:20190122T020919Z
UID:3307-1556218800-1556226000@hillsmereshores.org
SUMMARY:HSIA Board of Directors Meeting
DESCRIPTION:HSIA Board of Directors meets on the last Thursday of every month\, in rooms 101/102 of Key School’s Library & Science Building (link to campus map below).\nBoard meetings are open meetings\, however\, guests are not permitted to participate in the meeting unless recognized by the Board.
URL:https://hillsmereshores.org/event/hsia-board-of-directors-meeting-4/
LOCATION:Key School Science & Library Bldg.\, Room 101
CATEGORIES:Board Meeting,HSIA
ORGANIZER;CN="HSIA":MAILTO:admin@hillsmereshores.org
END:VEVENT
BEGIN:VEVENT
DTSTART;TZID=America/New_York:20190420T100000
DTEND;TZID=America/New_York:20190420T110000
DTSTAMP:20260422T184536
CREATED:20190223T031120Z
LAST-MODIFIED:20190223T031120Z
UID:3422-1555754400-1555758000@hillsmereshores.org
SUMMARY:Easter Egg Hunt
DESCRIPTION:
URL:https://hillsmereshores.org/event/easter-egg-hunt-2/
LOCATION:Hillsmere Beach – Walker Pavilion
CATEGORIES:HSIA,Recreation
ORGANIZER;CN="HSIA":MAILTO:admin@hillsmereshores.org
END:VEVENT
BEGIN:VEVENT
DTSTART;TZID=America/New_York:20190417T123000
DTEND;TZID=America/New_York:20190417T140000
DTSTAMP:20260422T184536
CREATED:20190223T030823Z
LAST-MODIFIED:20190223T030823Z
UID:3418-1555504200-1555509600@hillsmereshores.org
SUMMARY:Garden Club
DESCRIPTION:Those with an interest in gardening related subjects are invited to the club\, which meets September through May on the third Wednesday of each month.  Visitors are always welcome.   For those wishing to join\, annual dues for September through May are $20.
URL:https://hillsmereshores.org/event/garden-club-14/
LOCATION:Eastport-Annapolis Neck Library\, 269 Hillsmere Drive\, Annapolis\, MD\, 21403\, United States
CATEGORIES:Clubs,Garden Club,HSIA,Recreation
END:VEVENT
BEGIN:VEVENT
DTSTART;TZID=America/New_York:20190413T100000
DTEND;TZID=America/New_York:20190413T130000
DTSTAMP:20260422T184536
CREATED:20190411T030405Z
LAST-MODIFIED:20190411T030405Z
UID:3506-1555149600-1555160400@hillsmereshores.org
SUMMARY:ICE EATER REMOVAL PARTY and MARINA CLEAN UP 4/13 @ 10am
DESCRIPTION:ICE EATER REMOVAL PARTY and MARINA CLEAN UP \nCome One! Come All! To the annual Ice Eater Removal Party! \nSATURDAY APRIL 13TH AT 10:00 A.M. at the Marina \n\nOur 24 Ice Eaters have done their job and kept the Winter ice away. Now it’s time to haul them out\, power wash them\, and store them away until next year. Many hands make light work—Volunteers are needed to haul the ice eaters out and cart them to two power washing stations\, then wrap up their cords for summer storage. \nAnd then (since you’re already there): Spend a few minutes more cleaning up the Marina for Spring! \nSimple tasks await: Cutting back bay grasses\, raking up pine cones and other debris\, and picking trash and debris off the rip-rap. Welcome the new Boating season with a little Spring Clean Up! \nDid we mention there will be DONUTS and COFFEE?? \nPLEASE VOLUNTEER AN HOUR OR TWO OF YOUR TIME TO KEEP OUR MARINA LOOKING GOOD!
URL:https://hillsmereshores.org/event/ice-eater-removal-party-and-marina-clean-up-4-13-10am/
LOCATION:Hillsmere Marina
END:VEVENT
BEGIN:VEVENT
DTSTART;TZID=America/New_York:20190409T190000
DTEND;TZID=America/New_York:20190409T210000
DTSTAMP:20260422T184536
CREATED:20190223T025409Z
LAST-MODIFIED:20190223T025409Z
UID:3400-1554836400-1554843600@hillsmereshores.org
SUMMARY:Piers & Harbors Committee Meeting
DESCRIPTION:The P&H monthly meetings are normally held on the second Tuesday of each month at 7 p.m. in the Key School Science & Library Center (the building closest to Carroll Drive)\, Room 101. All Slip Holders\, Ramp Key Holders\, Wait Listers\, Kayakers\, Boat Parkers\, etc. are welcome and are encouraged to attend.
URL:https://hillsmereshores.org/event/piers-harbors-committee-meeting-24/
LOCATION:Key School Science & Library Bldg.\, Room 101
CATEGORIES:Committee Meeting,HSIA,Piers & Harbors
END:VEVENT
BEGIN:VEVENT
DTSTART;TZID=America/New_York:20190329T190000
DTEND;TZID=America/New_York:20190329T210000
DTSTAMP:20260422T184536
CREATED:20190110T022417Z
LAST-MODIFIED:20190122T020851Z
UID:3305-1553886000-1553893200@hillsmereshores.org
SUMMARY:HSIA Board of Directors Meeting
DESCRIPTION:HSIA Board of Directors meets on the last Thursday of every month\, in rooms 101/102 of Key School’s Library & Science Building (link to campus map below).\nBoard meetings are open meetings\, however\, guests are not permitted to participate in the meeting unless recognized by the Board.
URL:https://hillsmereshores.org/event/hsia-board-of-directors-meeting-3/
LOCATION:Key School Science & Library Bldg.\, Room 101
CATEGORIES:Board Meeting,HSIA
ORGANIZER;CN="HSIA":MAILTO:admin@hillsmereshores.org
END:VEVENT
BEGIN:VEVENT
DTSTART;TZID=America/New_York:20190320T160000
DTEND;TZID=America/New_York:20190320T190000
DTSTAMP:20260422T184536
CREATED:20190223T024758Z
LAST-MODIFIED:20190223T024758Z
UID:3396-1553097600-1553108400@hillsmereshores.org
SUMMARY:Sock Burning - Rain or Shine!
DESCRIPTION:Please join us on the First Day of Spring\, Wednesday\, March 20\, from 4:00 to 7:00 pm\, at our community beach for a unique Annapolis tradition\, Burning of the Socks!  Bring a beverage\, bring a chair and bring a pair of old socks to burn.  Light refreshments will be provided. This event is rain or shine!
URL:https://hillsmereshores.org/event/sock-burning-rain-or-shine/
LOCATION:Hillsmere Beach – Walker Pavilion
CATEGORIES:HSIA,Recreation
ORGANIZER;CN="HSIA":MAILTO:admin@hillsmereshores.org
END:VEVENT
BEGIN:VEVENT
DTSTART;TZID=America/New_York:20190314T190000
DTEND;TZID=America/New_York:20190314T210000
DTSTAMP:20260422T184536
CREATED:20190110T020416Z
LAST-MODIFIED:20190122T020104Z
UID:3290-1552590000-1552597200@hillsmereshores.org
SUMMARY:HSIA General Membership Meeting
DESCRIPTION:HSIA General Membership Meetings are held bi-monthly\, on the second Thursday\, in Key School’s Barn Commons.\n General Meetings are open meetings – residents are welcome & encouraged to participate! \nYou do not have to be a member of HSIA to attend\, however\, you must be a current\, paid member to participate in any voting.
URL:https://hillsmereshores.org/event/hsia-general-membership-meeting-8/
LOCATION:Barn Commons @ Key School
CATEGORIES:General Meeting,HSIA
ORGANIZER;CN="HSIA":MAILTO:admin@hillsmereshores.org
END:VEVENT
BEGIN:VEVENT
DTSTART;TZID=America/New_York:20190312T190000
DTEND;TZID=America/New_York:20190312T210000
DTSTAMP:20260422T184536
CREATED:20190223T025233Z
LAST-MODIFIED:20190223T025233Z
UID:3398-1552417200-1552424400@hillsmereshores.org
SUMMARY:Piers & Harbors Committee Meeting
DESCRIPTION:The P&H monthly meetings are normally held on the second Tuesday of each month at 7 p.m. in the Key School Science & Library Center (the building closest to Carroll Drive)\, Room 101. All Slip Holders\, Ramp Key Holders\, Wait Listers\, Kayakers\, Boat Parkers\, etc. are welcome and are encouraged to attend. \n 
URL:https://hillsmereshores.org/event/piers-harbors-committee-meeting-23/
LOCATION:Key School Science & Library Bldg.\, Room 101
CATEGORIES:Committee Meeting,HSIA,Piers & Harbors
END:VEVENT
BEGIN:VEVENT
DTSTART;TZID=America/New_York:20190312T190000
DTEND;TZID=America/New_York:20190312T210000
DTSTAMP:20260422T184536
CREATED:20190223T024448Z
LAST-MODIFIED:20190223T024448Z
UID:3394-1552417200-1552424400@hillsmereshores.org
SUMMARY:Pool Committee Meeting
DESCRIPTION:
URL:https://hillsmereshores.org/event/pool-committee-meeting/
LOCATION:Key School Science & Library Bldg.\, Room 102
CATEGORIES:Committee Meeting,HSIA,Pool
ORGANIZER;CN="Pool Committee":MAILTO:pool@hillsmereshores.org
END:VEVENT
BEGIN:VEVENT
DTSTART;TZID=America/New_York:20190305T190000
DTEND;TZID=America/New_York:20190305T210000
DTSTAMP:20260422T184536
CREATED:20190223T024232Z
LAST-MODIFIED:20190301T033647Z
UID:3392-1551812400-1551819600@hillsmereshores.org
SUMMARY:Beach Committee Meeting
DESCRIPTION:
URL:https://hillsmereshores.org/event/beach-committee-meeting-2/
LOCATION:Key School Science & Library Bldg.\, Room 101
CATEGORIES:Beach,HSIA
ORGANIZER;CN="Beach Committee":MAILTO:beach@hillsmereshores.org
END:VEVENT
END:VCALENDAR