BEGIN:VCALENDAR
VERSION:2.0
PRODID:-//Hillsmere Shores - ECPv6.15.20//NONSGML v1.0//EN
CALSCALE:GREGORIAN
METHOD:PUBLISH
X-WR-CALNAME:Hillsmere Shores
X-ORIGINAL-URL:https://hillsmereshores.org
X-WR-CALDESC:Events for Hillsmere Shores
REFRESH-INTERVAL;VALUE=DURATION:PT1H
X-Robots-Tag:noindex
X-PUBLISHED-TTL:PT1H
BEGIN:VTIMEZONE
TZID:America/New_York
BEGIN:DAYLIGHT
TZOFFSETFROM:-0500
TZOFFSETTO:-0400
TZNAME:EDT
DTSTART:20200308T070000
END:DAYLIGHT
BEGIN:STANDARD
TZOFFSETFROM:-0400
TZOFFSETTO:-0500
TZNAME:EST
DTSTART:20201101T060000
END:STANDARD
BEGIN:DAYLIGHT
TZOFFSETFROM:-0500
TZOFFSETTO:-0400
TZNAME:EDT
DTSTART:20210314T070000
END:DAYLIGHT
BEGIN:STANDARD
TZOFFSETFROM:-0400
TZOFFSETTO:-0500
TZNAME:EST
DTSTART:20211107T060000
END:STANDARD
BEGIN:DAYLIGHT
TZOFFSETFROM:-0500
TZOFFSETTO:-0400
TZNAME:EDT
DTSTART:20220313T070000
END:DAYLIGHT
BEGIN:STANDARD
TZOFFSETFROM:-0400
TZOFFSETTO:-0500
TZNAME:EST
DTSTART:20221106T060000
END:STANDARD
BEGIN:DAYLIGHT
TZOFFSETFROM:-0500
TZOFFSETTO:-0400
TZNAME:EDT
DTSTART:20230312T070000
END:DAYLIGHT
BEGIN:STANDARD
TZOFFSETFROM:-0400
TZOFFSETTO:-0500
TZNAME:EST
DTSTART:20231105T060000
END:STANDARD
END:VTIMEZONE
BEGIN:VEVENT
DTSTART;TZID=America/New_York:20220825T190000
DTEND;TZID=America/New_York:20220825T210000
DTSTAMP:20260421T003918
CREATED:20220402T063227Z
LAST-MODIFIED:20220402T063227Z
UID:5594-1661454000-1661461200@hillsmereshores.org
SUMMARY:HSIA Board Meeting
DESCRIPTION:
URL:https://hillsmereshores.org/event/hsia-board-meeting-17/
LOCATION:Barn Commons @ Key School
CATEGORIES:Board Meeting,HSIA
ORGANIZER;CN="HSIA":MAILTO:admin@hillsmereshores.org
END:VEVENT
BEGIN:VEVENT
DTSTART;TZID=America/New_York:20220806T180000
DTEND;TZID=America/New_York:20220806T200000
DTSTAMP:20260421T003918
CREATED:20220601T051642Z
LAST-MODIFIED:20220803T222824Z
UID:5644-1659808800-1659816000@hillsmereshores.org
SUMMARY:Ice Cream Social *Volunteers Needed!*
DESCRIPTION:Ice Cream Social at the BeachSaturday\, August 6 from 6:00-8:00 \nPlease bring toppings\, cookies and brownies to share.\n\nVanilla and chocolate ice cream and a sorbet from Brusters are on the menu.\n\nA few hardy volunteers are needed to help set up\, scoop\, and clean up. Please contact 410-263-4456 to volunteer to help.
URL:https://hillsmereshores.org/event/ice-cream-social-6/
LOCATION:Hillsmere Beach
ORGANIZER;CN="HSIA":MAILTO:admin@hillsmereshores.org
END:VEVENT
BEGIN:VEVENT
DTSTART;TZID=America/New_York:20220728T190000
DTEND;TZID=America/New_York:20220728T210000
DTSTAMP:20260421T003918
CREATED:20220402T063045Z
LAST-MODIFIED:20220402T063045Z
UID:5592-1659034800-1659042000@hillsmereshores.org
SUMMARY:HSIA Board Meeting
DESCRIPTION:HSIA Board of Directors meets in person on the last Thursday of every month\, in Key School’s Barn Commons\, unless otherwise noted (link to campus map below).\nBoard meetings are open meetings\, however\, guests are not permitted to participate in the meeting unless recognized by the Board.
URL:https://hillsmereshores.org/event/hsia-board-meeting-16/
LOCATION:Barn Commons @ Key School
CATEGORIES:Board Meeting,HSIA
ORGANIZER;CN="HSIA":MAILTO:admin@hillsmereshores.org
END:VEVENT
BEGIN:VEVENT
DTSTART;TZID=America/New_York:20220715T170000
DTEND;TZID=America/New_York:20220715T200000
DTSTAMP:20260421T003918
CREATED:20220516T080107Z
LAST-MODIFIED:20220516T080107Z
UID:5633-1657904400-1657915200@hillsmereshores.org
SUMMARY:Hillsmere Community Happy Hour
DESCRIPTION:
URL:https://hillsmereshores.org/event/hillsmere-community-happy-hour-2/
LOCATION:Hillsmere Beach
CATEGORIES:Recreation
ORGANIZER;CN="HSIA":MAILTO:admin@hillsmereshores.org
END:VEVENT
BEGIN:VEVENT
DTSTART;TZID=America/New_York:20220714T190000
DTEND;TZID=America/New_York:20220714T210000
DTSTAMP:20260421T003918
CREATED:20220516T072306Z
LAST-MODIFIED:20220516T072306Z
UID:5625-1657825200-1657832400@hillsmereshores.org
SUMMARY:HSIA General Membership Meeting
DESCRIPTION:The HSIA Board is pleased to announce that we now are providing a hybrid option for attending general meetings. \nWe have resumed in-person meetings at the Key School “Barn” for both our regular HSIA Board Meetings as well as the HSIA General Meetings. \nIn addition\, we are now providing a virtual meeting option where you can “attend” via zoom. \nWe would prefer to see residents in person\, but providing a virtual option will hopefully allow for more residents to participate. \nPlease email communications@hillsmereshores.org for the link to the virtual meeting. \nHope to see you in-person or on-line!
URL:https://hillsmereshores.org/event/hsia-general-membership-meeting-19/
LOCATION:Barn Commons @ Key School
CATEGORIES:General Meeting,HSIA
ORGANIZER;CN="HSIA":MAILTO:admin@hillsmereshores.org
END:VEVENT
BEGIN:VEVENT
DTSTART;TZID=America/New_York:20220630T190000
DTEND;TZID=America/New_York:20220630T210000
DTSTAMP:20260421T003918
CREATED:20220402T062916Z
LAST-MODIFIED:20220402T062916Z
UID:5590-1656615600-1656622800@hillsmereshores.org
SUMMARY:HSIA Board Meeting
DESCRIPTION:HSIA Board of Directors meets in person on the last Thursday of every month\, in Key School’s Barn Commons\, unless otherwise noted (link to campus map below).\nBoard meetings are open meetings\, however\, guests are not permitted to participate in the meeting unless recognized by the Board.
URL:https://hillsmereshores.org/event/hsia-board-meeting-15/
LOCATION:Barn Commons @ Key School
CATEGORIES:Board Meeting,HSIA
ORGANIZER;CN="HSIA":MAILTO:admin@hillsmereshores.org
END:VEVENT
BEGIN:VEVENT
DTSTART;TZID=America/New_York:20220617T170000
DTEND;TZID=America/New_York:20220617T200000
DTSTAMP:20260421T003918
CREATED:20220516T075824Z
LAST-MODIFIED:20220516T075824Z
UID:5631-1655485200-1655496000@hillsmereshores.org
SUMMARY:Hillsmere Community Happy Hour
DESCRIPTION:
URL:https://hillsmereshores.org/event/hillsmere-community-happy-hour/
LOCATION:Hillsmere Beach
CATEGORIES:Recreation
ORGANIZER;CN="HSIA":MAILTO:admin@hillsmereshores.org
END:VEVENT
BEGIN:VEVENT
DTSTART;TZID=America/New_York:20220526T190000
DTEND;TZID=America/New_York:20220526T210000
DTSTAMP:20260421T003918
CREATED:20220402T062816Z
LAST-MODIFIED:20220402T062816Z
UID:5588-1653591600-1653598800@hillsmereshores.org
SUMMARY:HSIA Board Meeting
DESCRIPTION:HSIA Board of Directors meets in person on the last Thursday of every month\, in Key School’s Barn Commons\, unless otherwise noted (link to campus map below).\nBoard meetings are open meetings\, however\, guests are not permitted to participate in the meeting unless recognized by the Board.
URL:https://hillsmereshores.org/event/hsia-board-meeting-14/
LOCATION:Barn Commons @ Key School
CATEGORIES:Board Meeting,HSIA
ORGANIZER;CN="HSIA":MAILTO:admin@hillsmereshores.org
END:VEVENT
BEGIN:VEVENT
DTSTART;TZID=America/New_York:20220514T080000
DTEND;TZID=America/New_York:20220514T120000
DTSTAMP:20260421T003918
CREATED:20220402T061757Z
LAST-MODIFIED:20220402T061757Z
UID:5580-1652515200-1652529600@hillsmereshores.org
SUMMARY:Pre-Season Pool Work Day
DESCRIPTION:We will have our annual clean up event Saturday\, May 14th from 8am-12pm. Volunteers will be\neligible for complimentary guest passes for their time. Email pool@hillsmereshores.org with questions.
URL:https://hillsmereshores.org/event/pre-season-pool-work-day/
LOCATION:Hillsmere Pool
CATEGORIES:Pool
END:VEVENT
BEGIN:VEVENT
DTSTART;TZID=America/New_York:20220512T180000
DTEND;TZID=America/New_York:20220512T190000
DTSTAMP:20260421T003918
CREATED:20220402T061517Z
LAST-MODIFIED:20220402T061517Z
UID:5578-1652378400-1652382000@hillsmereshores.org
SUMMARY:Pool Committee Meeting
DESCRIPTION:In-person meeting @ pool.
URL:https://hillsmereshores.org/event/pool-committee-meeting-4/
LOCATION:Hillsmere Pool
CATEGORIES:Committee Meeting,Pool
ORGANIZER;CN="Pool Committee":MAILTO:pool@hillsmereshores.org
END:VEVENT
BEGIN:VEVENT
DTSTART;TZID=America/New_York:20220510T190000
DTEND;TZID=America/New_York:20220510T203000
DTSTAMP:20260421T003918
CREATED:20220402T062136Z
LAST-MODIFIED:20220402T062136Z
UID:5582-1652209200-1652214600@hillsmereshores.org
SUMMARY:Piers & Harbors Committee Meeting
DESCRIPTION:Open meeting. Agenda TBA via email prior to meeting. Questions/comments to marina@hillsmereshores.org
URL:https://hillsmereshores.org/event/piers-harbors-committee-meeting-40/
LOCATION:Barn Commons @ Key School
CATEGORIES:Committee Meeting,Piers & Harbors
END:VEVENT
BEGIN:VEVENT
DTSTART;TZID=America/New_York:20220501T090000
DTEND;TZID=America/New_York:20220501T110000
DTSTAMP:20260421T003918
CREATED:20220424T235557Z
LAST-MODIFIED:20220424T235923Z
UID:5602-1651395600-1651402800@hillsmereshores.org
SUMMARY:Hillsmere Watershed Steward Planting Opportunity - Sunday\, May 1
DESCRIPTION:Join us for a positive\, productive opportunity to make an environmental difference in Hillsmere. As part of the Watershed Steward Academy\, we will be planting native grasses and herbaceous plants at 609 Beach Dr.\, the location of one of Hillsmere’s boat ramps. These plants will help absorb stormwater\, demonstrate alternatives to lawn\, benefit pollinators and add beauty. \nChoose a 9:00AM or 10:00AM time slot. Parking is limited\, so if possible\, walk or ride your bike. We could make our fellow residents on Beach Dr. happy by not cluttering the street with cars. Why not reduce emissions and get some exercise at the same time! \nPlease RSVP to environment@hillsmereshores.org \nSee you on May 1st\nPhyllis Saroff\, WSA Candidate\, Class 13
URL:https://hillsmereshores.org/event/hillsmere-watershed-steward-planting-opportunity-sunday-may-1/
LOCATION:MD
END:VEVENT
BEGIN:VEVENT
DTSTART;TZID=America/New_York:20220428T190000
DTEND;TZID=America/New_York:20220428T210000
DTSTAMP:20260421T003918
CREATED:20220402T062406Z
LAST-MODIFIED:20220402T062709Z
UID:5584-1651172400-1651179600@hillsmereshores.org
SUMMARY:HSIA Board Meeting
DESCRIPTION:HSIA Board of Directors meets in person on the last Thursday of every month\, in Key School’s Barn Commons\, unless otherwise noted (link to campus map below).\nBoard meetings are open meetings\, however\, guests are not permitted to participate in the meeting unless recognized by the Board.
URL:https://hillsmereshores.org/event/hsia-board-meeting-13/
LOCATION:Barn Commons @ Key School
CATEGORIES:Board Meeting,HSIA
ORGANIZER;CN="HSIA":MAILTO:admin@hillsmereshores.org
END:VEVENT
BEGIN:VEVENT
DTSTART;TZID=America/New_York:20220416T100000
DTEND;TZID=America/New_York:20220416T120000
DTSTAMP:20260421T003918
CREATED:20220402T060834Z
LAST-MODIFIED:20220402T060834Z
UID:5572-1650103200-1650110400@hillsmereshores.org
SUMMARY:Easter Egg Hunt
DESCRIPTION:
URL:https://hillsmereshores.org/event/easter-egg-hunt-4/
LOCATION:Hillsmere Beach
ORGANIZER;CN="HSIA":MAILTO:admin@hillsmereshores.org
END:VEVENT
BEGIN:VEVENT
DTSTART;TZID=America/New_York:20220405T190000
DTEND;TZID=America/New_York:20220405T200000
DTSTAMP:20260421T003918
CREATED:20220402T061312Z
LAST-MODIFIED:20220402T061312Z
UID:5576-1649185200-1649188800@hillsmereshores.org
SUMMARY:Pool Committee Meeting
DESCRIPTION:Online meeting. Email pool@hillsmereshores.org to request access to meeting.
URL:https://hillsmereshores.org/event/pool-committee-meeting-3/
LOCATION:MD
CATEGORIES:Committee Meeting,Pool
ORGANIZER;CN="Pool Committee":MAILTO:pool@hillsmereshores.org
END:VEVENT
BEGIN:VEVENT
DTSTART;TZID=America/New_York:20211212T180000
DTEND;TZID=America/New_York:20211212T193000
DTSTAMP:20260421T003918
CREATED:20211205T002139Z
LAST-MODIFIED:20211205T002139Z
UID:5373-1639332000-1639337400@hillsmereshores.org
SUMMARY:Annual Annapolis Santa Run
DESCRIPTION:The Annapolis Santa Run – The Annapolis Santa Run visits communities throughout the Annapolis area to gather gifts for needy children.  The Annapolis Santa Run\, sponsored by the Annapolis Firefighters Union\, will pick up presents for needy children at the Hillsmere pool parking lot on Sunday\, December 12\, 6:00PM.  Bring the kids to see Santa and please bring an unwrapped present for the Toy Drive\, ages 2-15\, male or female.  For more information\, please visit the Santa’s Run website at www.annapolissantarun.com. \n 
URL:https://hillsmereshores.org/event/annual-annapolis-santa-run/
LOCATION:Hillsmere Pool
CATEGORIES:Recreation
END:VEVENT
BEGIN:VEVENT
DTSTART;TZID=America/New_York:20211211T120000
DTEND;TZID=America/New_York:20211211T133000
DTSTAMP:20260421T003918
CREATED:20211208T032028Z
LAST-MODIFIED:20211208T032028Z
UID:5381-1639224000-1639229400@hillsmereshores.org
SUMMARY:Ice Eater Install Work Party
DESCRIPTION:ICE EATER INSTALLATION EVENT – SATURDAY DECEMBER 11TH AT NOON \nIce eater installation is now scheduled to take place on Saturday\, December 11th at 12 Noon at the Marina. \nA few good volunteers are needed to work in teams of two to place ice eaters in designated slips\, tie them off and test run them. \nThe ice eaters will be pre-positioned (we hope) to make the job even easier. \nThe forecast for Saturday calls for cloudy\, breezy\, relatively balmy weather in the 60’s\, with a chance of rain late in the day. \nPlease RSVP to marina@hillsmereshores.org or 410-212-6978 so we can get an idea of the size of the work party.
URL:https://hillsmereshores.org/event/ice-eater-install-work-party/
LOCATION:Hillsmere Marina
END:VEVENT
BEGIN:VEVENT
DTSTART;TZID=America/New_York:20211207T180000
DTEND;TZID=America/New_York:20211207T200000
DTSTAMP:20260421T003918
CREATED:20211205T001250Z
LAST-MODIFIED:20211205T001250Z
UID:5371-1638900000-1638907200@hillsmereshores.org
SUMMARY:Piers & Harbors Committee Meeting
DESCRIPTION:The Piers & Harbor Committee will hold a live\, last-of-2021\, in-person meeting on Tuesday\, December 7th (“a date which will live in infamy”)\, starting at 6:00 PM at the Eastport-Annapolis Neck Library Community Meeting Room. \nMASKS ARE REQUIRED BY THE COUNTY \nAgenda items for an expected brief meeting include:\n* HSIA election results\n* Marina operations\n* Flood Tide/Winterization/Ice Eater installation plans\n* FY2023 Budget and Fees\n* Living Shoreline update\n* Changes to Rules and Regs/Boat Park \nAll Slip Holders\, Ramp Key Holders\, Wait Listers\, Kayakers\, Boat Parkers\, etc. are invited to attend. Volunteers are always needed and welcomed.
URL:https://hillsmereshores.org/event/piers-harbors-committee-meeting-39/
LOCATION:Eastport-Annapolis Neck Library\, 269 Hillsmere Drive\, Annapolis\, MD\, 21403\, United States
CATEGORIES:Committee Meeting,Piers & Harbors
END:VEVENT
BEGIN:VEVENT
DTSTART;TZID=America/New_York:20211205T173000
DTEND;TZID=America/New_York:20211205T190000
DTSTAMP:20260421T003918
CREATED:20211113T032219Z
LAST-MODIFIED:20211123T030806Z
UID:5357-1638725400-1638730800@hillsmereshores.org
SUMMARY:2nd Annual Santa Caravan
DESCRIPTION:Event update: download & print map of route here.
URL:https://hillsmereshores.org/event/2nd-annual-santa-caravan/
LOCATION:MD
CATEGORIES:Recreation
END:VEVENT
BEGIN:VEVENT
DTSTART;TZID=America/New_York:20211111T190000
DTEND;TZID=America/New_York:20211111T210000
DTSTAMP:20260421T003918
CREATED:20211025T080427Z
LAST-MODIFIED:20211025T080427Z
UID:5336-1636657200-1636664400@hillsmereshores.org
SUMMARY:HSIA Annual General Membership Meeting (Zoom)
DESCRIPTION:HSIA’s annual meeting will cover a full budget presentation with a Q&A session and announce the results of the Board of Directors election. \nHSIA General Membership Meeting \nThursday\, November 11 @ 7PM \nHillsmere Shores Improvement Association is inviting you to a scheduled Zoom meeting.  Meeting is limited to 100 callers.  Callers will be muted on entry. \nTopic: Hillsmere Shores Improvement Association Annual Meeting \nTime: Nov 11\, 2021 19:00 Eastern Time (US and Canada) \nJoin Zoom Meeting via Browser \nhttps://us02web.zoom.us/j/83703627361?pwd=cDBpcU1WMWxoeTh4ellzSDI4aS9Ddz09 \nJoin Zoom Meeting via Telephone \n+1 301 715 8592 US (Washington DC) \nMeeting ID: 837 0362 7361 \nPasscode: 21403  \nJoin via one tap mobile \n+13017158592\,\,83703627361#\,\,\,\,*21403# US (Washington DC)
URL:https://hillsmereshores.org/event/hsia-annual-general-membership-meeting-zoom/
LOCATION:MD
CATEGORIES:General Meeting,HSIA
ORGANIZER;CN="HSIA":MAILTO:admin@hillsmereshores.org
END:VEVENT
BEGIN:VEVENT
DTSTART;TZID=America/New_York:20211027T180000
DTEND;TZID=America/New_York:20211027T200000
DTSTAMP:20260421T003918
CREATED:20211024T235226Z
LAST-MODIFIED:20211024T235226Z
UID:5332-1635357600-1635364800@hillsmereshores.org
SUMMARY:Piers & Harbors Committee Meeting
DESCRIPTION:PIERS & HARBOR COMMITTEE MEETING NOTICE \nWEDNESDAY\, OCTOBER 27TH\, 6:00 PM TO 8:00 PM \nThe Piers & Harbor Committee will hold a live\, in-person meeting on WEDNESDAY\, OCTOBER 27TH\, 6:00 PM TO 8:00 PM at the Eastport-Annapolis Neck Library Community Meeting Room. MASKS ARE REQUIRED by the County. \nWe are trying out a new meeting venue for a combined October/November P&H Meeting\, at the Library. As usual\, we will try to keep it brief. \nAgenda items include:\n* Winter preparations\n* Ice Eaters\n* FY2023 Budget and Fees\n* Living Shoreline update\n* Changes to Rules and Regs\n* Kayak Pier\n* Beach Drive Boat Ramp\n* Boat Park \nSand Spit Living Shoreline Concept Plan \nAll Slip Holders\, Ramp Key Holders\, Wait Listers\, Kayakers\, Boat Parkers\, etc. are invited to attend. Volunteers are always needed and welcomed.
URL:https://hillsmereshores.org/event/piers-harbors-committee-meeting-38/
LOCATION:Eastport-Annapolis Neck Library\, 269 Hillsmere Drive\, Annapolis\, MD\, 21403\, United States
CATEGORIES:Committee Meeting,Piers & Harbors
END:VEVENT
BEGIN:VEVENT
DTSTART;TZID=America/New_York:20211024T120000
DTEND;TZID=America/New_York:20211024T160000
DTSTAMP:20260421T003918
CREATED:20211004T040104Z
LAST-MODIFIED:20211004T040104Z
UID:5313-1635076800-1635091200@hillsmereshores.org
SUMMARY:Hillsmere Shores Community Flu Shot Clinic
DESCRIPTION:When: Sunday\, October 24\, 12pm-4pm \nWhere: Hillsmere Shores beach\, Walker Pavilion \nHello Neighbors\,\nDo you need to get yourself or your family a flu shot\, and want to avoid a clinic or Dr.’s office? Join us for our first community flu clinic! \nGiant Pharmacy will be on site at the large pavilion down at our community beach to provide flu shots!  Anyone ages 3 and older is eligible for a shot during this clinic.  Please bring your insurance card\, and a mask to wear while in pavilion area.  All children under 18 must have a parent or guardian present. Please use the below sign up genius link to reserve your time slot!  This clinic will take place rain or shine!  Please arrive 5 minutes prior to your selected slot.  Some walk up slots may be available\, but please sign up to help us ensure enough doses are on hand. \nhttps://www.signupgenius.com/go/10C0F4DABAB29A6F4C34-hillsmere
URL:https://hillsmereshores.org/event/hillsmere-shores-community-flu-shot-clinic/
LOCATION:Hillsmere Beach – Walker Pavilion
ORGANIZER;CN="HSIA":MAILTO:admin@hillsmereshores.org
END:VEVENT
BEGIN:VEVENT
DTSTART;VALUE=DATE:20211022
DTEND;VALUE=DATE:20211024
DTSTAMP:20260421T003918
CREATED:20210701T034216Z
LAST-MODIFIED:20210701T034216Z
UID:5047-1634860800-1635033599@hillsmereshores.org
SUMMARY:Dumpster Days
DESCRIPTION:Details TBA in October newsletter.
URL:https://hillsmereshores.org/event/dumpster-days-2/
LOCATION:MD
ORGANIZER;CN="HSIA":MAILTO:admin@hillsmereshores.org
END:VEVENT
BEGIN:VEVENT
DTSTART;TZID=America/New_York:20211010T090000
DTEND;TZID=America/New_York:20211010T120000
DTSTAMP:20260421T003918
CREATED:20210921T054519Z
LAST-MODIFIED:20210921T054607Z
UID:5294-1633856400-1633867200@hillsmereshores.org
SUMMARY:Hillsmere Tree Planting - October 10
DESCRIPTION:Join us for a positive\, productive opportunity to make an environmental difference in Hillsmere. As part of the Watershed Steward Academy\, we will be planting trees at 609 Beach Dr.\, the location of one of Hillsmere’s boat ramps. The trees you plant will help slow and reduce the amount of stormwater entering Duvall Creek. \nMeet us on October 10th at 9:00AM with gloves\, (re usable) water bottles and shovels if you have them. We will have some shovels on site. Parking is limited\, so if possible\, walk or ride your bike. We could make our fellow residents on Beach Dr. happy by not cluttering the street with cars. Why not reduce emissions and get some exercise at the same time! \nPlease RSVP to environment@hillsmereshores.org \nSee you on October 10th\,\nPhyllis Saroff\, WSA Candidate\, Class 13
URL:https://hillsmereshores.org/event/hillsmere-tree-planting/
LOCATION:609 Beach Drive
ORGANIZER;CN="HSIA":MAILTO:admin@hillsmereshores.org
END:VEVENT
BEGIN:VEVENT
DTSTART;TZID=America/New_York:20210930T190000
DTEND;TZID=America/New_York:20210930T210000
DTSTAMP:20260421T003918
CREATED:20210828T092726Z
LAST-MODIFIED:20210828T092747Z
UID:5199-1633028400-1633035600@hillsmereshores.org
SUMMARY:HSIA Board Meeting (Zoom)
DESCRIPTION:The Board is going to take up discussion on hiring a property manager.  You are welcomed to join via zoom. \nTopic: Hillsmere Shores Improvement Association Board Meeting \nTime: Sep 30\, 2021 19:00 Eastern Time \nhttps://us02web.zoom.us/j/82882750029?pwd=REI5Sis1dmw2Z2prNWQvbWVFY3d3QT09 \nOur finances are solid\, and there is much more we can do to improve Hillsmere Shores\, but we face limits in our volunteer efforts to manage our property and assets.
URL:https://hillsmereshores.org/event/hsia-board-meeting-zoom/
LOCATION:MD
ORGANIZER;CN="HSIA":MAILTO:admin@hillsmereshores.org
END:VEVENT
BEGIN:VEVENT
DTSTART;TZID=America/New_York:20210914T180000
DTEND;TZID=America/New_York:20210914T193000
DTSTAMP:20260421T003918
CREATED:20210626T073414Z
LAST-MODIFIED:20210821T074818Z
UID:5027-1631642400-1631647800@hillsmereshores.org
SUMMARY:P&H Committee Meeting
DESCRIPTION:Piers & Harbors Committee Meeting – Open Meeting – All Slip Holders\, Ramp Key Holders\, Wait Listers\, Kayakers\, Boat Parkers\, etc. are invited to attend.  Volunteers are always needed and welcomed!
URL:https://hillsmereshores.org/event/ph-committee-meeting-4/
LOCATION:Hillsmere Beach – Walker Pavilion
CATEGORIES:Committee Meeting,Piers & Harbors
END:VEVENT
BEGIN:VEVENT
DTSTART;VALUE=DATE:20210911
DTEND;VALUE=DATE:20210912
DTSTAMP:20260421T003918
CREATED:20210825T065350Z
LAST-MODIFIED:20210825T065350Z
UID:5181-1631318400-1631404799@hillsmereshores.org
SUMMARY:Candidate/Nominee Deadline for HSIA Board of Directors Election
DESCRIPTION:Hillsmere Residents —Are you looking for a way to become more involved in what happens in our neighborhood? Please consider running for a position on the HSIA Board of Directors. We are seeking seven people to be elected to the HSIA Board of Directors to serve a two-year term for 2022 & 2023. These seven leadership positions are critical in moving our community forward. \nIn order to run for a position on the Board of Directors\, residents must be current members of HSIA. If you are interested\, please email the following information to nominations@hillsmereshores.org no later than September 11: \n\n\n\n▪\nStatement of intent to run\, to include a statement that you are a current member of HSIA\n\n\n\n\n\n\n▪\nStatement of qualifications (bio)\n\n\n\n\n\n\n▪\nGoals and/or vision for the community\n\n\n\nCandidates will be announced on our website and in the October Sea Breeze. Ballots will also be available online and in the newsletter. We will let you know when voting will occur\, either in person or via email/postal mail. Please consider running for a Board of Director position. Thank you!
URL:https://hillsmereshores.org/event/candidate-nominee-deadline-for-hsia-board-of-directors-election/
LOCATION:MD
ORGANIZER;CN="HSIA":MAILTO:admin@hillsmereshores.org
END:VEVENT
BEGIN:VEVENT
DTSTART;TZID=America/New_York:20210902T183000
DTEND;TZID=America/New_York:20210902T193000
DTSTAMP:20260421T003918
CREATED:20210821T075459Z
LAST-MODIFIED:20210821T075459Z
UID:5166-1630607400-1630611000@hillsmereshores.org
SUMMARY:Beach Committee Meeting
DESCRIPTION:
URL:https://hillsmereshores.org/event/beach-committee-meeting-10/
LOCATION:Hillsmere Beach – Walker Pavilion
CATEGORIES:Beach,Committee Meeting
ORGANIZER;CN="Beach Committee":MAILTO:beach@hillsmereshores.org
END:VEVENT
BEGIN:VEVENT
DTSTART;VALUE=DATE:20210831
DTEND;VALUE=DATE:20210901
DTSTAMP:20260421T003918
CREATED:20210626T064155Z
LAST-MODIFIED:20210626T064155Z
UID:5013-1630368000-1630454399@hillsmereshores.org
SUMMARY:SCBD Pool Benefit Day
DESCRIPTION:Hillsmere Residents: \nAdmission to\, or use of\, the pool facilities will be granted to any Hillsmere property owner consistent with the expenditure of Special Community Benefit District funds for the maintenance\, repair\, and/or renovation of the pool facility. \nThe pool will be open to all Hillsmere property owners\, regardless of pool membership status\, free of charge\, on the last Tuesday of each month for the 2021 season: \nTuesday 6/29 \nTuesday 7/27 \nTuesday 8/31
URL:https://hillsmereshores.org/event/scbd-pool-benefit-day-3/
LOCATION:Hillsmere Pool
ORGANIZER;CN="HSIA":MAILTO:admin@hillsmereshores.org
END:VEVENT
BEGIN:VEVENT
DTSTART;TZID=America/New_York:20210810T180000
DTEND;TZID=America/New_York:20210810T200000
DTSTAMP:20260421T003918
CREATED:20210626T073157Z
LAST-MODIFIED:20210626T073157Z
UID:5025-1628618400-1628625600@hillsmereshores.org
SUMMARY:P&H Committee Meeting
DESCRIPTION:Piers & Harbors Committee Meeting – Open Meeting – All Slip Holders\, Ramp Key Holders\, Wait Listers\, Kayakers\, Boat Parkers\, etc. are invited to attend.  Volunteers are always needed and welcomed!
URL:https://hillsmereshores.org/event/ph-committee-meeting-3/
LOCATION:Hillsmere Beach – Walker Pavilion
CATEGORIES:Committee Meeting,Piers & Harbors
END:VEVENT
END:VCALENDAR