BEGIN:VCALENDAR
VERSION:2.0
PRODID:-//Hillsmere Shores - ECPv6.15.20//NONSGML v1.0//EN
CALSCALE:GREGORIAN
METHOD:PUBLISH
X-WR-CALNAME:Hillsmere Shores
X-ORIGINAL-URL:https://hillsmereshores.org
X-WR-CALDESC:Events for Hillsmere Shores
REFRESH-INTERVAL;VALUE=DURATION:PT1H
X-Robots-Tag:noindex
X-PUBLISHED-TTL:PT1H
BEGIN:VTIMEZONE
TZID:America/New_York
BEGIN:DAYLIGHT
TZOFFSETFROM:-0500
TZOFFSETTO:-0400
TZNAME:EDT
DTSTART:20160313T070000
END:DAYLIGHT
BEGIN:STANDARD
TZOFFSETFROM:-0400
TZOFFSETTO:-0500
TZNAME:EST
DTSTART:20161106T060000
END:STANDARD
BEGIN:DAYLIGHT
TZOFFSETFROM:-0500
TZOFFSETTO:-0400
TZNAME:EDT
DTSTART:20170312T070000
END:DAYLIGHT
BEGIN:STANDARD
TZOFFSETFROM:-0400
TZOFFSETTO:-0500
TZNAME:EST
DTSTART:20171105T060000
END:STANDARD
BEGIN:DAYLIGHT
TZOFFSETFROM:-0500
TZOFFSETTO:-0400
TZNAME:EDT
DTSTART:20180311T070000
END:DAYLIGHT
BEGIN:STANDARD
TZOFFSETFROM:-0400
TZOFFSETTO:-0500
TZNAME:EST
DTSTART:20181104T060000
END:STANDARD
BEGIN:DAYLIGHT
TZOFFSETFROM:-0500
TZOFFSETTO:-0400
TZNAME:EDT
DTSTART:20190310T070000
END:DAYLIGHT
BEGIN:STANDARD
TZOFFSETFROM:-0400
TZOFFSETTO:-0500
TZNAME:EST
DTSTART:20191103T060000
END:STANDARD
END:VTIMEZONE
BEGIN:VTIMEZONE
TZID:America/Phoenix
BEGIN:STANDARD
TZOFFSETFROM:-0700
TZOFFSETTO:-0700
TZNAME:MST
DTSTART:20160101T000000
END:STANDARD
END:VTIMEZONE
BEGIN:VEVENT
DTSTART;TZID=America/New_York:20180331T100000
DTEND;TZID=America/New_York:20180331T110000
DTSTAMP:20260421T091039
CREATED:20180125T194410Z
LAST-MODIFIED:20180125T194410Z
UID:2786-1522490400-1522494000@hillsmereshores.org
SUMMARY:Hillsmere Shores Easter Egg Hunt
DESCRIPTION:
URL:https://hillsmereshores.org/event/hillsmere-shores-easter-egg-hunt/
LOCATION:Hillsmere Beach – Walker Pavilion
CATEGORIES:HSIA,Recreation
ORGANIZER;CN="HSIA":MAILTO:admin@hillsmereshores.org
END:VEVENT
BEGIN:VEVENT
DTSTART;TZID=America/New_York:20180320T170000
DTEND;TZID=America/New_York:20180320T190000
DTSTAMP:20260421T091039
CREATED:20180114T193106Z
LAST-MODIFIED:20180126T132122Z
UID:2634-1521565200-1521572400@hillsmereshores.org
SUMMARY:Annual Sock Burning
DESCRIPTION:Farewell winter… Hello spring!
URL:https://hillsmereshores.org/event/annual-sock-burning-oyster-roast/
LOCATION:Hillsmere Beach – Walker Pavilion
CATEGORIES:HSIA,Recreation
ORGANIZER;CN="HSIA":MAILTO:admin@hillsmereshores.org
END:VEVENT
BEGIN:VEVENT
DTSTART;TZID=America/Phoenix:20171210T180000
DTEND;TZID=America/Phoenix:20171210T200000
DTSTAMP:20260421T091039
CREATED:20170112T205757Z
LAST-MODIFIED:20171207T125914Z
UID:584-1512928800-1512936000@hillsmereshores.org
SUMMARY:Santa's Run
DESCRIPTION:The fun will start at 4PM @ the pool parking lot. We are going to pitch in on pizzas for the kids like last year\, so bring a couple of dollars for your little ones. Like the beach happy hours\, please bring a dish to share. Think warm foods and drinks\, holiday desserts and cookies. If you can’t hang out\, toys can be dropped off between 4-545PM (until Santa comes). \nThe fire engine and Santa are scheduled to arrive in Hillsmere around 6PM (approximate) to collect NEW\, unwrapped toys for kids in the Annapolis School cluster area in need. Toys should be NEW and not wrapped for ages from 2-15\, male or female. The gifts will be distributed by the Annapolis Professional Firefighters\, with assistance from Anne Arundel County Public Schools guidance counselors in our Annapolis area cluster.
URL:https://hillsmereshores.org/event/santas-run/
CATEGORIES:Recreation
END:VEVENT
BEGIN:VEVENT
DTSTART;TZID=America/Phoenix:20171029T130000
DTEND;TZID=America/Phoenix:20171029T140000
DTSTAMP:20260421T091039
CREATED:20170112T205713Z
LAST-MODIFIED:20170208T174809Z
UID:582-1509282000-1509285600@hillsmereshores.org
SUMMARY:Halloween Parade
DESCRIPTION:Gather at Key School Gazebo; parade down Hillsmere Drive to the Beach.
URL:https://hillsmereshores.org/event/halloween-parade/
CATEGORIES:Recreation
END:VEVENT
BEGIN:VEVENT
DTSTART;TZID=America/Phoenix:20170930T140000
DTEND;TZID=America/Phoenix:20170930T170000
DTSTAMP:20260421T091039
CREATED:20170112T205459Z
LAST-MODIFIED:20170919T142242Z
UID:578-1506780000-1506790800@hillsmereshores.org
SUMMARY:3rd Annual Crab Feast
DESCRIPTION:@Beach\, 2-5pm \n3rd Annual Crab Feast Flyer
URL:https://hillsmereshores.org/event/3rd-annual-crab-feast/
CATEGORIES:Recreation
END:VEVENT
BEGIN:VEVENT
DTSTART;TZID=America/Phoenix:20170916T160000
DTEND;TZID=America/Phoenix:20170916T190000
DTSTAMP:20260421T091039
CREATED:20170112T205410Z
LAST-MODIFIED:20170208T174839Z
UID:576-1505577600-1505588400@hillsmereshores.org
SUMMARY:Pig Roast/Happy Hour
DESCRIPTION:@Beach; Potluck
URL:https://hillsmereshores.org/event/pig-roasthappy-hour/
CATEGORIES:Recreation
END:VEVENT
BEGIN:VEVENT
DTSTART;TZID=America/Phoenix:20170811T170000
DTEND;TZID=America/Phoenix:20170811T200000
DTSTAMP:20260421T091039
CREATED:20170112T205251Z
LAST-MODIFIED:20170208T174922Z
UID:574-1502470800-1502481600@hillsmereshores.org
SUMMARY:Happy Hour
DESCRIPTION:@Beach; Potluck
URL:https://hillsmereshores.org/event/happy-hour-3/
CATEGORIES:Recreation
END:VEVENT
BEGIN:VEVENT
DTSTART;TZID=America/Phoenix:20170714T170000
DTEND;TZID=America/Phoenix:20170714T200000
DTSTAMP:20260421T091039
CREATED:20170112T205207Z
LAST-MODIFIED:20170710T172022Z
UID:572-1500051600-1500062400@hillsmereshores.org
SUMMARY:Happy Hour - Canceled
DESCRIPTION:***EVENT CANCELED***\nNext HH scheduled for Friday\, 8/11.
URL:https://hillsmereshores.org/event/happy-hour-2/
CATEGORIES:Recreation
END:VEVENT
BEGIN:VEVENT
DTSTART;TZID=America/Phoenix:20170704T100000
DTEND;TZID=America/Phoenix:20170704T110000
DTSTAMP:20260421T091039
CREATED:20170112T205113Z
LAST-MODIFIED:20170208T175144Z
UID:570-1499162400-1499166000@hillsmereshores.org
SUMMARY:4th of July Bike Parade
DESCRIPTION:Parade from Key School Gazebo down Hillsmere Drive to the Beach.
URL:https://hillsmereshores.org/event/4th-of-july-bike-parade/
CATEGORIES:Recreation
END:VEVENT
BEGIN:VEVENT
DTSTART;VALUE=DATE:20170704
DTEND;VALUE=DATE:20170705
DTSTAMP:20260421T091039
CREATED:20170122T201627Z
LAST-MODIFIED:20170327T214924Z
UID:1157-1499126400-1499212799@hillsmereshores.org
SUMMARY:4th of July Pool Party
DESCRIPTION:HSIA Pool Members. Details TBA
URL:https://hillsmereshores.org/event/4th-of-july-pool-party/
CATEGORIES:Pool,Recreation
END:VEVENT
BEGIN:VEVENT
DTSTART;TZID=America/Phoenix:20170617T190000
DTEND;TZID=America/Phoenix:20170617T203000
DTSTAMP:20260421T091039
CREATED:20170112T204936Z
LAST-MODIFIED:20170208T175308Z
UID:568-1497726000-1497731400@hillsmereshores.org
SUMMARY:Ice Cream Social
DESCRIPTION:@Beach
URL:https://hillsmereshores.org/event/ice-cream-social/
CATEGORIES:Recreation
END:VEVENT
BEGIN:VEVENT
DTSTART;TZID=America/Phoenix:20170609T170000
DTEND;TZID=America/Phoenix:20170609T200000
DTSTAMP:20260421T091039
CREATED:20170112T204837Z
LAST-MODIFIED:20170208T175350Z
UID:566-1497027600-1497038400@hillsmereshores.org
SUMMARY:Happy Hour
DESCRIPTION:@ Beach
URL:https://hillsmereshores.org/event/happy-hour/
CATEGORIES:Recreation
END:VEVENT
BEGIN:VEVENT
DTSTART;TZID=America/New_York:20170602T170000
DTEND;TZID=America/New_York:20170602T200000
DTSTAMP:20260421T091039
CREATED:20170601T170806Z
LAST-MODIFIED:20170601T170806Z
UID:2066-1496422800-1496433600@hillsmereshores.org
SUMMARY:Food Truck Friday @ Pool
DESCRIPTION:Featuring the Truck of Deliciousness…. open to all\, not just pool members! Forget pizza Friday and switch things up. \nTruck of Deliciousness menu
URL:https://hillsmereshores.org/event/food-truck-friday-pool/
CATEGORIES:Pool,Recreation
END:VEVENT
BEGIN:VEVENT
DTSTART;TZID=America/Phoenix:20170415T100000
DTEND;TZID=America/Phoenix:20170415T110000
DTSTAMP:20260421T091039
CREATED:20170112T204600Z
LAST-MODIFIED:20170208T175634Z
UID:561-1492250400-1492254000@hillsmereshores.org
SUMMARY:Easter Egg Hunt
DESCRIPTION:@Beach
URL:https://hillsmereshores.org/event/easter-egg-hunt/
CATEGORIES:Recreation
END:VEVENT
BEGIN:VEVENT
DTSTART;TZID=America/Phoenix:20170319T140000
DTEND;TZID=America/Phoenix:20170319T170000
DTSTAMP:20260421T091039
CREATED:20170112T204458Z
LAST-MODIFIED:20170208T175759Z
UID:559-1489932000-1489942800@hillsmereshores.org
SUMMARY:Sock Burning
DESCRIPTION:Farewell Winter….Hello Spring! @Beach
URL:https://hillsmereshores.org/event/sock-burning/
CATEGORIES:Recreation
END:VEVENT
END:VCALENDAR