BEGIN:VCALENDAR
VERSION:2.0
PRODID:-//Hillsmere Shores - ECPv6.15.20//NONSGML v1.0//EN
CALSCALE:GREGORIAN
METHOD:PUBLISH
X-ORIGINAL-URL:https://hillsmereshores.org
X-WR-CALDESC:Events for Hillsmere Shores
REFRESH-INTERVAL;VALUE=DURATION:PT1H
X-Robots-Tag:noindex
X-PUBLISHED-TTL:PT1H
BEGIN:VTIMEZONE
TZID:America/New_York
BEGIN:DAYLIGHT
TZOFFSETFROM:-0500
TZOFFSETTO:-0400
TZNAME:EDT
DTSTART:20180311T070000
END:DAYLIGHT
BEGIN:STANDARD
TZOFFSETFROM:-0400
TZOFFSETTO:-0500
TZNAME:EST
DTSTART:20181104T060000
END:STANDARD
BEGIN:DAYLIGHT
TZOFFSETFROM:-0500
TZOFFSETTO:-0400
TZNAME:EDT
DTSTART:20190310T070000
END:DAYLIGHT
BEGIN:STANDARD
TZOFFSETFROM:-0400
TZOFFSETTO:-0500
TZNAME:EST
DTSTART:20191103T060000
END:STANDARD
BEGIN:DAYLIGHT
TZOFFSETFROM:-0500
TZOFFSETTO:-0400
TZNAME:EDT
DTSTART:20200308T070000
END:DAYLIGHT
BEGIN:STANDARD
TZOFFSETFROM:-0400
TZOFFSETTO:-0500
TZNAME:EST
DTSTART:20201101T060000
END:STANDARD
BEGIN:DAYLIGHT
TZOFFSETFROM:-0500
TZOFFSETTO:-0400
TZNAME:EDT
DTSTART:20210314T070000
END:DAYLIGHT
BEGIN:STANDARD
TZOFFSETFROM:-0400
TZOFFSETTO:-0500
TZNAME:EST
DTSTART:20211107T060000
END:STANDARD
END:VTIMEZONE
BEGIN:VEVENT
DTSTART;TZID=America/New_York:20201114T140000
DTEND;TZID=America/New_York:20201114T170000
DTSTAMP:20260421T000631
CREATED:20200122T100609Z
LAST-MODIFIED:20201001T032605Z
UID:4105-1605362400-1605373200@hillsmereshores.org
SUMMARY:*Cancelled* Annual Oyster Roast
DESCRIPTION:Details TBD
URL:https://hillsmereshores.org/event/annual-oyster-roast/
LOCATION:Hillsmere Beach – Walker Pavilion
CATEGORIES:Recreation
ORGANIZER;CN="HSIA":MAILTO:admin@hillsmereshores.org
END:VEVENT
BEGIN:VEVENT
DTSTART;TZID=America/New_York:20200912T160000
DTEND;TZID=America/New_York:20200912T190000
DTSTAMP:20260421T000631
CREATED:20200122T091132Z
LAST-MODIFIED:20200913T063424Z
UID:4091-1599926400-1599937200@hillsmereshores.org
SUMMARY:CANCELLED - Pig Roast/Happy Hour
DESCRIPTION:Event tentative. Details TBA. 
URL:https://hillsmereshores.org/event/pig-roast-happy-hour/
LOCATION:Hillsmere Beach – Walker Pavilion
CATEGORIES:Recreation
ORGANIZER;CN="HSIA":MAILTO:admin@hillsmereshores.org
END:VEVENT
BEGIN:VEVENT
DTSTART;VALUE=DATE:20200814
DTEND;VALUE=DATE:20200815
DTSTAMP:20260421T000631
CREATED:20200122T091010Z
LAST-MODIFIED:20200725T023757Z
UID:4089-1597363200-1597449599@hillsmereshores.org
SUMMARY:Happy Hour - CANCELLED
DESCRIPTION:
URL:https://hillsmereshores.org/event/happy-hour-12/
CATEGORIES:Recreation
ORGANIZER;CN="HSIA":MAILTO:admin@hillsmereshores.org
END:VEVENT
BEGIN:VEVENT
DTSTART;VALUE=DATE:20200801
DTEND;VALUE=DATE:20200802
DTSTAMP:20260421T000631
CREATED:20200122T100151Z
LAST-MODIFIED:20200725T023459Z
UID:4097-1596240000-1596326399@hillsmereshores.org
SUMMARY:Annual Community Picnic - CANCELLED
DESCRIPTION:
URL:https://hillsmereshores.org/event/annual-community-picnic-2/
LOCATION:Hillsmere Beach – Walker Pavilion
CATEGORIES:Recreation
ORGANIZER;CN="HSIA":MAILTO:admin@hillsmereshores.org
END:VEVENT
BEGIN:VEVENT
DTSTART;TZID=America/New_York:20200710T170000
DTEND;TZID=America/New_York:20200710T200000
DTSTAMP:20260421T000631
CREATED:20200122T090925Z
LAST-MODIFIED:20200526T051344Z
UID:4087-1594400400-1594411200@hillsmereshores.org
SUMMARY:CANCELLED - Happy Hour
DESCRIPTION:
URL:https://hillsmereshores.org/event/happy-hour-11/
LOCATION:Hillsmere Beach – Walker Pavilion
CATEGORIES:Recreation
ORGANIZER;CN="HSIA":MAILTO:admin@hillsmereshores.org
END:VEVENT
BEGIN:VEVENT
DTSTART;TZID=America/New_York:20200704T100000
DTEND;TZID=America/New_York:20200704T110000
DTSTAMP:20260421T000631
CREATED:20200122T100012Z
LAST-MODIFIED:20200526T051306Z
UID:4095-1593856800-1593860400@hillsmereshores.org
SUMMARY:CANCELLED - 4th of July Bicycle Parade
DESCRIPTION:
URL:https://hillsmereshores.org/event/4th-of-july-bicycle-parade/
LOCATION:Hillsmere Beach – Walker Pavilion
CATEGORIES:Recreation
ORGANIZER;CN="HSIA":MAILTO:admin@hillsmereshores.org
END:VEVENT
BEGIN:VEVENT
DTSTART;TZID=America/New_York:20200620T190000
DTEND;TZID=America/New_York:20200620T200000
DTSTAMP:20260421T000631
CREATED:20200122T091359Z
LAST-MODIFIED:20200526T051234Z
UID:4093-1592679600-1592683200@hillsmereshores.org
SUMMARY:CANCELLED - Ice Cream Social
DESCRIPTION:
URL:https://hillsmereshores.org/event/ice-cream-social-5/
LOCATION:Hillsmere Beach – Walker Pavilion
CATEGORIES:Recreation
ORGANIZER;CN="HSIA":MAILTO:admin@hillsmereshores.org
END:VEVENT
BEGIN:VEVENT
DTSTART;TZID=America/New_York:20200612T170000
DTEND;TZID=America/New_York:20200612T200000
DTSTAMP:20260421T000631
CREATED:20200122T090845Z
LAST-MODIFIED:20200526T051205Z
UID:4085-1591981200-1591992000@hillsmereshores.org
SUMMARY:CANCELLED - Happy Hour
DESCRIPTION:
URL:https://hillsmereshores.org/event/happy-hour-10/
LOCATION:Hillsmere Beach – Walker Pavilion
CATEGORIES:Recreation
ORGANIZER;CN="HSIA":MAILTO:admin@hillsmereshores.org
END:VEVENT
BEGIN:VEVENT
DTSTART;TZID=America/New_York:20200525T100000
DTEND;TZID=America/New_York:20200525T110000
DTSTAMP:20260421T000631
CREATED:20200122T090604Z
LAST-MODIFIED:20200428T022415Z
UID:4083-1590400800-1590404400@hillsmereshores.org
SUMMARY:CANCELLED - Memorial Day Ceremony
DESCRIPTION:
URL:https://hillsmereshores.org/event/memorial-day-ceremony/
LOCATION:Hillsmere Beach – Walker Pavilion
CATEGORIES:Recreation
ORGANIZER;CN="HSIA":MAILTO:admin@hillsmereshores.org
END:VEVENT
BEGIN:VEVENT
DTSTART;VALUE=DATE:20200411
DTEND;VALUE=DATE:20200412
DTSTAMP:20260421T000631
CREATED:20200122T090233Z
LAST-MODIFIED:20200401T093347Z
UID:4077-1586563200-1586649599@hillsmereshores.org
SUMMARY:Easter Egg Hunt - CANCELLED
DESCRIPTION:
URL:https://hillsmereshores.org/event/easter-egg-hunt-3/
LOCATION:Hillsmere Beach – Walker Pavilion
CATEGORIES:Recreation
ORGANIZER;CN="HSIA":MAILTO:admin@hillsmereshores.org
END:VEVENT
BEGIN:VEVENT
DTSTART;TZID=America/New_York:20200320T170000
DTEND;TZID=America/New_York:20200320T190000
DTSTAMP:20260421T000631
CREATED:20200122T090107Z
LAST-MODIFIED:20200316T071232Z
UID:4075-1584723600-1584730800@hillsmereshores.org
SUMMARY:Burning of Socks - Annual Rite of Spring - CANCELLED
DESCRIPTION:Event will NOT take place due to public health concerns.
URL:https://hillsmereshores.org/event/burning-of-socks-annual-rite-of-spring/
LOCATION:Hillsmere Beach – Walker Pavilion
CATEGORIES:Recreation
ORGANIZER;CN="HSIA":MAILTO:admin@hillsmereshores.org
END:VEVENT
BEGIN:VEVENT
DTSTART;TZID=America/New_York:20191208T183000
DTEND;TZID=America/New_York:20191208T200000
DTSTAMP:20260421T000631
CREATED:20190223T033344Z
LAST-MODIFIED:20190223T033344Z
UID:3452-1575829800-1575835200@hillsmereshores.org
SUMMARY:Santa's Run
DESCRIPTION:Annual toy drive – Santa’s arrival time varies & will be confirmed closer to event date.
URL:https://hillsmereshores.org/event/santas-run-4/
LOCATION:Hillsmere Pool
CATEGORIES:HSIA,Pool,Recreation
ORGANIZER;CN="HSIA":MAILTO:admin@hillsmereshores.org
END:VEVENT
BEGIN:VEVENT
DTSTART;TZID=America/New_York:20191102T140000
DTEND;TZID=America/New_York:20191102T170000
DTSTAMP:20260421T000631
CREATED:20190223T033132Z
LAST-MODIFIED:20190223T033132Z
UID:3450-1572703200-1572714000@hillsmereshores.org
SUMMARY:Oyster Roast
DESCRIPTION:Details TBA
URL:https://hillsmereshores.org/event/oyster-roast/
LOCATION:Hillsmere Beach – Walker Pavilion
CATEGORIES:HSIA,Recreation
ORGANIZER;CN="HSIA":MAILTO:admin@hillsmereshores.org
END:VEVENT
BEGIN:VEVENT
DTSTART;TZID=America/New_York:20191027T130000
DTEND;TZID=America/New_York:20191027T143000
DTSTAMP:20260421T000631
CREATED:20190223T033042Z
LAST-MODIFIED:20190223T033042Z
UID:3448-1572181200-1572186600@hillsmereshores.org
SUMMARY:Halloween Parade
DESCRIPTION:Meet at Key School gazebo off Hillsmere Drive and parade down to the beach for treats.
URL:https://hillsmereshores.org/event/halloween-parade-4/
LOCATION:Hillsmere Beach – Walker Pavilion
CATEGORIES:HSIA,Recreation
ORGANIZER;CN="HSIA":MAILTO:admin@hillsmereshores.org
END:VEVENT
BEGIN:VEVENT
DTSTART;TZID=America/New_York:20190921T080000
DTEND;TZID=America/New_York:20190921T120000
DTSTAMP:20260421T000631
CREATED:20190223T032859Z
LAST-MODIFIED:20190223T032859Z
UID:3446-1569052800-1569067200@hillsmereshores.org
SUMMARY:Fall Community Yard Sale
DESCRIPTION:Rain date 9/28/19
URL:https://hillsmereshores.org/event/fall-community-yard-sale/
LOCATION:Hillsmere Beach – Walker Pavilion
CATEGORIES:HSIA,Recreation
ORGANIZER;CN="HSIA":MAILTO:admin@hillsmereshores.org
END:VEVENT
BEGIN:VEVENT
DTSTART;TZID=America/New_York:20190918T123000
DTEND;TZID=America/New_York:20190918T140000
DTSTAMP:20260421T000631
CREATED:20190905T015037Z
LAST-MODIFIED:20190905T015037Z
UID:3862-1568809800-1568815200@hillsmereshores.org
SUMMARY:Garden Club
DESCRIPTION:
URL:https://hillsmereshores.org/event/garden-club-16/
LOCATION:Eastport-Annapolis Neck Library\, 269 Hillsmere Drive\, Annapolis\, MD\, 21403\, United States
CATEGORIES:Clubs,Garden Club,Recreation
END:VEVENT
BEGIN:VEVENT
DTSTART;TZID=America/New_York:20190914T160000
DTEND;TZID=America/New_York:20190914T190000
DTSTAMP:20260421T000631
CREATED:20190223T032737Z
LAST-MODIFIED:20190223T032737Z
UID:3444-1568476800-1568487600@hillsmereshores.org
SUMMARY:Community Pig Roast
DESCRIPTION:Details TBA
URL:https://hillsmereshores.org/event/community-pig-roast/
LOCATION:Hillsmere Beach – Walker Pavilion
CATEGORIES:HSIA,Recreation
ORGANIZER;CN="HSIA":MAILTO:admin@hillsmereshores.org
END:VEVENT
BEGIN:VEVENT
DTSTART;TZID=America/New_York:20190826T180000
DTEND;TZID=America/New_York:20190826T200000
DTSTAMP:20260421T000631
CREATED:20190501T012554Z
LAST-MODIFIED:20190501T012554Z
UID:3548-1566842400-1566849600@hillsmereshores.org
SUMMARY:Volleyball
DESCRIPTION:Every Monday throughout the summer from 6-dusk. @ Hillsmere Beach volleyball court\, next to large pavilion. Residents requiring more information\, please email Craig Holt\, cnholty@gmail.com \, and/or join Hillsmere Volleyball on Facebook.
URL:https://hillsmereshores.org/event/volleyball-15/
LOCATION:Hillsmere Beach – Walker Pavilion
CATEGORIES:Recreation
END:VEVENT
BEGIN:VEVENT
DTSTART;TZID=America/New_York:20190819T180000
DTEND;TZID=America/New_York:20190819T200000
DTSTAMP:20260421T000631
CREATED:20190501T012436Z
LAST-MODIFIED:20190501T012436Z
UID:3546-1566237600-1566244800@hillsmereshores.org
SUMMARY:Volleyball
DESCRIPTION:Every Monday throughout the summer from 6-dusk. @ Hillsmere Beach volleyball court\, next to large pavilion. Residents requiring more information\, please email Craig Holt\, cnholty@gmail.com \, and/or join Hillsmere Volleyball on Facebook.
URL:https://hillsmereshores.org/event/volleyball-14/
LOCATION:Hillsmere Beach – Walker Pavilion
CATEGORIES:Recreation
END:VEVENT
BEGIN:VEVENT
DTSTART;TZID=America/New_York:20190812T180000
DTEND;TZID=America/New_York:20190812T200000
DTSTAMP:20260421T000631
CREATED:20190501T012341Z
LAST-MODIFIED:20190501T012341Z
UID:3544-1565632800-1565640000@hillsmereshores.org
SUMMARY:Volleyball
DESCRIPTION:Every Monday throughout the summer from 6-dusk. @ Hillsmere Beach volleyball court\, next to large pavilion. Residents requiring more information\, please email Craig Holt\, cnholty@gmail.com \, and/or join Hillsmere Volleyball on Facebook.
URL:https://hillsmereshores.org/event/volleyball-13/
LOCATION:Hillsmere Beach – Walker Pavilion
CATEGORIES:Recreation
END:VEVENT
BEGIN:VEVENT
DTSTART;TZID=America/New_York:20190809T170000
DTEND;TZID=America/New_York:20190809T200000
DTSTAMP:20260421T000631
CREATED:20190223T032552Z
LAST-MODIFIED:20190223T032618Z
UID:3442-1565370000-1565380800@hillsmereshores.org
SUMMARY:Community Happy Hour
DESCRIPTION:Details TBA
URL:https://hillsmereshores.org/event/community-happy-hour-3/
LOCATION:Hillsmere Beach – Walker Pavilion
CATEGORIES:HSIA,Recreation
ORGANIZER;CN="HSIA":MAILTO:admin@hillsmereshores.org
END:VEVENT
BEGIN:VEVENT
DTSTART;TZID=America/New_York:20190805T180000
DTEND;TZID=America/New_York:20190805T200000
DTSTAMP:20260421T000631
CREATED:20190501T012252Z
LAST-MODIFIED:20190501T012252Z
UID:3542-1565028000-1565035200@hillsmereshores.org
SUMMARY:Volleyball
DESCRIPTION:Every Monday throughout the summer from 6-dusk. @ Hillsmere Beach volleyball court\, next to large pavilion. Residents requiring more information\, please email Craig Holt\, cnholty@gmail.com \, and/or join Hillsmere Volleyball on Facebook.
URL:https://hillsmereshores.org/event/volleyball-12/
LOCATION:Hillsmere Beach – Walker Pavilion
CATEGORIES:Recreation
END:VEVENT
BEGIN:VEVENT
DTSTART;TZID=America/New_York:20190803T160000
DTEND;TZID=America/New_York:20190803T190000
DTSTAMP:20260421T000631
CREATED:20190223T032209Z
LAST-MODIFIED:20190223T032243Z
UID:3438-1564848000-1564858800@hillsmereshores.org
SUMMARY:Community Carnival & Picnic
DESCRIPTION:Details TBA. Rain date 8/10/19.
URL:https://hillsmereshores.org/event/community-carnival/
LOCATION:Hillsmere Beach – Walker Pavilion
CATEGORIES:HSIA,Recreation
ORGANIZER;CN="HSIA":MAILTO:admin@hillsmereshores.org
END:VEVENT
BEGIN:VEVENT
DTSTART;TZID=America/New_York:20190729T180000
DTEND;TZID=America/New_York:20190729T200000
DTSTAMP:20260421T000631
CREATED:20190501T012212Z
LAST-MODIFIED:20190501T012212Z
UID:3540-1564423200-1564430400@hillsmereshores.org
SUMMARY:Volleyball
DESCRIPTION:Every Monday throughout the summer from 6-dusk. @ Hillsmere Beach volleyball court\, next to large pavilion. Residents requiring more information\, please email Craig Holt\, cnholty@gmail.com \, and/or join Hillsmere Volleyball on Facebook.
URL:https://hillsmereshores.org/event/volleyball-11/
LOCATION:Hillsmere Beach – Walker Pavilion
CATEGORIES:Recreation
END:VEVENT
BEGIN:VEVENT
DTSTART;TZID=America/New_York:20190722T180000
DTEND;TZID=America/New_York:20190722T200000
DTSTAMP:20260421T000631
CREATED:20190501T012135Z
LAST-MODIFIED:20190501T012135Z
UID:3538-1563818400-1563825600@hillsmereshores.org
SUMMARY:Volleyball
DESCRIPTION:Every Monday throughout the summer from 6-dusk. @ Hillsmere Beach volleyball court\, next to large pavilion. Residents requiring more information\, please email Craig Holt\, cnholty@gmail.com \, and/or join Hillsmere Volleyball on Facebook.
URL:https://hillsmereshores.org/event/volleyball-10/
LOCATION:Hillsmere Beach – Walker Pavilion
CATEGORIES:Recreation
END:VEVENT
BEGIN:VEVENT
DTSTART;TZID=America/New_York:20190715T180000
DTEND;TZID=America/New_York:20190715T200000
DTSTAMP:20260421T000631
CREATED:20190501T012056Z
LAST-MODIFIED:20190501T012056Z
UID:3536-1563213600-1563220800@hillsmereshores.org
SUMMARY:Volleyball
DESCRIPTION:Every Monday throughout the summer from 6-dusk. @ Hillsmere Beach volleyball court\, next to large pavilion. Residents requiring more information\, please email Craig Holt\, cnholty@gmail.com \, and/or join Hillsmere Volleyball on Facebook.
URL:https://hillsmereshores.org/event/volleyball-9/
LOCATION:Hillsmere Beach – Walker Pavilion
CATEGORIES:Recreation
END:VEVENT
BEGIN:VEVENT
DTSTART;TZID=America/New_York:20190712T170000
DTEND;TZID=America/New_York:20190712T200000
DTSTAMP:20260421T000631
CREATED:20190223T032057Z
LAST-MODIFIED:20190223T032057Z
UID:3436-1562950800-1562961600@hillsmereshores.org
SUMMARY:Community Happy Hour
DESCRIPTION:Details TBA
URL:https://hillsmereshores.org/event/community-happy-hour-2/
LOCATION:Hillsmere Beach – Walker Pavilion
CATEGORIES:HSIA,Recreation
ORGANIZER;CN="HSIA":MAILTO:admin@hillsmereshores.org
END:VEVENT
BEGIN:VEVENT
DTSTART;TZID=America/New_York:20190708T180000
DTEND;TZID=America/New_York:20190708T200000
DTSTAMP:20260421T000631
CREATED:20190501T012016Z
LAST-MODIFIED:20190501T012016Z
UID:3534-1562608800-1562616000@hillsmereshores.org
SUMMARY:Volleyball
DESCRIPTION:Every Monday throughout the summer from 6-dusk. @ Hillsmere Beach volleyball court\, next to large pavilion. Residents requiring more information\, please email Craig Holt\, cnholty@gmail.com \, and/or join Hillsmere Volleyball on Facebook.
URL:https://hillsmereshores.org/event/volleyball-8/
LOCATION:Hillsmere Beach – Walker Pavilion
CATEGORIES:Recreation
END:VEVENT
BEGIN:VEVENT
DTSTART;TZID=America/New_York:20190704T100000
DTEND;TZID=America/New_York:20190704T110000
DTSTAMP:20260421T000631
CREATED:20190223T031957Z
LAST-MODIFIED:20190223T031957Z
UID:3434-1562234400-1562238000@hillsmereshores.org
SUMMARY:Independence Day Bike Parade
DESCRIPTION:Decorate your bikes\, scooters\, strollers\, kids & pets and meet at Key School to parade down Hillsmere Drive to the beach.
URL:https://hillsmereshores.org/event/independence-day-bike-parade-2/
LOCATION:Hillsmere Beach – Walker Pavilion
CATEGORIES:HSIA,Recreation
ORGANIZER;CN="HSIA":MAILTO:admin@hillsmereshores.org
END:VEVENT
BEGIN:VEVENT
DTSTART;TZID=America/New_York:20190701T180000
DTEND;TZID=America/New_York:20190701T200000
DTSTAMP:20260421T000631
CREATED:20190501T011931Z
LAST-MODIFIED:20190501T011931Z
UID:3532-1562004000-1562011200@hillsmereshores.org
SUMMARY:Volleyball
DESCRIPTION:Every Monday throughout the summer from 6-dusk. @ Hillsmere Beach volleyball court\, next to large pavilion. Residents requiring more information\, please email Craig Holt\, cnholty@gmail.com \, and/or join Hillsmere Volleyball on Facebook.
URL:https://hillsmereshores.org/event/volleyball-7/
LOCATION:Hillsmere Beach – Walker Pavilion
CATEGORIES:Recreation
END:VEVENT
END:VCALENDAR