BEGIN:VCALENDAR
VERSION:2.0
PRODID:-//Hillsmere Shores - ECPv6.15.20//NONSGML v1.0//EN
CALSCALE:GREGORIAN
METHOD:PUBLISH
X-WR-CALNAME:Hillsmere Shores
X-ORIGINAL-URL:https://hillsmereshores.org
X-WR-CALDESC:Events for Hillsmere Shores
REFRESH-INTERVAL;VALUE=DURATION:PT1H
X-Robots-Tag:noindex
X-PUBLISHED-TTL:PT1H
BEGIN:VTIMEZONE
TZID:America/New_York
BEGIN:DAYLIGHT
TZOFFSETFROM:-0500
TZOFFSETTO:-0400
TZNAME:EDT
DTSTART:20210314T070000
END:DAYLIGHT
BEGIN:STANDARD
TZOFFSETFROM:-0400
TZOFFSETTO:-0500
TZNAME:EST
DTSTART:20211107T060000
END:STANDARD
BEGIN:DAYLIGHT
TZOFFSETFROM:-0500
TZOFFSETTO:-0400
TZNAME:EDT
DTSTART:20220313T070000
END:DAYLIGHT
BEGIN:STANDARD
TZOFFSETFROM:-0400
TZOFFSETTO:-0500
TZNAME:EST
DTSTART:20221106T060000
END:STANDARD
BEGIN:DAYLIGHT
TZOFFSETFROM:-0500
TZOFFSETTO:-0400
TZNAME:EDT
DTSTART:20230312T070000
END:DAYLIGHT
BEGIN:STANDARD
TZOFFSETFROM:-0400
TZOFFSETTO:-0500
TZNAME:EST
DTSTART:20231105T060000
END:STANDARD
END:VTIMEZONE
BEGIN:VEVENT
DTSTART;TZID=America/New_York:20221110T190000
DTEND;TZID=America/New_York:20221110T210000
DTSTAMP:20260423T040203
CREATED:20220516T072833Z
LAST-MODIFIED:20220516T072833Z
UID:5629-1668106800-1668114000@hillsmereshores.org
SUMMARY:HSIA General Membership Meeting
DESCRIPTION:The HSIA Board is pleased to announce that we now are providing a hybrid option for attending general meetings. We have resumed in-person meetings at the Key School “Barn” for both our regular HSIA Board Meetings as well as the HSIA General Meetings. In addition\, we are now providing a virtual meeting option where you can “attend” via zoom. \nWe would prefer to see residents in person\, but providing a virtual option will hopefully allow for more residents to participate. \nPlease email communications@hillsmereshores.org for the link to the virtual meeting. \nHope to see you in-person or on-line!
URL:https://hillsmereshores.org/event/hsia-general-membership-meeting-20/
LOCATION:Barn Commons @ Key School
CATEGORIES:General Meeting,HSIA
ORGANIZER;CN="HSIA":MAILTO:admin@hillsmereshores.org
END:VEVENT
END:VCALENDAR