BEGIN:VCALENDAR
VERSION:2.0
PRODID:-//Hillsmere Shores - ECPv6.15.20//NONSGML v1.0//EN
CALSCALE:GREGORIAN
METHOD:PUBLISH
X-ORIGINAL-URL:https://hillsmereshores.org
X-WR-CALDESC:Events for Hillsmere Shores
REFRESH-INTERVAL;VALUE=DURATION:PT1H
X-Robots-Tag:noindex
X-PUBLISHED-TTL:PT1H
BEGIN:VTIMEZONE
TZID:America/New_York
BEGIN:DAYLIGHT
TZOFFSETFROM:-0500
TZOFFSETTO:-0400
TZNAME:EDT
DTSTART:20210314T070000
END:DAYLIGHT
BEGIN:STANDARD
TZOFFSETFROM:-0400
TZOFFSETTO:-0500
TZNAME:EST
DTSTART:20211107T060000
END:STANDARD
BEGIN:DAYLIGHT
TZOFFSETFROM:-0500
TZOFFSETTO:-0400
TZNAME:EDT
DTSTART:20220313T070000
END:DAYLIGHT
BEGIN:STANDARD
TZOFFSETFROM:-0400
TZOFFSETTO:-0500
TZNAME:EST
DTSTART:20221106T060000
END:STANDARD
BEGIN:DAYLIGHT
TZOFFSETFROM:-0500
TZOFFSETTO:-0400
TZNAME:EDT
DTSTART:20230312T070000
END:DAYLIGHT
BEGIN:STANDARD
TZOFFSETFROM:-0400
TZOFFSETTO:-0500
TZNAME:EST
DTSTART:20231105T060000
END:STANDARD
END:VTIMEZONE
BEGIN:VEVENT
DTSTART;TZID=America/New_York:20220908T190000
DTEND;TZID=America/New_York:20220908T210000
DTSTAMP:20260423T071229
CREATED:20220516T072658Z
LAST-MODIFIED:20220907T084842Z
UID:5627-1662663600-1662670800@hillsmereshores.org
SUMMARY:HSIA General Membership Meeting *Relocated*
DESCRIPTION:**UPDATE** \nHillsmere Residents\,\n  \nMark your calendars – HSIA General Membership meeting this Thursday\, September 8 @ 7pm-9pm will be held in Katharine Hall at the Key School (campus map).\n  \nPlease note\, parking will be limited as Key School is having Back to School Night the same evening. There is limited parking for Katharine Hall off of Mansion Drive. Parking may be available in the lot near the Barn.\n  \nThe HSIA Board is pleased to announce that we now are providing a hybrid option for attending general meetings. We would prefer to see residents in person\, but providing a virtual option will hopefully allow for more residents to participate. To attend the meeting online\, please email communications@hillsmereshores.org for log in information.\n \n \nThe HSIA Board is pleased to announce that we now are providing a hybrid option for attending general meetings. We have resumed in-person meetings at the Key School “Barn” for both our regular HSIA Board Meetings as well as the HSIA General Meetings. In addition\, we are now providing a virtual meeting option where you can “attend” via zoom. \nWe would prefer to see residents in person\, but providing a virtual option will hopefully allow for more residents to participate. \nPlease email communications@hillsmereshores.org for the link to the virtual meeting. \nHope to see you in-person or on-line!
URL:https://hillsmereshores.org/event/hsia-general-membership-meeting-18/
LOCATION:Key School Katharine Hall
CATEGORIES:General Meeting,HSIA
ORGANIZER;CN="HSIA":MAILTO:admin@hillsmereshores.org
END:VEVENT
END:VCALENDAR