BEGIN:VCALENDAR
VERSION:2.0
PRODID:-//Hillsmere Shores - ECPv6.15.20//NONSGML v1.0//EN
CALSCALE:GREGORIAN
METHOD:PUBLISH
X-WR-CALNAME:Hillsmere Shores
X-ORIGINAL-URL:https://hillsmereshores.org
X-WR-CALDESC:Events for Hillsmere Shores
REFRESH-INTERVAL;VALUE=DURATION:PT1H
X-Robots-Tag:noindex
X-PUBLISHED-TTL:PT1H
BEGIN:VTIMEZONE
TZID:America/New_York
BEGIN:DAYLIGHT
TZOFFSETFROM:-0500
TZOFFSETTO:-0400
TZNAME:EDT
DTSTART:20160313T070000
END:DAYLIGHT
BEGIN:STANDARD
TZOFFSETFROM:-0400
TZOFFSETTO:-0500
TZNAME:EST
DTSTART:20161106T060000
END:STANDARD
BEGIN:DAYLIGHT
TZOFFSETFROM:-0500
TZOFFSETTO:-0400
TZNAME:EDT
DTSTART:20170312T070000
END:DAYLIGHT
BEGIN:STANDARD
TZOFFSETFROM:-0400
TZOFFSETTO:-0500
TZNAME:EST
DTSTART:20171105T060000
END:STANDARD
BEGIN:DAYLIGHT
TZOFFSETFROM:-0500
TZOFFSETTO:-0400
TZNAME:EDT
DTSTART:20180311T070000
END:DAYLIGHT
BEGIN:STANDARD
TZOFFSETFROM:-0400
TZOFFSETTO:-0500
TZNAME:EST
DTSTART:20181104T060000
END:STANDARD
BEGIN:DAYLIGHT
TZOFFSETFROM:-0500
TZOFFSETTO:-0400
TZNAME:EDT
DTSTART:20190310T070000
END:DAYLIGHT
BEGIN:STANDARD
TZOFFSETFROM:-0400
TZOFFSETTO:-0500
TZNAME:EST
DTSTART:20191103T060000
END:STANDARD
BEGIN:DAYLIGHT
TZOFFSETFROM:-0500
TZOFFSETTO:-0400
TZNAME:EDT
DTSTART:20200308T070000
END:DAYLIGHT
BEGIN:STANDARD
TZOFFSETFROM:-0400
TZOFFSETTO:-0500
TZNAME:EST
DTSTART:20201101T060000
END:STANDARD
END:VTIMEZONE
BEGIN:VTIMEZONE
TZID:America/Phoenix
BEGIN:STANDARD
TZOFFSETFROM:-0700
TZOFFSETTO:-0700
TZNAME:MST
DTSTART:20160101T000000
END:STANDARD
END:VTIMEZONE
BEGIN:VEVENT
DTSTART;TZID=America/New_York:20190409T190000
DTEND;TZID=America/New_York:20190409T210000
DTSTAMP:20260420T194848
CREATED:20190223T025409Z
LAST-MODIFIED:20190223T025409Z
UID:3400-1554836400-1554843600@hillsmereshores.org
SUMMARY:Piers & Harbors Committee Meeting
DESCRIPTION:The P&H monthly meetings are normally held on the second Tuesday of each month at 7 p.m. in the Key School Science & Library Center (the building closest to Carroll Drive)\, Room 101. All Slip Holders\, Ramp Key Holders\, Wait Listers\, Kayakers\, Boat Parkers\, etc. are welcome and are encouraged to attend.
URL:https://hillsmereshores.org/event/piers-harbors-committee-meeting-24/
LOCATION:Key School Science & Library Bldg.\, Room 101
CATEGORIES:Committee Meeting,HSIA,Piers & Harbors
END:VEVENT
BEGIN:VEVENT
DTSTART;TZID=America/New_York:20190312T190000
DTEND;TZID=America/New_York:20190312T210000
DTSTAMP:20260420T194848
CREATED:20190223T025233Z
LAST-MODIFIED:20190223T025233Z
UID:3398-1552417200-1552424400@hillsmereshores.org
SUMMARY:Piers & Harbors Committee Meeting
DESCRIPTION:The P&H monthly meetings are normally held on the second Tuesday of each month at 7 p.m. in the Key School Science & Library Center (the building closest to Carroll Drive)\, Room 101. All Slip Holders\, Ramp Key Holders\, Wait Listers\, Kayakers\, Boat Parkers\, etc. are welcome and are encouraged to attend. \n 
URL:https://hillsmereshores.org/event/piers-harbors-committee-meeting-23/
LOCATION:Key School Science & Library Bldg.\, Room 101
CATEGORIES:Committee Meeting,HSIA,Piers & Harbors
END:VEVENT
BEGIN:VEVENT
DTSTART;TZID=America/New_York:20180421T080000
DTEND;TZID=America/New_York:20180421T120000
DTSTAMP:20260420T194848
CREATED:20180114T193345Z
LAST-MODIFIED:20180114T193345Z
UID:2639-1524297600-1524312000@hillsmereshores.org
SUMMARY:2nd Annual Marina Yard Sale
DESCRIPTION:
URL:https://hillsmereshores.org/event/2nd-annual-marina-yard-sale/
LOCATION:Hillsmere Marina
CATEGORIES:HSIA,Piers & Harbors
END:VEVENT
BEGIN:VEVENT
DTSTART;TZID=America/Phoenix:20171212T190000
DTEND;TZID=America/Phoenix:20171212T210000
DTSTAMP:20260420T194848
CREATED:20170112T203025Z
LAST-MODIFIED:20170208T174150Z
UID:554-1513105200-1513112400@hillsmereshores.org
SUMMARY:Piers & Harbors Committee Meeting
DESCRIPTION:Key School Science & Library Center\, Rooms 101/102
URL:https://hillsmereshores.org/event/piers-harbors-committee-meeting-2/
CATEGORIES:Piers & Harbors
END:VEVENT
BEGIN:VEVENT
DTSTART;TZID=America/Phoenix:20171114T190000
DTEND;TZID=America/Phoenix:20171114T210000
DTSTAMP:20260420T194848
CREATED:20170112T202850Z
LAST-MODIFIED:20170208T174206Z
UID:550-1510686000-1510693200@hillsmereshores.org
SUMMARY:Piers & Harbors Committee Meeting
DESCRIPTION:Key School Science & Library Center\, Rooms 101/102
URL:https://hillsmereshores.org/event/piers-harbors-committee-meeting-3/
CATEGORIES:Piers & Harbors
END:VEVENT
BEGIN:VEVENT
DTSTART;TZID=America/Phoenix:20171010T190000
DTEND;TZID=America/Phoenix:20171010T200000
DTSTAMP:20260420T194848
CREATED:20170112T202550Z
LAST-MODIFIED:20170919T141910Z
UID:544-1507662000-1507665600@hillsmereshores.org
SUMMARY:Piers & Harbors Committee Meeting
DESCRIPTION:Key School Science & Library Center\, Rooms 101/102. Open meeting.
URL:https://hillsmereshores.org/event/piers-harbors-committee-meeting-4/
CATEGORIES:Piers & Harbors
END:VEVENT
BEGIN:VEVENT
DTSTART;TZID=America/Phoenix:20170912T190000
DTEND;TZID=America/Phoenix:20170912T210000
DTSTAMP:20260420T194848
CREATED:20170112T202335Z
LAST-MODIFIED:20170208T174630Z
UID:538-1505242800-1505250000@hillsmereshores.org
SUMMARY:Piers & Harbors Committee Meeting
DESCRIPTION:Key School Science & Library Center\, Rooms 101/102
URL:https://hillsmereshores.org/event/piers-harbors-committee-meeting-5/
CATEGORIES:Piers & Harbors
END:VEVENT
BEGIN:VEVENT
DTSTART;TZID=America/Phoenix:20170808T190000
DTEND;TZID=America/Phoenix:20170808T210000
DTSTAMP:20260420T194848
CREATED:20170112T202200Z
LAST-MODIFIED:20170208T174944Z
UID:534-1502218800-1502226000@hillsmereshores.org
SUMMARY:Piers & Harbors Committee Meeting
DESCRIPTION:Key School Science & Library Center\, Rooms 101/102
URL:https://hillsmereshores.org/event/piers-harbors-committee-meeting-6/
CATEGORIES:Piers & Harbors
END:VEVENT
BEGIN:VEVENT
DTSTART;TZID=America/Phoenix:20170718T190000
DTEND;TZID=America/Phoenix:20170718T210000
DTSTAMP:20260420T194848
CREATED:20170112T201928Z
LAST-MODIFIED:20170706T142502Z
UID:528-1500404400-1500411600@hillsmereshores.org
SUMMARY:Piers & Harbors Committee Meeting
DESCRIPTION:Note: Meeting rescheduled from 7/11/17.\nKey School Science & Library Center\, Rooms 101/102
URL:https://hillsmereshores.org/event/piers-harbors-committee-meeting-7/
CATEGORIES:Piers & Harbors
END:VEVENT
BEGIN:VEVENT
DTSTART;TZID=America/Phoenix:20170613T190000
DTEND;TZID=America/Phoenix:20170613T210000
DTSTAMP:20260420T194848
CREATED:20170112T201727Z
LAST-MODIFIED:20170208T175325Z
UID:524-1497380400-1497387600@hillsmereshores.org
SUMMARY:Piers & Harbors Committee Meeting
DESCRIPTION:Key School Science & Library Center\, Rooms 101/102
URL:https://hillsmereshores.org/event/piers-harbors-committee-meeting-8/
CATEGORIES:Piers & Harbors
END:VEVENT
BEGIN:VEVENT
DTSTART;TZID=America/Phoenix:20170509T190000
DTEND;TZID=America/Phoenix:20170509T210000
DTSTAMP:20260420T194848
CREATED:20170112T201442Z
LAST-MODIFIED:20170208T175514Z
UID:518-1494356400-1494363600@hillsmereshores.org
SUMMARY:Piers & Harbors Committee Meeting
DESCRIPTION:Key School Science & Library Center\, Rooms 101/102
URL:https://hillsmereshores.org/event/piers-harbors-committee-meeting-9/
CATEGORIES:Piers & Harbors
END:VEVENT
BEGIN:VEVENT
DTSTART;TZID=America/Phoenix:20170411T190000
DTEND;TZID=America/Phoenix:20170411T210000
DTSTAMP:20260420T194848
CREATED:20170112T201241Z
LAST-MODIFIED:20170208T175647Z
UID:514-1491937200-1491944400@hillsmereshores.org
SUMMARY:Piers & Harbor Committee Meeting
DESCRIPTION:Key School Science & Library Center\, Rooms 101/102
URL:https://hillsmereshores.org/event/piers-harbor-committee-meeting/
CATEGORIES:Piers & Harbors
END:VEVENT
BEGIN:VEVENT
DTSTART;TZID=America/New_York:20170401T100000
DTEND;TZID=America/New_York:20170401T100000
DTSTAMP:20260420T194848
CREATED:20170329T162813Z
LAST-MODIFIED:20170329T162813Z
UID:1969-1491040800-1491040800@hillsmereshores.org
SUMMARY:Ice-Eater Removal Party
DESCRIPTION:@ Marina\, 4/1/17\, 10am \nVolunteers are needed for the annual Ice-Eater Removal (Work) Party at the Marina! Please come down and help haul out\, clean and store the ice-eaters that we placed around the Marina to keep the facilities ice-free. Help is needed to haul the 21 ice-eaters out of the murky depths to the two power-washers that will be on hand to clean the machines. The ice-eaters will then will need their lines and power cords wrapped up\, and loaded onto vehicles for storage at the community center site.  \nMany hands make light work! Please volunteer an hour or two of your time so we can make all the slips available for returning boats!
URL:https://hillsmereshores.org/event/ice-eater-removal-party/
CATEGORIES:Piers & Harbors
END:VEVENT
BEGIN:VEVENT
DTSTART;TZID=America/Phoenix:20170328T190000
DTEND;TZID=America/Phoenix:20170328T210000
DTSTAMP:20260420T194848
CREATED:20170112T201034Z
LAST-MODIFIED:20170327T213332Z
UID:510-1490727600-1490734800@hillsmereshores.org
SUMMARY:Piers & Harbors Committee Meeting
DESCRIPTION:Kay School Science & Library Center\, Rooms 101/102
URL:https://hillsmereshores.org/event/piers-harbors-committee-meeting-10/
CATEGORIES:Piers & Harbors
END:VEVENT
BEGIN:VEVENT
DTSTART;TZID=America/Phoenix:20170207T190000
DTEND;TZID=America/Phoenix:20170207T210000
DTSTAMP:20260420T194848
CREATED:20170112T210943Z
LAST-MODIFIED:20170208T175931Z
UID:590-1486494000-1486501200@hillsmereshores.org
SUMMARY:Piers & Harbors Committee Meeting
DESCRIPTION:Key School Science & Library Center\, Rooms 101/102
URL:https://hillsmereshores.org/event/piers-harbors-committee-meeting-11/
CATEGORIES:Piers & Harbors
END:VEVENT
BEGIN:VEVENT
DTSTART;TZID=America/Phoenix:20170110T190000
DTEND;TZID=America/Phoenix:20170110T200000
DTSTAMP:20260420T194848
CREATED:20170112T191510Z
LAST-MODIFIED:20170208T180008Z
UID:491-1484074800-1484078400@hillsmereshores.org
SUMMARY:Piers & Harbors Committee Meeting
DESCRIPTION:Key School Science & Library Center\, Room 101
URL:https://hillsmereshores.org/event/piers-harbors-meeting/
CATEGORIES:Piers & Harbors
END:VEVENT
END:VCALENDAR