BEGIN:VCALENDAR
VERSION:2.0
PRODID:-//Hillsmere Shores - ECPv6.15.20//NONSGML v1.0//EN
CALSCALE:GREGORIAN
METHOD:PUBLISH
X-ORIGINAL-URL:https://hillsmereshores.org
X-WR-CALDESC:Events for Hillsmere Shores
REFRESH-INTERVAL;VALUE=DURATION:PT1H
X-Robots-Tag:noindex
X-PUBLISHED-TTL:PT1H
BEGIN:VTIMEZONE
TZID:America/New_York
BEGIN:DAYLIGHT
TZOFFSETFROM:-0500
TZOFFSETTO:-0400
TZNAME:EDT
DTSTART:20170312T070000
END:DAYLIGHT
BEGIN:STANDARD
TZOFFSETFROM:-0400
TZOFFSETTO:-0500
TZNAME:EST
DTSTART:20171105T060000
END:STANDARD
BEGIN:DAYLIGHT
TZOFFSETFROM:-0500
TZOFFSETTO:-0400
TZNAME:EDT
DTSTART:20180311T070000
END:DAYLIGHT
BEGIN:STANDARD
TZOFFSETFROM:-0400
TZOFFSETTO:-0500
TZNAME:EST
DTSTART:20181104T060000
END:STANDARD
BEGIN:DAYLIGHT
TZOFFSETFROM:-0500
TZOFFSETTO:-0400
TZNAME:EDT
DTSTART:20190310T070000
END:DAYLIGHT
BEGIN:STANDARD
TZOFFSETFROM:-0400
TZOFFSETTO:-0500
TZNAME:EST
DTSTART:20191103T060000
END:STANDARD
BEGIN:DAYLIGHT
TZOFFSETFROM:-0500
TZOFFSETTO:-0400
TZNAME:EDT
DTSTART:20200308T070000
END:DAYLIGHT
BEGIN:STANDARD
TZOFFSETFROM:-0400
TZOFFSETTO:-0500
TZNAME:EST
DTSTART:20201101T060000
END:STANDARD
BEGIN:DAYLIGHT
TZOFFSETFROM:-0500
TZOFFSETTO:-0400
TZNAME:EDT
DTSTART:20210314T070000
END:DAYLIGHT
BEGIN:STANDARD
TZOFFSETFROM:-0400
TZOFFSETTO:-0500
TZNAME:EST
DTSTART:20211107T060000
END:STANDARD
BEGIN:DAYLIGHT
TZOFFSETFROM:-0500
TZOFFSETTO:-0400
TZNAME:EDT
DTSTART:20220313T070000
END:DAYLIGHT
BEGIN:STANDARD
TZOFFSETFROM:-0400
TZOFFSETTO:-0500
TZNAME:EST
DTSTART:20221106T060000
END:STANDARD
BEGIN:DAYLIGHT
TZOFFSETFROM:-0500
TZOFFSETTO:-0400
TZNAME:EDT
DTSTART:20230312T070000
END:DAYLIGHT
BEGIN:STANDARD
TZOFFSETFROM:-0400
TZOFFSETTO:-0500
TZNAME:EST
DTSTART:20231105T060000
END:STANDARD
END:VTIMEZONE
BEGIN:VTIMEZONE
TZID:America/Phoenix
BEGIN:STANDARD
TZOFFSETFROM:-0700
TZOFFSETTO:-0700
TZNAME:MST
DTSTART:20160101T000000
END:STANDARD
END:VTIMEZONE
BEGIN:VEVENT
DTSTART;TZID=America/New_York:20220510T190000
DTEND;TZID=America/New_York:20220510T203000
DTSTAMP:20260420T163221
CREATED:20220402T062136Z
LAST-MODIFIED:20220402T062136Z
UID:5582-1652209200-1652214600@hillsmereshores.org
SUMMARY:Piers & Harbors Committee Meeting
DESCRIPTION:Open meeting. Agenda TBA via email prior to meeting. Questions/comments to marina@hillsmereshores.org
URL:https://hillsmereshores.org/event/piers-harbors-committee-meeting-40/
LOCATION:Barn Commons @ Key School
CATEGORIES:Committee Meeting,Piers & Harbors
END:VEVENT
BEGIN:VEVENT
DTSTART;TZID=America/New_York:20211207T180000
DTEND;TZID=America/New_York:20211207T200000
DTSTAMP:20260420T163221
CREATED:20211205T001250Z
LAST-MODIFIED:20211205T001250Z
UID:5371-1638900000-1638907200@hillsmereshores.org
SUMMARY:Piers & Harbors Committee Meeting
DESCRIPTION:The Piers & Harbor Committee will hold a live\, last-of-2021\, in-person meeting on Tuesday\, December 7th (“a date which will live in infamy”)\, starting at 6:00 PM at the Eastport-Annapolis Neck Library Community Meeting Room. \nMASKS ARE REQUIRED BY THE COUNTY \nAgenda items for an expected brief meeting include:\n* HSIA election results\n* Marina operations\n* Flood Tide/Winterization/Ice Eater installation plans\n* FY2023 Budget and Fees\n* Living Shoreline update\n* Changes to Rules and Regs/Boat Park \nAll Slip Holders\, Ramp Key Holders\, Wait Listers\, Kayakers\, Boat Parkers\, etc. are invited to attend. Volunteers are always needed and welcomed.
URL:https://hillsmereshores.org/event/piers-harbors-committee-meeting-39/
LOCATION:Eastport-Annapolis Neck Library\, 269 Hillsmere Drive\, Annapolis\, MD\, 21403\, United States
CATEGORIES:Committee Meeting,Piers & Harbors
END:VEVENT
BEGIN:VEVENT
DTSTART;TZID=America/New_York:20211027T180000
DTEND;TZID=America/New_York:20211027T200000
DTSTAMP:20260420T163221
CREATED:20211024T235226Z
LAST-MODIFIED:20211024T235226Z
UID:5332-1635357600-1635364800@hillsmereshores.org
SUMMARY:Piers & Harbors Committee Meeting
DESCRIPTION:PIERS & HARBOR COMMITTEE MEETING NOTICE \nWEDNESDAY\, OCTOBER 27TH\, 6:00 PM TO 8:00 PM \nThe Piers & Harbor Committee will hold a live\, in-person meeting on WEDNESDAY\, OCTOBER 27TH\, 6:00 PM TO 8:00 PM at the Eastport-Annapolis Neck Library Community Meeting Room. MASKS ARE REQUIRED by the County. \nWe are trying out a new meeting venue for a combined October/November P&H Meeting\, at the Library. As usual\, we will try to keep it brief. \nAgenda items include:\n* Winter preparations\n* Ice Eaters\n* FY2023 Budget and Fees\n* Living Shoreline update\n* Changes to Rules and Regs\n* Kayak Pier\n* Beach Drive Boat Ramp\n* Boat Park \nSand Spit Living Shoreline Concept Plan \nAll Slip Holders\, Ramp Key Holders\, Wait Listers\, Kayakers\, Boat Parkers\, etc. are invited to attend. Volunteers are always needed and welcomed.
URL:https://hillsmereshores.org/event/piers-harbors-committee-meeting-38/
LOCATION:Eastport-Annapolis Neck Library\, 269 Hillsmere Drive\, Annapolis\, MD\, 21403\, United States
CATEGORIES:Committee Meeting,Piers & Harbors
END:VEVENT
BEGIN:VEVENT
DTSTART;TZID=America/New_York:20210914T180000
DTEND;TZID=America/New_York:20210914T193000
DTSTAMP:20260420T163221
CREATED:20210626T073414Z
LAST-MODIFIED:20210821T074818Z
UID:5027-1631642400-1631647800@hillsmereshores.org
SUMMARY:P&H Committee Meeting
DESCRIPTION:Piers & Harbors Committee Meeting – Open Meeting – All Slip Holders\, Ramp Key Holders\, Wait Listers\, Kayakers\, Boat Parkers\, etc. are invited to attend.  Volunteers are always needed and welcomed!
URL:https://hillsmereshores.org/event/ph-committee-meeting-4/
LOCATION:Hillsmere Beach – Walker Pavilion
CATEGORIES:Committee Meeting,Piers & Harbors
END:VEVENT
BEGIN:VEVENT
DTSTART;TZID=America/New_York:20210810T180000
DTEND;TZID=America/New_York:20210810T200000
DTSTAMP:20260420T163221
CREATED:20210626T073157Z
LAST-MODIFIED:20210626T073157Z
UID:5025-1628618400-1628625600@hillsmereshores.org
SUMMARY:P&H Committee Meeting
DESCRIPTION:Piers & Harbors Committee Meeting – Open Meeting – All Slip Holders\, Ramp Key Holders\, Wait Listers\, Kayakers\, Boat Parkers\, etc. are invited to attend.  Volunteers are always needed and welcomed!
URL:https://hillsmereshores.org/event/ph-committee-meeting-3/
LOCATION:Hillsmere Beach – Walker Pavilion
CATEGORIES:Committee Meeting,Piers & Harbors
END:VEVENT
BEGIN:VEVENT
DTSTART;TZID=America/New_York:20210713T180000
DTEND;TZID=America/New_York:20210713T200000
DTSTAMP:20260420T163221
CREATED:20210626T073039Z
LAST-MODIFIED:20210626T073324Z
UID:5023-1626199200-1626206400@hillsmereshores.org
SUMMARY:P&H Committee Meeting
DESCRIPTION:Piers & Harbors Committee Meeting – Open Meeting – All Slip Holders\, Ramp Key Holders\, Wait Listers\, Kayakers\, Boat Parkers\, etc. are invited to attend.  Volunteers are always needed and welcomed! \n 
URL:https://hillsmereshores.org/event/ph-committee-meeting-2/
LOCATION:Hillsmere Beach – Walker Pavilion
CATEGORIES:Committee Meeting,Piers & Harbors
END:VEVENT
BEGIN:VEVENT
DTSTART;TZID=America/New_York:20210616T180000
DTEND;TZID=America/New_York:20210616T200000
DTSTAMP:20260420T163221
CREATED:20210526T030618Z
LAST-MODIFIED:20210526T030618Z
UID:4946-1623866400-1623873600@hillsmereshores.org
SUMMARY:P&H Committee Meeting
DESCRIPTION:
URL:https://hillsmereshores.org/event/ph-committee-meeting/
LOCATION:Hillsmere Beach – Walker Pavilion
CATEGORIES:Committee Meeting,Piers & Harbors
END:VEVENT
BEGIN:VEVENT
DTSTART;TZID=America/New_York:20210511T180000
DTEND;TZID=America/New_York:20210511T190000
DTSTAMP:20260420T163221
CREATED:20210511T004250Z
LAST-MODIFIED:20210511T004250Z
UID:4899-1620756000-1620759600@hillsmereshores.org
SUMMARY:Piers & Harbors Committee Meeting
DESCRIPTION:IN-PERSON P&H COMMITTEE MEETING –TUESDAY MAY 11TH AT 6 PM AT THE BEACH PAVILION \n  \nIt’s time to try a live\, in-person P&H Committee meeting\, the first since February 2020. \nThe meeting will take place at the Hillsmere Beach\, at the large pavilion\, at 6 p.m. \n\nTopics for discussion include: \n\nSlips Committee Report.\nGravel driveway work.\nMarina gate replacement.\nMarina electrical work: Shore power pedestal breakers.\nSecurity camera upgrade.\nDuvall Creek channel markers-USCG voided permit.\nLiving shoreline at Sand Spit/Marina\n\n  \nCome on out for a brief update in the open\, fresh-air\, breezy pavilion.
URL:https://hillsmereshores.org/event/piers-harbors-committee-meeting-34/
LOCATION:Hillsmere Beach – Walker Pavilion
CATEGORIES:Committee Meeting,Piers & Harbors
END:VEVENT
BEGIN:VEVENT
DTSTART;TZID=America/New_York:20201110T190000
DTEND;TZID=America/New_York:20201110T210000
DTSTAMP:20260420T163221
CREATED:20200122T070551Z
LAST-MODIFIED:20201001T032043Z
UID:4028-1605034800-1605042000@hillsmereshores.org
SUMMARY:*Cancelled* Piers & Harbors Committee Meeting
DESCRIPTION:P&H committee meetings have been cancelled through December 2020.
URL:https://hillsmereshores.org/event/piers-harbors-committee-meeting-37/
LOCATION:Key School Science & Library Bldg.\, Room 101
CATEGORIES:Committee Meeting,Piers & Harbors
END:VEVENT
BEGIN:VEVENT
DTSTART;TZID=America/New_York:20200908T190000
DTEND;TZID=America/New_York:20200908T210000
DTSTAMP:20260420T163221
CREATED:20200122T070505Z
LAST-MODIFIED:20201001T032133Z
UID:4026-1599591600-1599598800@hillsmereshores.org
SUMMARY:*Cancelled* Piers & Harbors Committee Meeting
DESCRIPTION:
URL:https://hillsmereshores.org/event/piers-harbors-committee-meeting-36/
LOCATION:Key School Science & Library Bldg.\, Room 101
CATEGORIES:Committee Meeting,Piers & Harbors
END:VEVENT
BEGIN:VEVENT
DTSTART;TZID=America/New_York:20200609T190000
DTEND;TZID=America/New_York:20200609T210000
DTSTAMP:20260420T163221
CREATED:20200122T070412Z
LAST-MODIFIED:20200526T051937Z
UID:4024-1591729200-1591736400@hillsmereshores.org
SUMMARY:CANCELLED - Piers & Harbors Committee Meeting
DESCRIPTION:
URL:https://hillsmereshores.org/event/piers-harbors-committee-meeting-35/
LOCATION:Key School Science & Library Bldg.\, Room 101
CATEGORIES:Committee Meeting,Piers & Harbors
END:VEVENT
BEGIN:VEVENT
DTSTART;TZID=America/New_York:20200211T190000
DTEND;TZID=America/New_York:20200211T210000
DTSTAMP:20260420T163221
CREATED:20200122T070215Z
LAST-MODIFIED:20200122T070215Z
UID:4020-1581447600-1581454800@hillsmereshores.org
SUMMARY:Piers & Harbors Committee Meeting
DESCRIPTION:Committee meets bi-monthly on the second Tuesday @ 7pm. Open meeting.
URL:https://hillsmereshores.org/event/piers-harbors-committee-meeting-33/
LOCATION:Key School Science & Library Bldg.\, Room 101
CATEGORIES:Committee Meeting,Piers & Harbors
END:VEVENT
BEGIN:VEVENT
DTSTART;TZID=America/New_York:20191210T190000
DTEND;TZID=America/New_York:20191210T210000
DTSTAMP:20260420T163221
CREATED:20190223T030510Z
LAST-MODIFIED:20190223T030510Z
UID:3416-1576004400-1576011600@hillsmereshores.org
SUMMARY:Piers & Harbors Committee Meeting
DESCRIPTION:The P&H monthly meetings are normally held on the second Tuesday of each month at 7 p.m. in the Key School Science & Library Center (the building closest to Carroll Drive)\, Room 101. All Slip Holders\, Ramp Key Holders\, Wait Listers\, Kayakers\, Boat Parkers\, etc. are welcome and are encouraged to attend.
URL:https://hillsmereshores.org/event/piers-harbors-committee-meeting-32/
LOCATION:Key School Science & Library Bldg.\, Room 101
CATEGORIES:Committee Meeting,HSIA,Piers & Harbors
END:VEVENT
BEGIN:VEVENT
DTSTART;TZID=America/New_York:20191112T190000
DTEND;TZID=America/New_York:20191112T210000
DTSTAMP:20260420T163221
CREATED:20190223T030408Z
LAST-MODIFIED:20190223T030408Z
UID:3414-1573585200-1573592400@hillsmereshores.org
SUMMARY:Piers & Harbors Committee Meeting
DESCRIPTION:The P&H monthly meetings are normally held on the second Tuesday of each month at 7 p.m. in the Key School Science & Library Center (the building closest to Carroll Drive)\, Room 101. All Slip Holders\, Ramp Key Holders\, Wait Listers\, Kayakers\, Boat Parkers\, etc. are welcome and are encouraged to attend.
URL:https://hillsmereshores.org/event/piers-harbors-committee-meeting-31/
LOCATION:Key School Science & Library Bldg.\, Room 101
CATEGORIES:Committee Meeting,HSIA,Piers & Harbors
END:VEVENT
BEGIN:VEVENT
DTSTART;TZID=America/New_York:20191008T190000
DTEND;TZID=America/New_York:20191008T210000
DTSTAMP:20260420T163221
CREATED:20190223T030304Z
LAST-MODIFIED:20190223T030304Z
UID:3412-1570561200-1570568400@hillsmereshores.org
SUMMARY:Piers & Harbors Committee Meeting
DESCRIPTION:The P&H monthly meetings are normally held on the second Tuesday of each month at 7 p.m. in the Key School Science & Library Center (the building closest to Carroll Drive)\, Room 101. All Slip Holders\, Ramp Key Holders\, Wait Listers\, Kayakers\, Boat Parkers\, etc. are welcome and are encouraged to attend.
URL:https://hillsmereshores.org/event/piers-harbors-committee-meeting-30/
LOCATION:Key School Science & Library Bldg.\, Room 101
CATEGORIES:Committee Meeting,HSIA,Piers & Harbors
END:VEVENT
BEGIN:VEVENT
DTSTART;TZID=America/New_York:20190910T190000
DTEND;TZID=America/New_York:20190910T210000
DTSTAMP:20260420T163221
CREATED:20190223T030205Z
LAST-MODIFIED:20190223T030205Z
UID:3410-1568142000-1568149200@hillsmereshores.org
SUMMARY:Piers & Harbors Committee Meeting
DESCRIPTION:The P&H monthly meetings are normally held on the second Tuesday of each month at 7 p.m. in the Key School Science & Library Center (the building closest to Carroll Drive)\, Room 101. All Slip Holders\, Ramp Key Holders\, Wait Listers\, Kayakers\, Boat Parkers\, etc. are welcome and are encouraged to attend.
URL:https://hillsmereshores.org/event/piers-harbors-committee-meeting-29/
LOCATION:Key School Science & Library Bldg.\, Room 101
CATEGORIES:Committee Meeting,HSIA,Piers & Harbors
END:VEVENT
BEGIN:VEVENT
DTSTART;TZID=America/New_York:20190813T190000
DTEND;TZID=America/New_York:20190813T210000
DTSTAMP:20260420T163221
CREATED:20190223T030050Z
LAST-MODIFIED:20190223T030050Z
UID:3408-1565722800-1565730000@hillsmereshores.org
SUMMARY:Piers & Harbors Committee Meeting
DESCRIPTION:The P&H monthly meetings are normally held on the second Tuesday of each month at 7 p.m. in the Key School Science & Library Center (the building closest to Carroll Drive)\, Room 101. All Slip Holders\, Ramp Key Holders\, Wait Listers\, Kayakers\, Boat Parkers\, etc. are welcome and are encouraged to attend.
URL:https://hillsmereshores.org/event/piers-harbors-committee-meeting-28/
LOCATION:Key School Science & Library Bldg.\, Room 101
CATEGORIES:Committee Meeting,HSIA,Piers & Harbors
END:VEVENT
BEGIN:VEVENT
DTSTART;TZID=America/New_York:20190709T190000
DTEND;TZID=America/New_York:20190709T210000
DTSTAMP:20260420T163221
CREATED:20190223T025850Z
LAST-MODIFIED:20190223T025850Z
UID:3406-1562698800-1562706000@hillsmereshores.org
SUMMARY:Piers & Harbors Committee Meeting
DESCRIPTION:The P&H monthly meetings are normally held on the second Tuesday of each month at 7 p.m. in the Key School Science & Library Center (the building closest to Carroll Drive)\, Room 101. All Slip Holders\, Ramp Key Holders\, Wait Listers\, Kayakers\, Boat Parkers\, etc. are welcome and are encouraged to attend.
URL:https://hillsmereshores.org/event/piers-harbors-committee-meeting-27/
LOCATION:Key School Science & Library Bldg.\, Room 101
CATEGORIES:Committee Meeting,HSIA,Piers & Harbors
END:VEVENT
BEGIN:VEVENT
DTSTART;TZID=America/New_York:20190611T190000
DTEND;TZID=America/New_York:20190611T210000
DTSTAMP:20260420T163221
CREATED:20190223T025749Z
LAST-MODIFIED:20190223T025749Z
UID:3404-1560279600-1560286800@hillsmereshores.org
SUMMARY:Piers & Harbors Committee Meeting
DESCRIPTION:The P&H monthly meetings are normally held on the second Tuesday of each month at 7 p.m. in the Key School Science & Library Center (the building closest to Carroll Drive)\, Room 101. All Slip Holders\, Ramp Key Holders\, Wait Listers\, Kayakers\, Boat Parkers\, etc. are welcome and are encouraged to attend.
URL:https://hillsmereshores.org/event/piers-harbors-committee-meeting-26/
LOCATION:Key School Science & Library Bldg.\, Room 101
CATEGORIES:Committee Meeting,HSIA,Piers & Harbors
END:VEVENT
BEGIN:VEVENT
DTSTART;TZID=America/New_York:20190514T190000
DTEND;TZID=America/New_York:20190514T210000
DTSTAMP:20260420T163221
CREATED:20190223T025559Z
LAST-MODIFIED:20190223T025559Z
UID:3402-1557860400-1557867600@hillsmereshores.org
SUMMARY:Piers & Harbors Committee Meeting
DESCRIPTION:The P&H monthly meetings are normally held on the second Tuesday of each month at 7 p.m. in the Key School Science & Library Center (the building closest to Carroll Drive)\, Room 101. All Slip Holders\, Ramp Key Holders\, Wait Listers\, Kayakers\, Boat Parkers\, etc. are welcome and are encouraged to attend.
URL:https://hillsmereshores.org/event/piers-harbors-committee-meeting-25/
LOCATION:Key School Science & Library Bldg.\, Room 101
CATEGORIES:Committee Meeting,HSIA,Piers & Harbors
END:VEVENT
BEGIN:VEVENT
DTSTART;TZID=America/New_York:20190409T190000
DTEND;TZID=America/New_York:20190409T210000
DTSTAMP:20260420T163221
CREATED:20190223T025409Z
LAST-MODIFIED:20190223T025409Z
UID:3400-1554836400-1554843600@hillsmereshores.org
SUMMARY:Piers & Harbors Committee Meeting
DESCRIPTION:The P&H monthly meetings are normally held on the second Tuesday of each month at 7 p.m. in the Key School Science & Library Center (the building closest to Carroll Drive)\, Room 101. All Slip Holders\, Ramp Key Holders\, Wait Listers\, Kayakers\, Boat Parkers\, etc. are welcome and are encouraged to attend.
URL:https://hillsmereshores.org/event/piers-harbors-committee-meeting-24/
LOCATION:Key School Science & Library Bldg.\, Room 101
CATEGORIES:Committee Meeting,HSIA,Piers & Harbors
END:VEVENT
BEGIN:VEVENT
DTSTART;TZID=America/New_York:20190312T190000
DTEND;TZID=America/New_York:20190312T210000
DTSTAMP:20260420T163221
CREATED:20190223T025233Z
LAST-MODIFIED:20190223T025233Z
UID:3398-1552417200-1552424400@hillsmereshores.org
SUMMARY:Piers & Harbors Committee Meeting
DESCRIPTION:The P&H monthly meetings are normally held on the second Tuesday of each month at 7 p.m. in the Key School Science & Library Center (the building closest to Carroll Drive)\, Room 101. All Slip Holders\, Ramp Key Holders\, Wait Listers\, Kayakers\, Boat Parkers\, etc. are welcome and are encouraged to attend. \n 
URL:https://hillsmereshores.org/event/piers-harbors-committee-meeting-23/
LOCATION:Key School Science & Library Bldg.\, Room 101
CATEGORIES:Committee Meeting,HSIA,Piers & Harbors
END:VEVENT
BEGIN:VEVENT
DTSTART;TZID=America/New_York:20180421T080000
DTEND;TZID=America/New_York:20180421T120000
DTSTAMP:20260420T163221
CREATED:20180114T193345Z
LAST-MODIFIED:20180114T193345Z
UID:2639-1524297600-1524312000@hillsmereshores.org
SUMMARY:2nd Annual Marina Yard Sale
DESCRIPTION:
URL:https://hillsmereshores.org/event/2nd-annual-marina-yard-sale/
LOCATION:Hillsmere Marina
CATEGORIES:HSIA,Piers & Harbors
END:VEVENT
BEGIN:VEVENT
DTSTART;TZID=America/Phoenix:20171212T190000
DTEND;TZID=America/Phoenix:20171212T210000
DTSTAMP:20260420T163221
CREATED:20170112T203025Z
LAST-MODIFIED:20170208T174150Z
UID:554-1513105200-1513112400@hillsmereshores.org
SUMMARY:Piers & Harbors Committee Meeting
DESCRIPTION:Key School Science & Library Center\, Rooms 101/102
URL:https://hillsmereshores.org/event/piers-harbors-committee-meeting-2/
CATEGORIES:Piers & Harbors
END:VEVENT
BEGIN:VEVENT
DTSTART;TZID=America/Phoenix:20171114T190000
DTEND;TZID=America/Phoenix:20171114T210000
DTSTAMP:20260420T163221
CREATED:20170112T202850Z
LAST-MODIFIED:20170208T174206Z
UID:550-1510686000-1510693200@hillsmereshores.org
SUMMARY:Piers & Harbors Committee Meeting
DESCRIPTION:Key School Science & Library Center\, Rooms 101/102
URL:https://hillsmereshores.org/event/piers-harbors-committee-meeting-3/
CATEGORIES:Piers & Harbors
END:VEVENT
BEGIN:VEVENT
DTSTART;TZID=America/Phoenix:20171010T190000
DTEND;TZID=America/Phoenix:20171010T200000
DTSTAMP:20260420T163221
CREATED:20170112T202550Z
LAST-MODIFIED:20170919T141910Z
UID:544-1507662000-1507665600@hillsmereshores.org
SUMMARY:Piers & Harbors Committee Meeting
DESCRIPTION:Key School Science & Library Center\, Rooms 101/102. Open meeting.
URL:https://hillsmereshores.org/event/piers-harbors-committee-meeting-4/
CATEGORIES:Piers & Harbors
END:VEVENT
BEGIN:VEVENT
DTSTART;TZID=America/Phoenix:20170912T190000
DTEND;TZID=America/Phoenix:20170912T210000
DTSTAMP:20260420T163221
CREATED:20170112T202335Z
LAST-MODIFIED:20170208T174630Z
UID:538-1505242800-1505250000@hillsmereshores.org
SUMMARY:Piers & Harbors Committee Meeting
DESCRIPTION:Key School Science & Library Center\, Rooms 101/102
URL:https://hillsmereshores.org/event/piers-harbors-committee-meeting-5/
CATEGORIES:Piers & Harbors
END:VEVENT
BEGIN:VEVENT
DTSTART;TZID=America/Phoenix:20170808T190000
DTEND;TZID=America/Phoenix:20170808T210000
DTSTAMP:20260420T163221
CREATED:20170112T202200Z
LAST-MODIFIED:20170208T174944Z
UID:534-1502218800-1502226000@hillsmereshores.org
SUMMARY:Piers & Harbors Committee Meeting
DESCRIPTION:Key School Science & Library Center\, Rooms 101/102
URL:https://hillsmereshores.org/event/piers-harbors-committee-meeting-6/
CATEGORIES:Piers & Harbors
END:VEVENT
BEGIN:VEVENT
DTSTART;TZID=America/Phoenix:20170718T190000
DTEND;TZID=America/Phoenix:20170718T210000
DTSTAMP:20260420T163221
CREATED:20170112T201928Z
LAST-MODIFIED:20170706T142502Z
UID:528-1500404400-1500411600@hillsmereshores.org
SUMMARY:Piers & Harbors Committee Meeting
DESCRIPTION:Note: Meeting rescheduled from 7/11/17.\nKey School Science & Library Center\, Rooms 101/102
URL:https://hillsmereshores.org/event/piers-harbors-committee-meeting-7/
CATEGORIES:Piers & Harbors
END:VEVENT
BEGIN:VEVENT
DTSTART;TZID=America/Phoenix:20170613T190000
DTEND;TZID=America/Phoenix:20170613T210000
DTSTAMP:20260420T163221
CREATED:20170112T201727Z
LAST-MODIFIED:20170208T175325Z
UID:524-1497380400-1497387600@hillsmereshores.org
SUMMARY:Piers & Harbors Committee Meeting
DESCRIPTION:Key School Science & Library Center\, Rooms 101/102
URL:https://hillsmereshores.org/event/piers-harbors-committee-meeting-8/
CATEGORIES:Piers & Harbors
END:VEVENT
END:VCALENDAR