BEGIN:VCALENDAR
VERSION:2.0
PRODID:-//Hillsmere Shores - ECPv6.15.20//NONSGML v1.0//EN
CALSCALE:GREGORIAN
METHOD:PUBLISH
X-ORIGINAL-URL:https://hillsmereshores.org
X-WR-CALDESC:Events for Hillsmere Shores
REFRESH-INTERVAL;VALUE=DURATION:PT1H
X-Robots-Tag:noindex
X-PUBLISHED-TTL:PT1H
BEGIN:VTIMEZONE
TZID:America/New_York
BEGIN:DAYLIGHT
TZOFFSETFROM:-0500
TZOFFSETTO:-0400
TZNAME:EDT
DTSTART:20220313T070000
END:DAYLIGHT
BEGIN:STANDARD
TZOFFSETFROM:-0400
TZOFFSETTO:-0500
TZNAME:EST
DTSTART:20221106T060000
END:STANDARD
BEGIN:DAYLIGHT
TZOFFSETFROM:-0500
TZOFFSETTO:-0400
TZNAME:EDT
DTSTART:20230312T070000
END:DAYLIGHT
BEGIN:STANDARD
TZOFFSETFROM:-0400
TZOFFSETTO:-0500
TZNAME:EST
DTSTART:20231105T060000
END:STANDARD
BEGIN:DAYLIGHT
TZOFFSETFROM:-0500
TZOFFSETTO:-0400
TZNAME:EDT
DTSTART:20240310T070000
END:DAYLIGHT
BEGIN:STANDARD
TZOFFSETFROM:-0400
TZOFFSETTO:-0500
TZNAME:EST
DTSTART:20241103T060000
END:STANDARD
END:VTIMEZONE
BEGIN:VEVENT
DTSTART;TZID=America/New_York:20231114T190000
DTEND;TZID=America/New_York:20231114T210000
DTSTAMP:20260422T095242
CREATED:20221025T083836Z
LAST-MODIFIED:20231113T005645Z
UID:5922-1699988400-1699995600@hillsmereshores.org
SUMMARY:Piers & Harbors Committee Meeting ***New Location***
DESCRIPTION:PIERS & HARBOR COMMITTEE MEETING NOTICE – NEW LOCATION! \nThe Piers & Harbor Committee will hold a meeting on Tuesday\, November 14th\, starting at 7:00 PM at the Hillsmere House\, 119 Great Lake Drive. There are a limited number of chairs\, so…PLEASE BRING A CHAIR\, WITH NO-SCUFF FEET. MASKS ARE OPTIONAL. \nAgenda items include: \n\n\n\n1.\nLiving Shoreline update — Wetlands Permit status.\n\n\n\n\n\n\n2.\nNew boat lifts update–Installation progress and schedule.\n\n\n\n\n\n\n3.\nSlips Committee Report:\n-Criteria for lift slip assignments.\n-offers for new lift slips.\n-implementation of changes to Wait Lists and Wait List fees.\n\n\n\n\n\n\n4.\nSecurity camera system update:\n-work completed by Custom Access & Security.\n-fine-tuning camera views.\n-criteria and protocols for internet access and camera feed access.\n-system upgrades.\n\n\n\n\n\n\n5.\nMarina Operations:\n-Dock board replacements\, repairs.\n-Electrical repairs\, issues\, improvements.\n-water and pump out systems winterization.\n-ice eater preps and installation.\n\n\n\n\n\n\n6.\nDredging:\n-application due 12/15/23.\n-multiple locations.\n-Duvall Creek channel.\n-Kayak dock.
URL:https://hillsmereshores.org/event/piers-harbors-committee-meeting-47/
LOCATION:HSIA Community House\, 119 Great Lake Drive\, Annapolis\, MD\, 21403
CATEGORIES:Committee Meeting,Piers & Harbors
END:VEVENT
END:VCALENDAR